BEGIN:VCALENDAR
VERSION:2.0
PRODID:-//Lupine Lane - ECPv6.15.20//NONSGML v1.0//EN
CALSCALE:GREGORIAN
METHOD:PUBLISH
X-ORIGINAL-URL:https://lupinelane.com
X-WR-CALDESC:Events for Lupine Lane
REFRESH-INTERVAL;VALUE=DURATION:PT1H
X-Robots-Tag:noindex
X-PUBLISHED-TTL:PT1H
BEGIN:VTIMEZONE
TZID:America/Chicago
BEGIN:DAYLIGHT
TZOFFSETFROM:-0600
TZOFFSETTO:-0500
TZNAME:CDT
DTSTART:20240310T080000
END:DAYLIGHT
BEGIN:STANDARD
TZOFFSETFROM:-0500
TZOFFSETTO:-0600
TZNAME:CST
DTSTART:20241103T070000
END:STANDARD
BEGIN:DAYLIGHT
TZOFFSETFROM:-0600
TZOFFSETTO:-0500
TZNAME:CDT
DTSTART:20250309T080000
END:DAYLIGHT
BEGIN:STANDARD
TZOFFSETFROM:-0500
TZOFFSETTO:-0600
TZNAME:CST
DTSTART:20251102T070000
END:STANDARD
BEGIN:DAYLIGHT
TZOFFSETFROM:-0600
TZOFFSETTO:-0500
TZNAME:CDT
DTSTART:20260308T080000
END:DAYLIGHT
BEGIN:STANDARD
TZOFFSETFROM:-0500
TZOFFSETTO:-0600
TZNAME:CST
DTSTART:20261101T070000
END:STANDARD
END:VTIMEZONE
BEGIN:VEVENT
DTSTART;VALUE=DATE:20251103
DTEND;VALUE=DATE:20251104
DTSTAMP:20260424T155040
CREATED:20251017T160030Z
LAST-MODIFIED:20251017T160030Z
UID:26140-1762128000-1762214399@lupinelane.com
SUMMARY:Moroccan Couscous with Date and Apricot Sauce\, Broccoli\, Black BeansSnack: Apples with Yogurt
DESCRIPTION:
URL:https://lupinelane.com/event/moroccan-couscous-with-date-and-apricot-sauce-broccoli-black-beanssnack-apples-with-yogurt/
CATEGORIES:Lunch
END:VEVENT
BEGIN:VEVENT
DTSTART;TZID=America/Chicago:20251103T150000
DTEND;TZID=America/Chicago:20251103T154500
DTSTAMP:20260424T155040
CREATED:20251105T080251Z
LAST-MODIFIED:20251105T080251Z
UID:26191-1762182000-1762184700@lupinelane.com
SUMMARY:The Heart of Art
DESCRIPTION:
URL:https://lupinelane.com/event/the-heart-of-art-55/
CATEGORIES:Activities
END:VEVENT
BEGIN:VEVENT
DTSTART;TZID=America/Chicago:20251103T150000
DTEND;TZID=America/Chicago:20251103T154500
DTSTAMP:20260424T155040
CREATED:20251228T080438Z
LAST-MODIFIED:20251228T080438Z
UID:26286-1762182000-1762184700@lupinelane.com
SUMMARY:Soccer Shots
DESCRIPTION:
URL:https://lupinelane.com/event/soccer-shots-53/
CATEGORIES:Activities
END:VEVENT
END:VCALENDAR