BEGIN:VCALENDAR
VERSION:2.0
PRODID:-//Lupine Lane - ECPv6.15.20//NONSGML v1.0//EN
CALSCALE:GREGORIAN
METHOD:PUBLISH
X-WR-CALNAME:Lupine Lane
X-ORIGINAL-URL:https://lupinelane.com
X-WR-CALDESC:Events for Lupine Lane
REFRESH-INTERVAL;VALUE=DURATION:PT1H
X-Robots-Tag:noindex
X-PUBLISHED-TTL:PT1H
BEGIN:VTIMEZONE
TZID:America/Chicago
BEGIN:DAYLIGHT
TZOFFSETFROM:-0600
TZOFFSETTO:-0500
TZNAME:CDT
DTSTART:20250309T080000
END:DAYLIGHT
BEGIN:STANDARD
TZOFFSETFROM:-0500
TZOFFSETTO:-0600
TZNAME:CST
DTSTART:20251102T070000
END:STANDARD
BEGIN:DAYLIGHT
TZOFFSETFROM:-0600
TZOFFSETTO:-0500
TZNAME:CDT
DTSTART:20260308T080000
END:DAYLIGHT
BEGIN:STANDARD
TZOFFSETFROM:-0500
TZOFFSETTO:-0600
TZNAME:CST
DTSTART:20261101T070000
END:STANDARD
BEGIN:DAYLIGHT
TZOFFSETFROM:-0600
TZOFFSETTO:-0500
TZNAME:CDT
DTSTART:20270314T080000
END:DAYLIGHT
BEGIN:STANDARD
TZOFFSETFROM:-0500
TZOFFSETTO:-0600
TZNAME:CST
DTSTART:20271107T070000
END:STANDARD
END:VTIMEZONE
BEGIN:VEVENT
DTSTART;VALUE=DATE:20260420
DTEND;VALUE=DATE:20260421
DTSTAMP:20260420T013545
CREATED:20260413T155411Z
LAST-MODIFIED:20260413T155411Z
UID:27448-1776643200-1776729599@lupinelane.com
SUMMARY:Penne Alfredo\, Roasted BroccoliSnack: Oranges
DESCRIPTION:
URL:https://lupinelane.com/event/penne-alfredo-roasted-broccolisnack-oranges/
CATEGORIES:Lunch
END:VEVENT
BEGIN:VEVENT
DTSTART;TZID=America/Chicago:20260420T150000
DTEND;TZID=America/Chicago:20260420T154500
DTSTAMP:20260420T013545
CREATED:20251228T080457Z
LAST-MODIFIED:20251228T080457Z
UID:26301-1776697200-1776699900@lupinelane.com
SUMMARY:Soccer Shots
DESCRIPTION:
URL:https://lupinelane.com/event/soccer-shots-68/
CATEGORIES:Activities
END:VEVENT
BEGIN:VEVENT
DTSTART;TZID=America/Chicago:20260420T150000
DTEND;TZID=America/Chicago:20260420T154500
DTSTAMP:20260420T013545
CREATED:20251228T080513Z
LAST-MODIFIED:20251228T080513Z
UID:26314-1776697200-1776699900@lupinelane.com
SUMMARY:Little Chefs' Club
DESCRIPTION:
URL:https://lupinelane.com/event/little-chefs-club-23/
CATEGORIES:Activities
END:VEVENT
END:VCALENDAR