BEGIN:VCALENDAR
VERSION:2.0
PRODID:-//Lupine Lane - ECPv6.15.20//NONSGML v1.0//EN
CALSCALE:GREGORIAN
METHOD:PUBLISH
X-ORIGINAL-URL:https://lupinelane.com
X-WR-CALDESC:Events for Lupine Lane
REFRESH-INTERVAL;VALUE=DURATION:PT1H
X-Robots-Tag:noindex
X-PUBLISHED-TTL:PT1H
BEGIN:VTIMEZONE
TZID:America/Chicago
BEGIN:DAYLIGHT
TZOFFSETFROM:-0600
TZOFFSETTO:-0500
TZNAME:CDT
DTSTART:20230312T080000
END:DAYLIGHT
BEGIN:STANDARD
TZOFFSETFROM:-0500
TZOFFSETTO:-0600
TZNAME:CST
DTSTART:20231105T070000
END:STANDARD
BEGIN:DAYLIGHT
TZOFFSETFROM:-0600
TZOFFSETTO:-0500
TZNAME:CDT
DTSTART:20240310T080000
END:DAYLIGHT
BEGIN:STANDARD
TZOFFSETFROM:-0500
TZOFFSETTO:-0600
TZNAME:CST
DTSTART:20241103T070000
END:STANDARD
BEGIN:DAYLIGHT
TZOFFSETFROM:-0600
TZOFFSETTO:-0500
TZNAME:CDT
DTSTART:20250309T080000
END:DAYLIGHT
BEGIN:STANDARD
TZOFFSETFROM:-0500
TZOFFSETTO:-0600
TZNAME:CST
DTSTART:20251102T070000
END:STANDARD
END:VTIMEZONE
BEGIN:VEVENT
DTSTART;TZID=America/Chicago:20240401T150000
DTEND;TZID=America/Chicago:20240401T154500
DTSTAMP:20260420T235749
CREATED:20231204T173955Z
LAST-MODIFIED:20231204T173955Z
UID:17929-1711983600-1711986300@lupinelane.com
SUMMARY:Soccer Shots
DESCRIPTION:
URL:https://lupinelane.com/event/soccer-shots-19/
CATEGORIES:Activities
END:VEVENT
BEGIN:VEVENT
DTSTART;TZID=America/Chicago:20240401T150000
DTEND;TZID=America/Chicago:20240401T154500
DTSTAMP:20260420T235749
CREATED:20240117T070036Z
LAST-MODIFIED:20240117T070036Z
UID:18619-1711983600-1711986300@lupinelane.com
SUMMARY:Imagination Theatre
DESCRIPTION:
URL:https://lupinelane.com/event/imagination-theatre-20/
CATEGORIES:Activities
END:VEVENT
BEGIN:VEVENT
DTSTART;TZID=America/Chicago:20240402T150000
DTEND;TZID=America/Chicago:20240402T154500
DTSTAMP:20260420T235749
CREATED:20231204T174015Z
LAST-MODIFIED:20231204T174015Z
UID:17959-1712070000-1712072700@lupinelane.com
SUMMARY:Hoop Dreams: Basketball with Cameron
DESCRIPTION:
URL:https://lupinelane.com/event/hoop-dreams-basketball-with-cameron-20/
CATEGORIES:Activities
END:VEVENT
BEGIN:VEVENT
DTSTART;TZID=America/Chicago:20240402T150000
DTEND;TZID=America/Chicago:20240402T154500
DTSTAMP:20260420T235749
CREATED:20231213T070025Z
LAST-MODIFIED:20231213T070025Z
UID:18119-1712070000-1712072700@lupinelane.com
SUMMARY:Yoga: Mindfulness and Movement
DESCRIPTION:
URL:https://lupinelane.com/event/yoga-mindfulness-and-movement-21/
CATEGORIES:Activities
END:VEVENT
BEGIN:VEVENT
DTSTART;TZID=America/Chicago:20240403T150000
DTEND;TZID=America/Chicago:20240403T154500
DTSTAMP:20260420T235749
CREATED:20240123T070024Z
LAST-MODIFIED:20240123T070024Z
UID:18814-1712156400-1712159100@lupinelane.com
SUMMARY:Full STEAM Ahead!
DESCRIPTION:
URL:https://lupinelane.com/event/full-steam-ahead-20/
CATEGORIES:Activities
END:VEVENT
BEGIN:VEVENT
DTSTART;TZID=America/Chicago:20240403T150000
DTEND;TZID=America/Chicago:20240403T154500
DTSTAMP:20260420T235749
CREATED:20240220T192920Z
LAST-MODIFIED:20240220T192920Z
UID:19308-1712156400-1712159100@lupinelane.com
SUMMARY:The Friendship Circle - A Social Emotional Journey
DESCRIPTION:
URL:https://lupinelane.com/event/the-friendship-circle-a-social-emotional-journey-10/
CATEGORIES:Activities
END:VEVENT
BEGIN:VEVENT
DTSTART;TZID=America/Chicago:20240404T150000
DTEND;TZID=America/Chicago:20240404T154500
DTSTAMP:20260420T235749
CREATED:20240120T070025Z
LAST-MODIFIED:20240120T070025Z
UID:18785-1712242800-1712245500@lupinelane.com
SUMMARY:Tumblinas
DESCRIPTION:
URL:https://lupinelane.com/event/tumblinas-9/
CATEGORIES:Activities
END:VEVENT
BEGIN:VEVENT
DTSTART;TZID=America/Chicago:20240404T150000
DTEND;TZID=America/Chicago:20240404T154500
DTSTAMP:20260420T235749
CREATED:20240307T080038Z
LAST-MODIFIED:20240307T080038Z
UID:19559-1712242800-1712245500@lupinelane.com
SUMMARY:Sportball
DESCRIPTION:
URL:https://lupinelane.com/event/sportball-20/
CATEGORIES:Activities
END:VEVENT
BEGIN:VEVENT
DTSTART;TZID=America/Chicago:20240405T150000
DTEND;TZID=America/Chicago:20240405T154500
DTSTAMP:20260420T235749
CREATED:20240108T070107Z
LAST-MODIFIED:20240108T070107Z
UID:18173-1712329200-1712331900@lupinelane.com
SUMMARY:The Heart of Art
DESCRIPTION:
URL:https://lupinelane.com/event/the-heart-of-art-20/
CATEGORIES:Activities
END:VEVENT
BEGIN:VEVENT
DTSTART;TZID=America/Chicago:20240405T150000
DTEND;TZID=America/Chicago:20240405T154500
DTSTAMP:20260420T235749
CREATED:20240108T070115Z
LAST-MODIFIED:20240108T070115Z
UID:18186-1712329200-1712331900@lupinelane.com
SUMMARY:Fizzle\, Bubble\, Pop & WOW!: Science
DESCRIPTION:
URL:https://lupinelane.com/event/fizzle-bubble-pop-wow-science-9/
CATEGORIES:Activities
END:VEVENT
BEGIN:VEVENT
DTSTART;TZID=America/Chicago:20240408T150000
DTEND;TZID=America/Chicago:20240408T154500
DTSTAMP:20260420T235749
CREATED:20231204T173957Z
LAST-MODIFIED:20231204T173957Z
UID:17930-1712588400-1712591100@lupinelane.com
SUMMARY:Soccer Shots
DESCRIPTION:
URL:https://lupinelane.com/event/soccer-shots-20/
CATEGORIES:Activities
END:VEVENT
BEGIN:VEVENT
DTSTART;TZID=America/Chicago:20240408T150000
DTEND;TZID=America/Chicago:20240408T154500
DTSTAMP:20260420T235749
CREATED:20240117T070037Z
LAST-MODIFIED:20240117T070037Z
UID:18620-1712588400-1712591100@lupinelane.com
SUMMARY:Imagination Theatre
DESCRIPTION:
URL:https://lupinelane.com/event/imagination-theatre-21/
CATEGORIES:Activities
END:VEVENT
BEGIN:VEVENT
DTSTART;TZID=America/Chicago:20240409T150000
DTEND;TZID=America/Chicago:20240409T154500
DTSTAMP:20260420T235749
CREATED:20231204T174016Z
LAST-MODIFIED:20231204T174016Z
UID:17960-1712674800-1712677500@lupinelane.com
SUMMARY:Hoop Dreams: Basketball with Cameron
DESCRIPTION:
URL:https://lupinelane.com/event/hoop-dreams-basketball-with-cameron-21/
CATEGORIES:Activities
END:VEVENT
BEGIN:VEVENT
DTSTART;TZID=America/Chicago:20240409T150000
DTEND;TZID=America/Chicago:20240409T154500
DTSTAMP:20260420T235749
CREATED:20231213T070025Z
LAST-MODIFIED:20231213T070025Z
UID:18120-1712674800-1712677500@lupinelane.com
SUMMARY:Yoga: Mindfulness and Movement
DESCRIPTION:
URL:https://lupinelane.com/event/yoga-mindfulness-and-movement-22/
CATEGORIES:Activities
END:VEVENT
BEGIN:VEVENT
DTSTART;TZID=America/Chicago:20240410T150000
DTEND;TZID=America/Chicago:20240410T154500
DTSTAMP:20260420T235749
CREATED:20240123T070025Z
LAST-MODIFIED:20240123T070025Z
UID:18815-1712761200-1712763900@lupinelane.com
SUMMARY:Full STEAM Ahead!
DESCRIPTION:
URL:https://lupinelane.com/event/full-steam-ahead-21/
CATEGORIES:Activities
END:VEVENT
BEGIN:VEVENT
DTSTART;TZID=America/Chicago:20240410T150000
DTEND;TZID=America/Chicago:20240410T154500
DTSTAMP:20260420T235749
CREATED:20240220T192921Z
LAST-MODIFIED:20240220T192921Z
UID:19309-1712761200-1712763900@lupinelane.com
SUMMARY:The Friendship Circle - A Social Emotional Journey
DESCRIPTION:
URL:https://lupinelane.com/event/the-friendship-circle-a-social-emotional-journey-11/
CATEGORIES:Activities
END:VEVENT
BEGIN:VEVENT
DTSTART;TZID=America/Chicago:20240411T150000
DTEND;TZID=America/Chicago:20240411T154500
DTSTAMP:20260420T235749
CREATED:20240120T070026Z
LAST-MODIFIED:20240120T070026Z
UID:18786-1712847600-1712850300@lupinelane.com
SUMMARY:Tumblinas
DESCRIPTION:
URL:https://lupinelane.com/event/tumblinas-10/
CATEGORIES:Activities
END:VEVENT
BEGIN:VEVENT
DTSTART;TZID=America/Chicago:20240411T150000
DTEND;TZID=America/Chicago:20240411T154500
DTSTAMP:20260420T235749
CREATED:20240307T080039Z
LAST-MODIFIED:20240307T080039Z
UID:19560-1712847600-1712850300@lupinelane.com
SUMMARY:Sportball
DESCRIPTION:
URL:https://lupinelane.com/event/sportball-21/
CATEGORIES:Activities
END:VEVENT
BEGIN:VEVENT
DTSTART;TZID=America/Chicago:20240415T150000
DTEND;TZID=America/Chicago:20240415T154500
DTSTAMP:20260420T235749
CREATED:20231204T173958Z
LAST-MODIFIED:20231204T173958Z
UID:17931-1713193200-1713195900@lupinelane.com
SUMMARY:Soccer Shots
DESCRIPTION:
URL:https://lupinelane.com/event/soccer-shots-21/
CATEGORIES:Activities
END:VEVENT
BEGIN:VEVENT
DTSTART;TZID=America/Chicago:20240415T150000
DTEND;TZID=America/Chicago:20240415T154500
DTSTAMP:20260420T235749
CREATED:20240117T070037Z
LAST-MODIFIED:20240117T070037Z
UID:18621-1713193200-1713195900@lupinelane.com
SUMMARY:Imagination Theatre
DESCRIPTION:
URL:https://lupinelane.com/event/imagination-theatre-22/
CATEGORIES:Activities
END:VEVENT
BEGIN:VEVENT
DTSTART;TZID=America/Chicago:20240416T150000
DTEND;TZID=America/Chicago:20240416T154500
DTSTAMP:20260420T235749
CREATED:20231204T174016Z
LAST-MODIFIED:20231204T174016Z
UID:17961-1713279600-1713282300@lupinelane.com
SUMMARY:Hoop Dreams: Basketball with Cameron
DESCRIPTION:
URL:https://lupinelane.com/event/hoop-dreams-basketball-with-cameron-22/
CATEGORIES:Activities
END:VEVENT
BEGIN:VEVENT
DTSTART;TZID=America/Chicago:20240416T150000
DTEND;TZID=America/Chicago:20240416T154500
DTSTAMP:20260420T235749
CREATED:20231213T070026Z
LAST-MODIFIED:20231213T070026Z
UID:18121-1713279600-1713282300@lupinelane.com
SUMMARY:Yoga: Mindfulness and Movement
DESCRIPTION:
URL:https://lupinelane.com/event/yoga-mindfulness-and-movement-23/
CATEGORIES:Activities
END:VEVENT
BEGIN:VEVENT
DTSTART;TZID=America/Chicago:20240417T150000
DTEND;TZID=America/Chicago:20240417T154500
DTSTAMP:20260420T235749
CREATED:20240123T070026Z
LAST-MODIFIED:20240123T070026Z
UID:18816-1713366000-1713368700@lupinelane.com
SUMMARY:Full STEAM Ahead!
DESCRIPTION:
URL:https://lupinelane.com/event/full-steam-ahead-22/
CATEGORIES:Activities
END:VEVENT
BEGIN:VEVENT
DTSTART;TZID=America/Chicago:20240417T150000
DTEND;TZID=America/Chicago:20240417T154500
DTSTAMP:20260420T235749
CREATED:20240220T192922Z
LAST-MODIFIED:20240220T192922Z
UID:19310-1713366000-1713368700@lupinelane.com
SUMMARY:The Friendship Circle - A Social Emotional Journey
DESCRIPTION:
URL:https://lupinelane.com/event/the-friendship-circle-a-social-emotional-journey-12/
CATEGORIES:Activities
END:VEVENT
BEGIN:VEVENT
DTSTART;TZID=America/Chicago:20240418T150000
DTEND;TZID=America/Chicago:20240418T154500
DTSTAMP:20260420T235749
CREATED:20240120T070026Z
LAST-MODIFIED:20240120T070026Z
UID:18787-1713452400-1713455100@lupinelane.com
SUMMARY:Tumblinas
DESCRIPTION:
URL:https://lupinelane.com/event/tumblinas-11/
CATEGORIES:Activities
END:VEVENT
BEGIN:VEVENT
DTSTART;TZID=America/Chicago:20240418T150000
DTEND;TZID=America/Chicago:20240418T154500
DTSTAMP:20260420T235749
CREATED:20240307T080039Z
LAST-MODIFIED:20240307T080039Z
UID:19561-1713452400-1713455100@lupinelane.com
SUMMARY:Sportball
DESCRIPTION:
URL:https://lupinelane.com/event/sportball-22/
CATEGORIES:Activities
END:VEVENT
BEGIN:VEVENT
DTSTART;TZID=America/Chicago:20240419T150000
DTEND;TZID=America/Chicago:20240419T154500
DTSTAMP:20260420T235749
CREATED:20240108T070107Z
LAST-MODIFIED:20240108T070107Z
UID:18174-1713538800-1713541500@lupinelane.com
SUMMARY:The Heart of Art
DESCRIPTION:
URL:https://lupinelane.com/event/the-heart-of-art-21/
CATEGORIES:Activities
END:VEVENT
BEGIN:VEVENT
DTSTART;TZID=America/Chicago:20240419T150000
DTEND;TZID=America/Chicago:20240419T154500
DTSTAMP:20260420T235749
CREATED:20240108T070116Z
LAST-MODIFIED:20240108T070116Z
UID:18187-1713538800-1713541500@lupinelane.com
SUMMARY:Fizzle\, Bubble\, Pop & WOW!: Science
DESCRIPTION:
URL:https://lupinelane.com/event/fizzle-bubble-pop-wow-science-10/
CATEGORIES:Activities
END:VEVENT
BEGIN:VEVENT
DTSTART;TZID=America/Chicago:20240422T150000
DTEND;TZID=America/Chicago:20240422T154500
DTSTAMP:20260420T235749
CREATED:20231204T173958Z
LAST-MODIFIED:20231204T173958Z
UID:17932-1713798000-1713800700@lupinelane.com
SUMMARY:Soccer Shots
DESCRIPTION:
URL:https://lupinelane.com/event/soccer-shots-22/
CATEGORIES:Activities
END:VEVENT
BEGIN:VEVENT
DTSTART;TZID=America/Chicago:20240422T150000
DTEND;TZID=America/Chicago:20240422T154500
DTSTAMP:20260420T235749
CREATED:20240117T070038Z
LAST-MODIFIED:20240117T070038Z
UID:18622-1713798000-1713800700@lupinelane.com
SUMMARY:Imagination Theatre
DESCRIPTION:
URL:https://lupinelane.com/event/imagination-theatre-23/
CATEGORIES:Activities
END:VEVENT
END:VCALENDAR