BEGIN:VCALENDAR
VERSION:2.0
PRODID:-//Lupine Lane - ECPv6.15.20//NONSGML v1.0//EN
CALSCALE:GREGORIAN
METHOD:PUBLISH
X-WR-CALNAME:Lupine Lane
X-ORIGINAL-URL:https://lupinelane.com
X-WR-CALDESC:Events for Lupine Lane
REFRESH-INTERVAL;VALUE=DURATION:PT1H
X-Robots-Tag:noindex
X-PUBLISHED-TTL:PT1H
BEGIN:VTIMEZONE
TZID:America/Chicago
BEGIN:DAYLIGHT
TZOFFSETFROM:-0600
TZOFFSETTO:-0500
TZNAME:CDT
DTSTART:20230312T080000
END:DAYLIGHT
BEGIN:STANDARD
TZOFFSETFROM:-0500
TZOFFSETTO:-0600
TZNAME:CST
DTSTART:20231105T070000
END:STANDARD
BEGIN:DAYLIGHT
TZOFFSETFROM:-0600
TZOFFSETTO:-0500
TZNAME:CDT
DTSTART:20240310T080000
END:DAYLIGHT
BEGIN:STANDARD
TZOFFSETFROM:-0500
TZOFFSETTO:-0600
TZNAME:CST
DTSTART:20241103T070000
END:STANDARD
BEGIN:DAYLIGHT
TZOFFSETFROM:-0600
TZOFFSETTO:-0500
TZNAME:CDT
DTSTART:20250309T080000
END:DAYLIGHT
BEGIN:STANDARD
TZOFFSETFROM:-0500
TZOFFSETTO:-0600
TZNAME:CST
DTSTART:20251102T070000
END:STANDARD
END:VTIMEZONE
BEGIN:VEVENT
DTSTART;TZID=America/Chicago:20240501T150000
DTEND;TZID=America/Chicago:20240501T154500
DTSTAMP:20260420T201025
CREATED:20240123T070027Z
LAST-MODIFIED:20240123T070027Z
UID:18818-1714575600-1714578300@lupinelane.com
SUMMARY:Full STEAM Ahead!
DESCRIPTION:
URL:https://lupinelane.com/event/full-steam-ahead-24/
CATEGORIES:Activities
END:VEVENT
BEGIN:VEVENT
DTSTART;TZID=America/Chicago:20240501T150000
DTEND;TZID=America/Chicago:20240501T154500
DTSTAMP:20260420T201025
CREATED:20240220T192924Z
LAST-MODIFIED:20240220T192924Z
UID:19312-1714575600-1714578300@lupinelane.com
SUMMARY:The Friendship Circle - A Social Emotional Journey
DESCRIPTION:
URL:https://lupinelane.com/event/the-friendship-circle-a-social-emotional-journey-14/
CATEGORIES:Activities
END:VEVENT
BEGIN:VEVENT
DTSTART;TZID=America/Chicago:20240502T150000
DTEND;TZID=America/Chicago:20240502T154500
DTSTAMP:20260420T201025
CREATED:20240120T070027Z
LAST-MODIFIED:20240120T070027Z
UID:18789-1714662000-1714664700@lupinelane.com
SUMMARY:Tumblinas
DESCRIPTION:
URL:https://lupinelane.com/event/tumblinas-13/
CATEGORIES:Activities
END:VEVENT
BEGIN:VEVENT
DTSTART;TZID=America/Chicago:20240502T150000
DTEND;TZID=America/Chicago:20240502T154500
DTSTAMP:20260420T201025
CREATED:20240307T080049Z
LAST-MODIFIED:20240307T080049Z
UID:19563-1714662000-1714664700@lupinelane.com
SUMMARY:Sportball
DESCRIPTION:
URL:https://lupinelane.com/event/sportball-24/
CATEGORIES:Activities
END:VEVENT
BEGIN:VEVENT
DTSTART;TZID=America/Chicago:20240503T150000
DTEND;TZID=America/Chicago:20240503T154500
DTSTAMP:20260420T201025
CREATED:20240108T070108Z
LAST-MODIFIED:20240108T070108Z
UID:18176-1714748400-1714751100@lupinelane.com
SUMMARY:The Heart of Art
DESCRIPTION:
URL:https://lupinelane.com/event/the-heart-of-art-23/
CATEGORIES:Activities
END:VEVENT
BEGIN:VEVENT
DTSTART;TZID=America/Chicago:20240503T150000
DTEND;TZID=America/Chicago:20240503T154500
DTSTAMP:20260420T201025
CREATED:20240108T070117Z
LAST-MODIFIED:20240108T070117Z
UID:18189-1714748400-1714751100@lupinelane.com
SUMMARY:Fizzle\, Bubble\, Pop & WOW!: Science
DESCRIPTION:
URL:https://lupinelane.com/event/fizzle-bubble-pop-wow-science-12/
CATEGORIES:Activities
END:VEVENT
BEGIN:VEVENT
DTSTART;TZID=America/Chicago:20240510T150000
DTEND;TZID=America/Chicago:20240510T154500
DTSTAMP:20260420T201025
CREATED:20240108T070109Z
LAST-MODIFIED:20240108T070109Z
UID:18177-1715353200-1715355900@lupinelane.com
SUMMARY:The Heart of Art
DESCRIPTION:
URL:https://lupinelane.com/event/the-heart-of-art-24/
CATEGORIES:Activities
END:VEVENT
BEGIN:VEVENT
DTSTART;TZID=America/Chicago:20240510T150000
DTEND;TZID=America/Chicago:20240510T154500
DTSTAMP:20260420T201025
CREATED:20240108T070117Z
LAST-MODIFIED:20240108T070117Z
UID:18190-1715353200-1715355900@lupinelane.com
SUMMARY:Fizzle\, Bubble\, Pop & WOW!: Science
DESCRIPTION:
URL:https://lupinelane.com/event/fizzle-bubble-pop-wow-science-13/
CATEGORIES:Activities
END:VEVENT
END:VCALENDAR