BEGIN:VCALENDAR
VERSION:2.0
PRODID:-//Lupine Lane - ECPv6.15.20//NONSGML v1.0//EN
CALSCALE:GREGORIAN
METHOD:PUBLISH
X-WR-CALNAME:Lupine Lane
X-ORIGINAL-URL:https://lupinelane.com
X-WR-CALDESC:Events for Lupine Lane
REFRESH-INTERVAL;VALUE=DURATION:PT1H
X-Robots-Tag:noindex
X-PUBLISHED-TTL:PT1H
BEGIN:VTIMEZONE
TZID:America/Chicago
BEGIN:DAYLIGHT
TZOFFSETFROM:-0600
TZOFFSETTO:-0500
TZNAME:CDT
DTSTART:20240310T080000
END:DAYLIGHT
BEGIN:STANDARD
TZOFFSETFROM:-0500
TZOFFSETTO:-0600
TZNAME:CST
DTSTART:20241103T070000
END:STANDARD
BEGIN:DAYLIGHT
TZOFFSETFROM:-0600
TZOFFSETTO:-0500
TZNAME:CDT
DTSTART:20250309T080000
END:DAYLIGHT
BEGIN:STANDARD
TZOFFSETFROM:-0500
TZOFFSETTO:-0600
TZNAME:CST
DTSTART:20251102T070000
END:STANDARD
BEGIN:DAYLIGHT
TZOFFSETFROM:-0600
TZOFFSETTO:-0500
TZNAME:CDT
DTSTART:20260308T080000
END:DAYLIGHT
BEGIN:STANDARD
TZOFFSETFROM:-0500
TZOFFSETTO:-0600
TZNAME:CST
DTSTART:20261101T070000
END:STANDARD
END:VTIMEZONE
BEGIN:VEVENT
DTSTART;TZID=America/Chicago:20250401T150000
DTEND;TZID=America/Chicago:20250401T154500
DTSTAMP:20260420T010133
CREATED:20241213T080606Z
LAST-MODIFIED:20241213T080606Z
UID:22122-1743519600-1743522300@lupinelane.com
SUMMARY:Once Upon a Skill
DESCRIPTION:
URL:https://lupinelane.com/event/once-upon-a-skill-9/
CATEGORIES:Activities
END:VEVENT
BEGIN:VEVENT
DTSTART;TZID=America/Chicago:20250401T150000
DTEND;TZID=America/Chicago:20250401T154500
DTSTAMP:20260420T010133
CREATED:20241213T080642Z
LAST-MODIFIED:20241213T080642Z
UID:22160-1743519600-1743522300@lupinelane.com
SUMMARY:Champs Express Tumbling
DESCRIPTION:
URL:https://lupinelane.com/event/champs-express-tumbling-9/
CATEGORIES:Activities
END:VEVENT
BEGIN:VEVENT
DTSTART;TZID=America/Chicago:20250402T150000
DTEND;TZID=America/Chicago:20250402T154500
DTSTAMP:20260420T010133
CREATED:20241213T080453Z
LAST-MODIFIED:20241213T080453Z
UID:22056-1743606000-1743608700@lupinelane.com
SUMMARY:The Friendship Circle: A Social-Emotional Journey
DESCRIPTION:
URL:https://lupinelane.com/event/the-friendship-circle-a-social-emotional-journey-23/
CATEGORIES:Activities
END:VEVENT
BEGIN:VEVENT
DTSTART;TZID=America/Chicago:20250402T150000
DTEND;TZID=America/Chicago:20250402T154500
DTSTAMP:20260420T010133
CREATED:20241213T080526Z
LAST-MODIFIED:20241213T080526Z
UID:22083-1743606000-1743608700@lupinelane.com
SUMMARY:Ballet with KinderDance by Wendy
DESCRIPTION:
URL:https://lupinelane.com/event/ballet-with-kinderdance-by-wendy-19/
CATEGORIES:Activities
END:VEVENT
BEGIN:VEVENT
DTSTART;TZID=America/Chicago:20250402T150000
DTEND;TZID=America/Chicago:20250402T154500
DTSTAMP:20260420T010133
CREATED:20241213T080552Z
LAST-MODIFIED:20241213T080552Z
UID:22108-1743606000-1743608700@lupinelane.com
SUMMARY:The Friendship Circle: A Social Emotional Journey
DESCRIPTION:
URL:https://lupinelane.com/event/the-friendship-circle-a-social-emotional-journey-37/
CATEGORIES:Activities
END:VEVENT
BEGIN:VEVENT
DTSTART;TZID=America/Chicago:20250402T150000
DTEND;TZID=America/Chicago:20250402T154500
DTSTAMP:20260420T010133
CREATED:20241213T080656Z
LAST-MODIFIED:20241213T080656Z
UID:22174-1743606000-1743608700@lupinelane.com
SUMMARY:Mis Sueños: Spanish Language and Culture
DESCRIPTION:
URL:https://lupinelane.com/event/mis-suenos-spanish-language-and-culture-20/
CATEGORIES:Activities
END:VEVENT
BEGIN:VEVENT
DTSTART;TZID=America/Chicago:20250403T150000
DTEND;TZID=America/Chicago:20250403T154500
DTSTAMP:20260420T010133
CREATED:20241213T080438Z
LAST-MODIFIED:20241213T080438Z
UID:22042-1743692400-1743695100@lupinelane.com
SUMMARY:Yoga: Mindfulness and Movement
DESCRIPTION:
URL:https://lupinelane.com/event/yoga-mindfulness-and-movement-44/
CATEGORIES:Activities
END:VEVENT
BEGIN:VEVENT
DTSTART;TZID=America/Chicago:20250403T150000
DTEND;TZID=America/Chicago:20250403T154500
DTSTAMP:20260420T010133
CREATED:20241213T080506Z
LAST-MODIFIED:20241213T080506Z
UID:22069-1743692400-1743695100@lupinelane.com
SUMMARY:Sportball
DESCRIPTION:
URL:https://lupinelane.com/event/sportball-43/
CATEGORIES:Activities
END:VEVENT
BEGIN:VEVENT
DTSTART;TZID=America/Chicago:20250404T150000
DTEND;TZID=America/Chicago:20250404T154500
DTSTAMP:20260420T010133
CREATED:20241213T080618Z
LAST-MODIFIED:20241213T080618Z
UID:22135-1743778800-1743781500@lupinelane.com
SUMMARY:Austin Wildcat Wigglers Basketball
DESCRIPTION:
URL:https://lupinelane.com/event/austin-wildcat-wigglers-basketball-19/
CATEGORIES:Activities
END:VEVENT
BEGIN:VEVENT
DTSTART;TZID=America/Chicago:20250404T150000
DTEND;TZID=America/Chicago:20250404T154500
DTSTAMP:20260420T010133
CREATED:20241222T080030Z
LAST-MODIFIED:20241222T080030Z
UID:22215-1743778800-1743781500@lupinelane.com
SUMMARY:Inside Out: A Social Emotional Journey
DESCRIPTION:
URL:https://lupinelane.com/event/inside-out-a-social-emotional-journey-8/
CATEGORIES:Activities
END:VEVENT
BEGIN:VEVENT
DTSTART;TZID=America/Chicago:20250407T150000
DTEND;TZID=America/Chicago:20250407T154500
DTSTAMP:20260420T010133
CREATED:20241212T080217Z
LAST-MODIFIED:20241212T080217Z
UID:21837-1744038000-1744040700@lupinelane.com
SUMMARY:Soccer Shots
DESCRIPTION:
URL:https://lupinelane.com/event/soccer-shots-42/
CATEGORIES:Activities
END:VEVENT
BEGIN:VEVENT
DTSTART;TZID=America/Chicago:20250407T150000
DTEND;TZID=America/Chicago:20250407T154500
DTSTAMP:20260420T010133
CREATED:20241213T080630Z
LAST-MODIFIED:20241213T080630Z
UID:22147-1744038000-1744040700@lupinelane.com
SUMMARY:The Heart of Art
DESCRIPTION:
URL:https://lupinelane.com/event/the-heart-of-art-43/
CATEGORIES:Activities
END:VEVENT
BEGIN:VEVENT
DTSTART;TZID=America/Chicago:20250407T150000
DTEND;TZID=America/Chicago:20250407T154500
DTSTAMP:20260420T010133
CREATED:20250101T080030Z
LAST-MODIFIED:20250101T080030Z
UID:22244-1744038000-1744040700@lupinelane.com
SUMMARY:Coding with Kids: My First Computer Skills
DESCRIPTION:
URL:https://lupinelane.com/event/coding-with-kids-my-first-computer-skills-9/
CATEGORIES:Activities
END:VEVENT
BEGIN:VEVENT
DTSTART;TZID=America/Chicago:20250408T150000
DTEND;TZID=America/Chicago:20250408T154500
DTSTAMP:20260420T010133
CREATED:20241213T080607Z
LAST-MODIFIED:20241213T080607Z
UID:22123-1744124400-1744127100@lupinelane.com
SUMMARY:Once Upon a Skill
DESCRIPTION:
URL:https://lupinelane.com/event/once-upon-a-skill-10/
CATEGORIES:Activities
END:VEVENT
BEGIN:VEVENT
DTSTART;TZID=America/Chicago:20250408T150000
DTEND;TZID=America/Chicago:20250408T154500
DTSTAMP:20260420T010133
CREATED:20241213T080643Z
LAST-MODIFIED:20241213T080643Z
UID:22161-1744124400-1744127100@lupinelane.com
SUMMARY:Champs Express Tumbling
DESCRIPTION:
URL:https://lupinelane.com/event/champs-express-tumbling-10/
CATEGORIES:Activities
END:VEVENT
BEGIN:VEVENT
DTSTART;TZID=America/Chicago:20250409T150000
DTEND;TZID=America/Chicago:20250409T154500
DTSTAMP:20260420T010133
CREATED:20241213T080454Z
LAST-MODIFIED:20241213T080454Z
UID:22057-1744210800-1744213500@lupinelane.com
SUMMARY:The Friendship Circle: A Social-Emotional Journey
DESCRIPTION:
URL:https://lupinelane.com/event/the-friendship-circle-a-social-emotional-journey-24/
CATEGORIES:Activities
END:VEVENT
BEGIN:VEVENT
DTSTART;TZID=America/Chicago:20250409T150000
DTEND;TZID=America/Chicago:20250409T154500
DTSTAMP:20260420T010133
CREATED:20241213T080527Z
LAST-MODIFIED:20241213T080527Z
UID:22084-1744210800-1744213500@lupinelane.com
SUMMARY:Ballet with KinderDance by Wendy
DESCRIPTION:
URL:https://lupinelane.com/event/ballet-with-kinderdance-by-wendy-20/
CATEGORIES:Activities
END:VEVENT
BEGIN:VEVENT
DTSTART;TZID=America/Chicago:20250409T150000
DTEND;TZID=America/Chicago:20250409T154500
DTSTAMP:20260420T010133
CREATED:20241213T080553Z
LAST-MODIFIED:20241213T080553Z
UID:22109-1744210800-1744213500@lupinelane.com
SUMMARY:The Friendship Circle: A Social Emotional Journey
DESCRIPTION:
URL:https://lupinelane.com/event/the-friendship-circle-a-social-emotional-journey-38/
CATEGORIES:Activities
END:VEVENT
BEGIN:VEVENT
DTSTART;TZID=America/Chicago:20250409T150000
DTEND;TZID=America/Chicago:20250409T154500
DTSTAMP:20260420T010133
CREATED:20241213T080657Z
LAST-MODIFIED:20241213T080657Z
UID:22175-1744210800-1744213500@lupinelane.com
SUMMARY:Mis Sueños: Spanish Language and Culture
DESCRIPTION:
URL:https://lupinelane.com/event/mis-suenos-spanish-language-and-culture-21/
CATEGORIES:Activities
END:VEVENT
BEGIN:VEVENT
DTSTART;TZID=America/Chicago:20250410T150000
DTEND;TZID=America/Chicago:20250410T154500
DTSTAMP:20260420T010133
CREATED:20241213T080439Z
LAST-MODIFIED:20241213T080439Z
UID:22043-1744297200-1744299900@lupinelane.com
SUMMARY:Yoga: Mindfulness and Movement
DESCRIPTION:
URL:https://lupinelane.com/event/yoga-mindfulness-and-movement-45/
CATEGORIES:Activities
END:VEVENT
BEGIN:VEVENT
DTSTART;TZID=America/Chicago:20250410T150000
DTEND;TZID=America/Chicago:20250410T154500
DTSTAMP:20260420T010133
CREATED:20241213T080507Z
LAST-MODIFIED:20241213T080507Z
UID:22070-1744297200-1744299900@lupinelane.com
SUMMARY:Sportball
DESCRIPTION:
URL:https://lupinelane.com/event/sportball-44/
CATEGORIES:Activities
END:VEVENT
BEGIN:VEVENT
DTSTART;TZID=America/Chicago:20250414T150000
DTEND;TZID=America/Chicago:20250414T154500
DTSTAMP:20260420T010133
CREATED:20241212T080218Z
LAST-MODIFIED:20241212T080218Z
UID:21838-1744642800-1744645500@lupinelane.com
SUMMARY:Soccer Shots
DESCRIPTION:
URL:https://lupinelane.com/event/soccer-shots-43/
CATEGORIES:Activities
END:VEVENT
BEGIN:VEVENT
DTSTART;TZID=America/Chicago:20250414T150000
DTEND;TZID=America/Chicago:20250414T154500
DTSTAMP:20260420T010133
CREATED:20241213T080631Z
LAST-MODIFIED:20241213T080631Z
UID:22148-1744642800-1744645500@lupinelane.com
SUMMARY:The Heart of Art
DESCRIPTION:
URL:https://lupinelane.com/event/the-heart-of-art-44/
CATEGORIES:Activities
END:VEVENT
BEGIN:VEVENT
DTSTART;TZID=America/Chicago:20250414T150000
DTEND;TZID=America/Chicago:20250414T154500
DTSTAMP:20260420T010133
CREATED:20250101T080031Z
LAST-MODIFIED:20250101T080031Z
UID:22245-1744642800-1744645500@lupinelane.com
SUMMARY:Coding with Kids: My First Computer Skills
DESCRIPTION:
URL:https://lupinelane.com/event/coding-with-kids-my-first-computer-skills-10/
CATEGORIES:Activities
END:VEVENT
BEGIN:VEVENT
DTSTART;TZID=America/Chicago:20250415T150000
DTEND;TZID=America/Chicago:20250415T154500
DTSTAMP:20260420T010133
CREATED:20241213T080608Z
LAST-MODIFIED:20241213T080608Z
UID:22124-1744729200-1744731900@lupinelane.com
SUMMARY:Once Upon a Skill
DESCRIPTION:
URL:https://lupinelane.com/event/once-upon-a-skill-11/
CATEGORIES:Activities
END:VEVENT
BEGIN:VEVENT
DTSTART;TZID=America/Chicago:20250415T150000
DTEND;TZID=America/Chicago:20250415T154500
DTSTAMP:20260420T010133
CREATED:20241213T080644Z
LAST-MODIFIED:20241213T080644Z
UID:22162-1744729200-1744731900@lupinelane.com
SUMMARY:Champs Express Tumbling
DESCRIPTION:
URL:https://lupinelane.com/event/champs-express-tumbling-11/
CATEGORIES:Activities
END:VEVENT
BEGIN:VEVENT
DTSTART;TZID=America/Chicago:20250416T150000
DTEND;TZID=America/Chicago:20250416T154500
DTSTAMP:20260420T010133
CREATED:20241213T080455Z
LAST-MODIFIED:20241213T080455Z
UID:22058-1744815600-1744818300@lupinelane.com
SUMMARY:The Friendship Circle: A Social-Emotional Journey
DESCRIPTION:
URL:https://lupinelane.com/event/the-friendship-circle-a-social-emotional-journey-25/
CATEGORIES:Activities
END:VEVENT
BEGIN:VEVENT
DTSTART;TZID=America/Chicago:20250416T150000
DTEND;TZID=America/Chicago:20250416T154500
DTSTAMP:20260420T010133
CREATED:20241213T080528Z
LAST-MODIFIED:20241213T080528Z
UID:22085-1744815600-1744818300@lupinelane.com
SUMMARY:Ballet with KinderDance by Wendy
DESCRIPTION:
URL:https://lupinelane.com/event/ballet-with-kinderdance-by-wendy-21/
CATEGORIES:Activities
END:VEVENT
BEGIN:VEVENT
DTSTART;TZID=America/Chicago:20250416T150000
DTEND;TZID=America/Chicago:20250416T154500
DTSTAMP:20260420T010133
CREATED:20241213T080554Z
LAST-MODIFIED:20241213T080554Z
UID:22110-1744815600-1744818300@lupinelane.com
SUMMARY:The Friendship Circle: A Social Emotional Journey
DESCRIPTION:
URL:https://lupinelane.com/event/the-friendship-circle-a-social-emotional-journey-39/
CATEGORIES:Activities
END:VEVENT
BEGIN:VEVENT
DTSTART;TZID=America/Chicago:20250416T150000
DTEND;TZID=America/Chicago:20250416T154500
DTSTAMP:20260420T010133
CREATED:20241213T080658Z
LAST-MODIFIED:20241213T080658Z
UID:22176-1744815600-1744818300@lupinelane.com
SUMMARY:Mis Sueños: Spanish Language and Culture
DESCRIPTION:
URL:https://lupinelane.com/event/mis-suenos-spanish-language-and-culture-22/
CATEGORIES:Activities
END:VEVENT
END:VCALENDAR