BEGIN:VCALENDAR
VERSION:2.0
PRODID:-//Lupine Lane - ECPv6.15.20//NONSGML v1.0//EN
CALSCALE:GREGORIAN
METHOD:PUBLISH
X-WR-CALNAME:Lupine Lane
X-ORIGINAL-URL:https://lupinelane.com
X-WR-CALDESC:Events for Lupine Lane
REFRESH-INTERVAL;VALUE=DURATION:PT1H
X-Robots-Tag:noindex
X-PUBLISHED-TTL:PT1H
BEGIN:VTIMEZONE
TZID:America/Chicago
BEGIN:DAYLIGHT
TZOFFSETFROM:-0600
TZOFFSETTO:-0500
TZNAME:CDT
DTSTART:20240310T080000
END:DAYLIGHT
BEGIN:STANDARD
TZOFFSETFROM:-0500
TZOFFSETTO:-0600
TZNAME:CST
DTSTART:20241103T070000
END:STANDARD
BEGIN:DAYLIGHT
TZOFFSETFROM:-0600
TZOFFSETTO:-0500
TZNAME:CDT
DTSTART:20250309T080000
END:DAYLIGHT
BEGIN:STANDARD
TZOFFSETFROM:-0500
TZOFFSETTO:-0600
TZNAME:CST
DTSTART:20251102T070000
END:STANDARD
BEGIN:DAYLIGHT
TZOFFSETFROM:-0600
TZOFFSETTO:-0500
TZNAME:CDT
DTSTART:20260308T080000
END:DAYLIGHT
BEGIN:STANDARD
TZOFFSETFROM:-0500
TZOFFSETTO:-0600
TZNAME:CST
DTSTART:20261101T070000
END:STANDARD
END:VTIMEZONE
BEGIN:VEVENT
DTSTART;TZID=America/Chicago:20250501T150000
DTEND;TZID=America/Chicago:20250501T154500
DTSTAMP:20260419T231505
CREATED:20241213T080442Z
LAST-MODIFIED:20241213T080442Z
UID:22046-1746111600-1746114300@lupinelane.com
SUMMARY:Yoga: Mindfulness and Movement
DESCRIPTION:
URL:https://lupinelane.com/event/yoga-mindfulness-and-movement-48/
CATEGORIES:Activities
END:VEVENT
BEGIN:VEVENT
DTSTART;TZID=America/Chicago:20250501T150000
DTEND;TZID=America/Chicago:20250501T154500
DTSTAMP:20260419T231505
CREATED:20241213T080512Z
LAST-MODIFIED:20241213T080512Z
UID:22073-1746111600-1746114300@lupinelane.com
SUMMARY:Sportball
DESCRIPTION:
URL:https://lupinelane.com/event/sportball-47/
CATEGORIES:Activities
END:VEVENT
BEGIN:VEVENT
DTSTART;TZID=America/Chicago:20250502T150000
DTEND;TZID=America/Chicago:20250502T154500
DTSTAMP:20260419T231505
CREATED:20241213T080620Z
LAST-MODIFIED:20241213T080620Z
UID:22137-1746198000-1746200700@lupinelane.com
SUMMARY:Austin Wildcat Wigglers Basketball
DESCRIPTION:
URL:https://lupinelane.com/event/austin-wildcat-wigglers-basketball-21/
CATEGORIES:Activities
END:VEVENT
BEGIN:VEVENT
DTSTART;TZID=America/Chicago:20250502T150000
DTEND;TZID=America/Chicago:20250502T154500
DTSTAMP:20260419T231505
CREATED:20241222T080033Z
LAST-MODIFIED:20241222T080033Z
UID:22217-1746198000-1746200700@lupinelane.com
SUMMARY:Inside Out: A Social Emotional Journey
DESCRIPTION:
URL:https://lupinelane.com/event/inside-out-a-social-emotional-journey-10/
CATEGORIES:Activities
END:VEVENT
BEGIN:VEVENT
DTSTART;TZID=America/Chicago:20250505T150000
DTEND;TZID=America/Chicago:20250505T154500
DTSTAMP:20260419T231505
CREATED:20241212T080222Z
LAST-MODIFIED:20241212T080222Z
UID:21841-1746457200-1746459900@lupinelane.com
SUMMARY:Soccer Shots
DESCRIPTION:
URL:https://lupinelane.com/event/soccer-shots-46/
CATEGORIES:Activities
END:VEVENT
BEGIN:VEVENT
DTSTART;TZID=America/Chicago:20250505T150000
DTEND;TZID=America/Chicago:20250505T154500
DTSTAMP:20260419T231505
CREATED:20241213T080634Z
LAST-MODIFIED:20241213T080634Z
UID:22151-1746457200-1746459900@lupinelane.com
SUMMARY:The Heart of Art
DESCRIPTION:
URL:https://lupinelane.com/event/the-heart-of-art-47/
CATEGORIES:Activities
END:VEVENT
BEGIN:VEVENT
DTSTART;TZID=America/Chicago:20250505T150000
DTEND;TZID=America/Chicago:20250505T154500
DTSTAMP:20260419T231505
CREATED:20250101T080034Z
LAST-MODIFIED:20250101T080034Z
UID:22248-1746457200-1746459900@lupinelane.com
SUMMARY:Coding with Kids: My First Computer Skills
DESCRIPTION:
URL:https://lupinelane.com/event/coding-with-kids-my-first-computer-skills-13/
CATEGORIES:Activities
END:VEVENT
BEGIN:VEVENT
DTSTART;TZID=America/Chicago:20250506T150000
DTEND;TZID=America/Chicago:20250506T154500
DTSTAMP:20260419T231505
CREATED:20241213T080611Z
LAST-MODIFIED:20241213T080611Z
UID:22127-1746543600-1746546300@lupinelane.com
SUMMARY:Once Upon a Skill
DESCRIPTION:
URL:https://lupinelane.com/event/once-upon-a-skill-14/
CATEGORIES:Activities
END:VEVENT
BEGIN:VEVENT
DTSTART;TZID=America/Chicago:20250506T150000
DTEND;TZID=America/Chicago:20250506T154500
DTSTAMP:20260419T231505
CREATED:20241213T080647Z
LAST-MODIFIED:20241213T080647Z
UID:22165-1746543600-1746546300@lupinelane.com
SUMMARY:Champs Express Tumbling
DESCRIPTION:
URL:https://lupinelane.com/event/champs-express-tumbling-14/
CATEGORIES:Activities
END:VEVENT
BEGIN:VEVENT
DTSTART;TZID=America/Chicago:20250507T150000
DTEND;TZID=America/Chicago:20250507T154500
DTSTAMP:20260419T231505
CREATED:20241213T080458Z
LAST-MODIFIED:20241213T080458Z
UID:22061-1746630000-1746632700@lupinelane.com
SUMMARY:The Friendship Circle: A Social-Emotional Journey
DESCRIPTION:
URL:https://lupinelane.com/event/the-friendship-circle-a-social-emotional-journey-28/
CATEGORIES:Activities
END:VEVENT
BEGIN:VEVENT
DTSTART;TZID=America/Chicago:20250507T150000
DTEND;TZID=America/Chicago:20250507T154500
DTSTAMP:20260419T231505
CREATED:20241213T080531Z
LAST-MODIFIED:20241213T080531Z
UID:22088-1746630000-1746632700@lupinelane.com
SUMMARY:Ballet with KinderDance by Wendy
DESCRIPTION:
URL:https://lupinelane.com/event/ballet-with-kinderdance-by-wendy-24/
CATEGORIES:Activities
END:VEVENT
BEGIN:VEVENT
DTSTART;TZID=America/Chicago:20250507T150000
DTEND;TZID=America/Chicago:20250507T154500
DTSTAMP:20260419T231505
CREATED:20241213T080557Z
LAST-MODIFIED:20241213T080557Z
UID:22113-1746630000-1746632700@lupinelane.com
SUMMARY:The Friendship Circle: A Social Emotional Journey
DESCRIPTION:
URL:https://lupinelane.com/event/the-friendship-circle-a-social-emotional-journey-42/
CATEGORIES:Activities
END:VEVENT
BEGIN:VEVENT
DTSTART;TZID=America/Chicago:20250507T150000
DTEND;TZID=America/Chicago:20250507T154500
DTSTAMP:20260419T231505
CREATED:20241213T080701Z
LAST-MODIFIED:20241213T080701Z
UID:22179-1746630000-1746632700@lupinelane.com
SUMMARY:Mis Sueños: Spanish Language and Culture
DESCRIPTION:
URL:https://lupinelane.com/event/mis-suenos-spanish-language-and-culture-25/
CATEGORIES:Activities
END:VEVENT
BEGIN:VEVENT
DTSTART;TZID=America/Chicago:20250508T150000
DTEND;TZID=America/Chicago:20250508T154500
DTSTAMP:20260419T231505
CREATED:20241213T080443Z
LAST-MODIFIED:20241213T080443Z
UID:22047-1746716400-1746719100@lupinelane.com
SUMMARY:Yoga: Mindfulness and Movement
DESCRIPTION:
URL:https://lupinelane.com/event/yoga-mindfulness-and-movement-49/
CATEGORIES:Activities
END:VEVENT
BEGIN:VEVENT
DTSTART;TZID=America/Chicago:20250508T150000
DTEND;TZID=America/Chicago:20250508T154500
DTSTAMP:20260419T231505
CREATED:20241213T080513Z
LAST-MODIFIED:20241213T080513Z
UID:22074-1746716400-1746719100@lupinelane.com
SUMMARY:Sportball
DESCRIPTION:
URL:https://lupinelane.com/event/sportball-48/
CATEGORIES:Activities
END:VEVENT
BEGIN:VEVENT
DTSTART;TZID=America/Chicago:20250509T150000
DTEND;TZID=America/Chicago:20250509T154500
DTSTAMP:20260419T231505
CREATED:20241213T080621Z
LAST-MODIFIED:20241213T080621Z
UID:22138-1746802800-1746805500@lupinelane.com
SUMMARY:Austin Wildcat Wigglers Basketball
DESCRIPTION:
URL:https://lupinelane.com/event/austin-wildcat-wigglers-basketball-22/
CATEGORIES:Activities
END:VEVENT
BEGIN:VEVENT
DTSTART;TZID=America/Chicago:20250509T150000
DTEND;TZID=America/Chicago:20250509T154500
DTSTAMP:20260419T231505
CREATED:20241222T080034Z
LAST-MODIFIED:20241222T080034Z
UID:22218-1746802800-1746805500@lupinelane.com
SUMMARY:Inside Out: A Social Emotional Journey
DESCRIPTION:
URL:https://lupinelane.com/event/inside-out-a-social-emotional-journey-11/
CATEGORIES:Activities
END:VEVENT
END:VCALENDAR