BEGIN:VCALENDAR
VERSION:2.0
PRODID:-//Lupine Lane - ECPv6.15.20//NONSGML v1.0//EN
CALSCALE:GREGORIAN
METHOD:PUBLISH
X-WR-CALNAME:Lupine Lane
X-ORIGINAL-URL:https://lupinelane.com
X-WR-CALDESC:Events for Lupine Lane
REFRESH-INTERVAL;VALUE=DURATION:PT1H
X-Robots-Tag:noindex
X-PUBLISHED-TTL:PT1H
BEGIN:VTIMEZONE
TZID:America/Chicago
BEGIN:DAYLIGHT
TZOFFSETFROM:-0600
TZOFFSETTO:-0500
TZNAME:CDT
DTSTART:20240310T080000
END:DAYLIGHT
BEGIN:STANDARD
TZOFFSETFROM:-0500
TZOFFSETTO:-0600
TZNAME:CST
DTSTART:20241103T070000
END:STANDARD
BEGIN:DAYLIGHT
TZOFFSETFROM:-0600
TZOFFSETTO:-0500
TZNAME:CDT
DTSTART:20250309T080000
END:DAYLIGHT
BEGIN:STANDARD
TZOFFSETFROM:-0500
TZOFFSETTO:-0600
TZNAME:CST
DTSTART:20251102T070000
END:STANDARD
BEGIN:DAYLIGHT
TZOFFSETFROM:-0600
TZOFFSETTO:-0500
TZNAME:CDT
DTSTART:20260308T080000
END:DAYLIGHT
BEGIN:STANDARD
TZOFFSETFROM:-0500
TZOFFSETTO:-0600
TZNAME:CST
DTSTART:20261101T070000
END:STANDARD
END:VTIMEZONE
BEGIN:VEVENT
DTSTART;TZID=America/Chicago:20250918T150000
DTEND;TZID=America/Chicago:20250918T154500
DTSTAMP:20260419T212138
CREATED:20250828T070315Z
LAST-MODIFIED:20250828T070315Z
UID:25839-1758207600-1758210300@lupinelane.com
SUMMARY:Mis Sueños: Spanish Language and Culture
DESCRIPTION:
URL:https://lupinelane.com/event/mis-suenos-spanish-language-and-culture-27/
CATEGORIES:Activities
END:VEVENT
BEGIN:VEVENT
DTSTART;TZID=America/Chicago:20250918T150000
DTEND;TZID=America/Chicago:20250918T154500
DTSTAMP:20260419T212138
CREATED:20250916T070308Z
LAST-MODIFIED:20250916T070308Z
UID:26010-1758207600-1758210300@lupinelane.com
SUMMARY:Sportball
DESCRIPTION:
URL:https://lupinelane.com/event/sportball-49/
CATEGORIES:Activities
END:VEVENT
BEGIN:VEVENT
DTSTART;TZID=America/Chicago:20250919T150000
DTEND;TZID=America/Chicago:20250919T154500
DTSTAMP:20260419T212138
CREATED:20250916T070325Z
LAST-MODIFIED:20250916T070325Z
UID:26022-1758294000-1758296700@lupinelane.com
SUMMARY:NinjaPlay with KidoKinetics
DESCRIPTION:
URL:https://lupinelane.com/event/ninjaplay-with-kidokinetics-11/
CATEGORIES:Activities
END:VEVENT
BEGIN:VEVENT
DTSTART;TZID=America/Chicago:20250919T150000
DTEND;TZID=America/Chicago:20250919T154500
DTSTAMP:20260419T212138
CREATED:20250917T070300Z
LAST-MODIFIED:20250917T070300Z
UID:26046-1758294000-1758296700@lupinelane.com
SUMMARY:Full STEAM Ahead!
DESCRIPTION:
URL:https://lupinelane.com/event/full-steam-ahead-25/
CATEGORIES:Activities
END:VEVENT
BEGIN:VEVENT
DTSTART;TZID=America/Chicago:20250922T150000
DTEND;TZID=America/Chicago:20250922T154500
DTSTAMP:20260419T212138
CREATED:20251105T080243Z
LAST-MODIFIED:20251105T080243Z
UID:26186-1758553200-1758555900@lupinelane.com
SUMMARY:The Heart of Art
DESCRIPTION:
URL:https://lupinelane.com/event/the-heart-of-art-50/
CATEGORIES:Activities
END:VEVENT
BEGIN:VEVENT
DTSTART;TZID=America/Chicago:20250922T150000
DTEND;TZID=America/Chicago:20250922T154500
DTSTAMP:20260419T212138
CREATED:20251228T080430Z
LAST-MODIFIED:20251228T080430Z
UID:26281-1758553200-1758555900@lupinelane.com
SUMMARY:Soccer Shots
DESCRIPTION:
URL:https://lupinelane.com/event/soccer-shots-48/
CATEGORIES:Activities
END:VEVENT
BEGIN:VEVENT
DTSTART;TZID=America/Chicago:20250923T150000
DTEND;TZID=America/Chicago:20250923T154500
DTSTAMP:20260419T212138
CREATED:20250907T070451Z
LAST-MODIFIED:20250907T070451Z
UID:25932-1758639600-1758642300@lupinelane.com
SUMMARY:Yoga: Mindfulness and Movement
DESCRIPTION:
URL:https://lupinelane.com/event/yoga-mindfulness-and-movement-51/
CATEGORIES:Activities
END:VEVENT
BEGIN:VEVENT
DTSTART;TZID=America/Chicago:20250923T150000
DTEND;TZID=America/Chicago:20250923T154500
DTSTAMP:20260419T212138
CREATED:20250907T070542Z
LAST-MODIFIED:20250907T070542Z
UID:25976-1758639600-1758642300@lupinelane.com
SUMMARY:Austin Wildcats Wigglers Basketball
DESCRIPTION:
URL:https://lupinelane.com/event/austin-wildcats-wigglers-basketball-2/
CATEGORIES:Activities
END:VEVENT
BEGIN:VEVENT
DTSTART;TZID=America/Chicago:20250924T150000
DTEND;TZID=America/Chicago:20250924T154500
DTSTAMP:20260419T212138
CREATED:20250727T070341Z
LAST-MODIFIED:20250727T070341Z
UID:25534-1758726000-1758728700@lupinelane.com
SUMMARY:Ballet with KinderDance
DESCRIPTION:
URL:https://lupinelane.com/event/ballet-with-kinderdance-3/
CATEGORIES:Activities
END:VEVENT
BEGIN:VEVENT
DTSTART;TZID=America/Chicago:20250924T150000
DTEND;TZID=America/Chicago:20250924T154500
DTSTAMP:20260419T212138
CREATED:20250727T070434Z
LAST-MODIFIED:20250727T070434Z
UID:25580-1758726000-1758728700@lupinelane.com
SUMMARY:Champs Express Tumbling
DESCRIPTION:
URL:https://lupinelane.com/event/champs-express-tumbling-17/
CATEGORIES:Activities
END:VEVENT
BEGIN:VEVENT
DTSTART;TZID=America/Chicago:20250925T150000
DTEND;TZID=America/Chicago:20250925T154500
DTSTAMP:20260419T212138
CREATED:20250826T070243Z
LAST-MODIFIED:20250826T070243Z
UID:25792-1758812400-1758815100@lupinelane.com
SUMMARY:Little Chefs Club
DESCRIPTION:
URL:https://lupinelane.com/event/little-chefs-club-3/
CATEGORIES:Activities
END:VEVENT
BEGIN:VEVENT
DTSTART;TZID=America/Chicago:20250925T150000
DTEND;TZID=America/Chicago:20250925T154500
DTSTAMP:20260419T212138
CREATED:20250828T070316Z
LAST-MODIFIED:20250828T070316Z
UID:25840-1758812400-1758815100@lupinelane.com
SUMMARY:Mis Sueños: Spanish Language and Culture
DESCRIPTION:
URL:https://lupinelane.com/event/mis-suenos-spanish-language-and-culture-28/
CATEGORIES:Activities
END:VEVENT
BEGIN:VEVENT
DTSTART;TZID=America/Chicago:20250925T150000
DTEND;TZID=America/Chicago:20250925T154500
DTSTAMP:20260419T212138
CREATED:20250916T070310Z
LAST-MODIFIED:20250916T070310Z
UID:26011-1758812400-1758815100@lupinelane.com
SUMMARY:Sportball
DESCRIPTION:
URL:https://lupinelane.com/event/sportball-50/
CATEGORIES:Activities
END:VEVENT
BEGIN:VEVENT
DTSTART;TZID=America/Chicago:20250926T150000
DTEND;TZID=America/Chicago:20250926T154500
DTSTAMP:20260419T212138
CREATED:20250916T070326Z
LAST-MODIFIED:20250916T070326Z
UID:26023-1758898800-1758901500@lupinelane.com
SUMMARY:NinjaPlay with KidoKinetics
DESCRIPTION:
URL:https://lupinelane.com/event/ninjaplay-with-kidokinetics-12/
CATEGORIES:Activities
END:VEVENT
BEGIN:VEVENT
DTSTART;TZID=America/Chicago:20250926T150000
DTEND;TZID=America/Chicago:20250926T154500
DTSTAMP:20260419T212138
CREATED:20250917T070302Z
LAST-MODIFIED:20250917T070302Z
UID:26047-1758898800-1758901500@lupinelane.com
SUMMARY:Full STEAM Ahead!
DESCRIPTION:
URL:https://lupinelane.com/event/full-steam-ahead-26/
CATEGORIES:Activities
END:VEVENT
BEGIN:VEVENT
DTSTART;TZID=America/Chicago:20250929T150000
DTEND;TZID=America/Chicago:20250929T154500
DTSTAMP:20260419T212138
CREATED:20251105T080245Z
LAST-MODIFIED:20251105T080245Z
UID:26187-1759158000-1759160700@lupinelane.com
SUMMARY:The Heart of Art
DESCRIPTION:
URL:https://lupinelane.com/event/the-heart-of-art-51/
CATEGORIES:Activities
END:VEVENT
BEGIN:VEVENT
DTSTART;TZID=America/Chicago:20250929T150000
DTEND;TZID=America/Chicago:20250929T154500
DTSTAMP:20260419T212138
CREATED:20251228T080432Z
LAST-MODIFIED:20251228T080432Z
UID:26282-1759158000-1759160700@lupinelane.com
SUMMARY:Soccer Shots
DESCRIPTION:
URL:https://lupinelane.com/event/soccer-shots-49/
CATEGORIES:Activities
END:VEVENT
BEGIN:VEVENT
DTSTART;TZID=America/Chicago:20250930T150000
DTEND;TZID=America/Chicago:20250930T154500
DTSTAMP:20260419T212138
CREATED:20250907T070452Z
LAST-MODIFIED:20250907T070452Z
UID:25933-1759244400-1759247100@lupinelane.com
SUMMARY:Yoga: Mindfulness and Movement
DESCRIPTION:
URL:https://lupinelane.com/event/yoga-mindfulness-and-movement-52/
CATEGORIES:Activities
END:VEVENT
BEGIN:VEVENT
DTSTART;TZID=America/Chicago:20250930T150000
DTEND;TZID=America/Chicago:20250930T154500
DTSTAMP:20260419T212138
CREATED:20250907T070543Z
LAST-MODIFIED:20250907T070543Z
UID:25977-1759244400-1759247100@lupinelane.com
SUMMARY:Austin Wildcats Wigglers Basketball
DESCRIPTION:
URL:https://lupinelane.com/event/austin-wildcats-wigglers-basketball-3/
CATEGORIES:Activities
END:VEVENT
BEGIN:VEVENT
DTSTART;TZID=America/Chicago:20251001T150000
DTEND;TZID=America/Chicago:20251001T154500
DTSTAMP:20260419T212138
CREATED:20250727T070342Z
LAST-MODIFIED:20250727T070342Z
UID:25535-1759330800-1759333500@lupinelane.com
SUMMARY:Ballet with KinderDance
DESCRIPTION:
URL:https://lupinelane.com/event/ballet-with-kinderdance-4/
CATEGORIES:Activities
END:VEVENT
BEGIN:VEVENT
DTSTART;TZID=America/Chicago:20251001T150000
DTEND;TZID=America/Chicago:20251001T154500
DTSTAMP:20260419T212138
CREATED:20250727T070435Z
LAST-MODIFIED:20250727T070435Z
UID:25581-1759330800-1759333500@lupinelane.com
SUMMARY:Champs Express Tumbling
DESCRIPTION:
URL:https://lupinelane.com/event/champs-express-tumbling-18/
CATEGORIES:Activities
END:VEVENT
BEGIN:VEVENT
DTSTART;TZID=America/Chicago:20251002T150000
DTEND;TZID=America/Chicago:20251002T154500
DTSTAMP:20260419T212138
CREATED:20250826T070245Z
LAST-MODIFIED:20250826T070245Z
UID:25793-1759417200-1759419900@lupinelane.com
SUMMARY:Little Chefs Club
DESCRIPTION:
URL:https://lupinelane.com/event/little-chefs-club-4/
CATEGORIES:Activities
END:VEVENT
BEGIN:VEVENT
DTSTART;TZID=America/Chicago:20251002T150000
DTEND;TZID=America/Chicago:20251002T154500
DTSTAMP:20260419T212138
CREATED:20250828T070317Z
LAST-MODIFIED:20250828T070317Z
UID:25841-1759417200-1759419900@lupinelane.com
SUMMARY:Mis Sueños: Spanish Language and Culture
DESCRIPTION:
URL:https://lupinelane.com/event/mis-suenos-spanish-language-and-culture-29/
CATEGORIES:Activities
END:VEVENT
BEGIN:VEVENT
DTSTART;TZID=America/Chicago:20251002T150000
DTEND;TZID=America/Chicago:20251002T154500
DTSTAMP:20260419T212138
CREATED:20250916T070311Z
LAST-MODIFIED:20250916T070311Z
UID:26012-1759417200-1759419900@lupinelane.com
SUMMARY:Sportball
DESCRIPTION:
URL:https://lupinelane.com/event/sportball-51/
CATEGORIES:Activities
END:VEVENT
BEGIN:VEVENT
DTSTART;TZID=America/Chicago:20251003T150000
DTEND;TZID=America/Chicago:20251003T154500
DTSTAMP:20260419T212138
CREATED:20250916T070327Z
LAST-MODIFIED:20250916T070327Z
UID:26024-1759503600-1759506300@lupinelane.com
SUMMARY:NinjaPlay with KidoKinetics
DESCRIPTION:
URL:https://lupinelane.com/event/ninjaplay-with-kidokinetics-13/
CATEGORIES:Activities
END:VEVENT
BEGIN:VEVENT
DTSTART;TZID=America/Chicago:20251003T150000
DTEND;TZID=America/Chicago:20251003T154500
DTSTAMP:20260419T212138
CREATED:20250917T070303Z
LAST-MODIFIED:20250917T070303Z
UID:26048-1759503600-1759506300@lupinelane.com
SUMMARY:Full STEAM Ahead!
DESCRIPTION:
URL:https://lupinelane.com/event/full-steam-ahead-27/
CATEGORIES:Activities
END:VEVENT
BEGIN:VEVENT
DTSTART;TZID=America/Chicago:20251006T150000
DTEND;TZID=America/Chicago:20251006T154500
DTSTAMP:20260419T212138
CREATED:20251105T080246Z
LAST-MODIFIED:20251105T080246Z
UID:26188-1759762800-1759765500@lupinelane.com
SUMMARY:The Heart of Art
DESCRIPTION:
URL:https://lupinelane.com/event/the-heart-of-art-52/
CATEGORIES:Activities
END:VEVENT
BEGIN:VEVENT
DTSTART;TZID=America/Chicago:20251006T150000
DTEND;TZID=America/Chicago:20251006T154500
DTSTAMP:20260419T212138
CREATED:20251228T080434Z
LAST-MODIFIED:20251228T080434Z
UID:26283-1759762800-1759765500@lupinelane.com
SUMMARY:Soccer Shots
DESCRIPTION:
URL:https://lupinelane.com/event/soccer-shots-50/
CATEGORIES:Activities
END:VEVENT
BEGIN:VEVENT
DTSTART;TZID=America/Chicago:20251007T150000
DTEND;TZID=America/Chicago:20251007T154500
DTSTAMP:20260419T212138
CREATED:20250907T070453Z
LAST-MODIFIED:20250907T070453Z
UID:25934-1759849200-1759851900@lupinelane.com
SUMMARY:Yoga: Mindfulness and Movement
DESCRIPTION:
URL:https://lupinelane.com/event/yoga-mindfulness-and-movement-53/
CATEGORIES:Activities
END:VEVENT
BEGIN:VEVENT
DTSTART;TZID=America/Chicago:20251007T150000
DTEND;TZID=America/Chicago:20251007T154500
DTSTAMP:20260419T212138
CREATED:20250907T070544Z
LAST-MODIFIED:20250907T070544Z
UID:25978-1759849200-1759851900@lupinelane.com
SUMMARY:Austin Wildcats Wigglers Basketball
DESCRIPTION:
URL:https://lupinelane.com/event/austin-wildcats-wigglers-basketball-4/
CATEGORIES:Activities
END:VEVENT
END:VCALENDAR