BEGIN:VCALENDAR
VERSION:2.0
PRODID:-//Lupine Lane - ECPv6.15.20//NONSGML v1.0//EN
CALSCALE:GREGORIAN
METHOD:PUBLISH
X-ORIGINAL-URL:https://lupinelane.com
X-WR-CALDESC:Events for Lupine Lane
REFRESH-INTERVAL;VALUE=DURATION:PT1H
X-Robots-Tag:noindex
X-PUBLISHED-TTL:PT1H
BEGIN:VTIMEZONE
TZID:America/Chicago
BEGIN:DAYLIGHT
TZOFFSETFROM:-0600
TZOFFSETTO:-0500
TZNAME:CDT
DTSTART:20220313T080000
END:DAYLIGHT
BEGIN:STANDARD
TZOFFSETFROM:-0500
TZOFFSETTO:-0600
TZNAME:CST
DTSTART:20221106T070000
END:STANDARD
BEGIN:DAYLIGHT
TZOFFSETFROM:-0600
TZOFFSETTO:-0500
TZNAME:CDT
DTSTART:20230312T080000
END:DAYLIGHT
BEGIN:STANDARD
TZOFFSETFROM:-0500
TZOFFSETTO:-0600
TZNAME:CST
DTSTART:20231105T070000
END:STANDARD
BEGIN:DAYLIGHT
TZOFFSETFROM:-0600
TZOFFSETTO:-0500
TZNAME:CDT
DTSTART:20240310T080000
END:DAYLIGHT
BEGIN:STANDARD
TZOFFSETFROM:-0500
TZOFFSETTO:-0600
TZNAME:CST
DTSTART:20241103T070000
END:STANDARD
END:VTIMEZONE
BEGIN:VEVENT
DTSTART;TZID=America/Chicago:20230922T150000
DTEND;TZID=America/Chicago:20230922T154500
DTSTAMP:20260421T200028
CREATED:20231204T173946Z
LAST-MODIFIED:20231204T173946Z
UID:17916-1695394800-1695397500@lupinelane.com
SUMMARY:Full STEAM Ahead!
DESCRIPTION:
URL:https://lupinelane.com/event/full-steam-ahead/
CATEGORIES:Activities
END:VEVENT
BEGIN:VEVENT
DTSTART;TZID=America/Chicago:20230925T150000
DTEND;TZID=America/Chicago:20230925T154500
DTSTAMP:20260421T200028
CREATED:20231204T173830Z
LAST-MODIFIED:20231204T173830Z
UID:17805-1695654000-1695656700@lupinelane.com
SUMMARY:Soccer Shots
DESCRIPTION:
URL:https://lupinelane.com/event/soccer-shots-2/
CATEGORIES:Activities
END:VEVENT
BEGIN:VEVENT
DTSTART;TZID=America/Chicago:20230925T150000
DTEND;TZID=America/Chicago:20230925T154500
DTSTAMP:20260421T200028
CREATED:20231204T173842Z
LAST-MODIFIED:20231204T173842Z
UID:17815-1695654000-1695656700@lupinelane.com
SUMMARY:Storybook Ballet
DESCRIPTION:
URL:https://lupinelane.com/event/storybook-ballet-2/
CATEGORIES:Activities
END:VEVENT
BEGIN:VEVENT
DTSTART;TZID=America/Chicago:20230926T150000
DTEND;TZID=America/Chicago:20230926T154500
DTSTAMP:20260421T200028
CREATED:20231204T173859Z
LAST-MODIFIED:20231204T173859Z
UID:17847-1695740400-1695743100@lupinelane.com
SUMMARY:Imagination Theatre
DESCRIPTION:
URL:https://lupinelane.com/event/imagination-theatre-2/
CATEGORIES:Activities
END:VEVENT
BEGIN:VEVENT
DTSTART;TZID=America/Chicago:20230926T150000
DTEND;TZID=America/Chicago:20230926T154500
DTSTAMP:20260421T200028
CREATED:20231204T173906Z
LAST-MODIFIED:20231204T173906Z
UID:17859-1695740400-1695743100@lupinelane.com
SUMMARY:Yoga: Mindfulness and Movement
DESCRIPTION:
URL:https://lupinelane.com/event/yoga-mindfulness-and-movement-2/
CATEGORIES:Activities
END:VEVENT
BEGIN:VEVENT
DTSTART;TZID=America/Chicago:20230927T150000
DTEND;TZID=America/Chicago:20230927T154500
DTSTAMP:20260421T200028
CREATED:20231204T173844Z
LAST-MODIFIED:20231204T173844Z
UID:17819-1695826800-1695829500@lupinelane.com
SUMMARY:The Heart of Art
DESCRIPTION:
URL:https://lupinelane.com/event/the-heart-of-art-2/
CATEGORIES:Activities
END:VEVENT
BEGIN:VEVENT
DTSTART;TZID=America/Chicago:20230927T150000
DTEND;TZID=America/Chicago:20230927T154500
DTSTAMP:20260421T200028
CREATED:20231204T173924Z
LAST-MODIFIED:20231204T173924Z
UID:17886-1695826800-1695829500@lupinelane.com
SUMMARY:Tumbling Down the Lane
DESCRIPTION:
URL:https://lupinelane.com/event/tumbling-down-the-lane-2/
CATEGORIES:Activities
END:VEVENT
BEGIN:VEVENT
DTSTART;TZID=America/Chicago:20230928T150000
DTEND;TZID=America/Chicago:20230928T154500
DTSTAMP:20260421T200028
CREATED:20231204T173846Z
LAST-MODIFIED:20231204T173846Z
UID:17823-1695913200-1695915900@lupinelane.com
SUMMARY:Hip Hop Hooray!: Exploring Modern Dance
DESCRIPTION:
URL:https://lupinelane.com/event/hip-hop-hooray-exploring-modern-dance-2/
CATEGORIES:Activities
END:VEVENT
BEGIN:VEVENT
DTSTART;TZID=America/Chicago:20230928T150000
DTEND;TZID=America/Chicago:20230928T154500
DTSTAMP:20260421T200028
CREATED:20231204T173910Z
LAST-MODIFIED:20231204T173910Z
UID:17866-1695913200-1695915900@lupinelane.com
SUMMARY:Sportball
DESCRIPTION:
URL:https://lupinelane.com/event/sportball-2/
CATEGORIES:Activities
END:VEVENT
BEGIN:VEVENT
DTSTART;TZID=America/Chicago:20230928T150000
DTEND;TZID=America/Chicago:20230928T154500
DTSTAMP:20260421T200028
CREATED:20231204T173927Z
LAST-MODIFIED:20231204T173927Z
UID:17892-1695913200-1695915900@lupinelane.com
SUMMARY:The Music in Me
DESCRIPTION:
URL:https://lupinelane.com/event/the-music-in-me-2/
CATEGORIES:Activities
END:VEVENT
BEGIN:VEVENT
DTSTART;TZID=America/Chicago:20230929T150000
DTEND;TZID=America/Chicago:20230929T154500
DTSTAMP:20260421T200028
CREATED:20231204T173910Z
LAST-MODIFIED:20231204T173910Z
UID:17867-1695999600-1696002300@lupinelane.com
SUMMARY:Hoop Dreams: Basketball with Cameron
DESCRIPTION:
URL:https://lupinelane.com/event/hoop-dreams-basketball-with-cameron-2/
CATEGORIES:Activities
END:VEVENT
BEGIN:VEVENT
DTSTART;TZID=America/Chicago:20230929T150000
DTEND;TZID=America/Chicago:20230929T154500
DTSTAMP:20260421T200028
CREATED:20231204T173946Z
LAST-MODIFIED:20231204T173946Z
UID:17917-1695999600-1696002300@lupinelane.com
SUMMARY:Full STEAM Ahead!
DESCRIPTION:
URL:https://lupinelane.com/event/full-steam-ahead-2/
CATEGORIES:Activities
END:VEVENT
BEGIN:VEVENT
DTSTART;TZID=America/Chicago:20231002T150000
DTEND;TZID=America/Chicago:20231002T154500
DTSTAMP:20260421T200028
CREATED:20231204T173831Z
LAST-MODIFIED:20231204T173831Z
UID:17806-1696258800-1696261500@lupinelane.com
SUMMARY:Soccer Shots
DESCRIPTION:
URL:https://lupinelane.com/event/soccer-shots-3/
CATEGORIES:Activities
END:VEVENT
BEGIN:VEVENT
DTSTART;TZID=America/Chicago:20231002T150000
DTEND;TZID=America/Chicago:20231002T154500
DTSTAMP:20260421T200028
CREATED:20231204T173842Z
LAST-MODIFIED:20231204T173842Z
UID:17816-1696258800-1696261500@lupinelane.com
SUMMARY:Storybook Ballet
DESCRIPTION:
URL:https://lupinelane.com/event/storybook-ballet-3/
CATEGORIES:Activities
END:VEVENT
BEGIN:VEVENT
DTSTART;TZID=America/Chicago:20231003T150000
DTEND;TZID=America/Chicago:20231003T154500
DTSTAMP:20260421T200028
CREATED:20231204T173901Z
LAST-MODIFIED:20231204T173901Z
UID:17850-1696345200-1696347900@lupinelane.com
SUMMARY:Imagination Theatre
DESCRIPTION:
URL:https://lupinelane.com/event/imagination-theatre-3/
CATEGORIES:Activities
END:VEVENT
BEGIN:VEVENT
DTSTART;TZID=America/Chicago:20231003T150000
DTEND;TZID=America/Chicago:20231003T154500
DTSTAMP:20260421T200028
CREATED:20231204T173908Z
LAST-MODIFIED:20231204T173908Z
UID:17862-1696345200-1696347900@lupinelane.com
SUMMARY:Yoga: Mindfulness and Movement
DESCRIPTION:
URL:https://lupinelane.com/event/yoga-mindfulness-and-movement-3/
CATEGORIES:Activities
END:VEVENT
BEGIN:VEVENT
DTSTART;TZID=America/Chicago:20231004T150000
DTEND;TZID=America/Chicago:20231004T154500
DTSTAMP:20260421T200028
CREATED:20231204T173845Z
LAST-MODIFIED:20231204T173845Z
UID:17820-1696431600-1696434300@lupinelane.com
SUMMARY:The Heart of Art
DESCRIPTION:
URL:https://lupinelane.com/event/the-heart-of-art-3/
CATEGORIES:Activities
END:VEVENT
BEGIN:VEVENT
DTSTART;TZID=America/Chicago:20231004T150000
DTEND;TZID=America/Chicago:20231004T154500
DTSTAMP:20260421T200028
CREATED:20231204T173925Z
LAST-MODIFIED:20231204T173925Z
UID:17889-1696431600-1696434300@lupinelane.com
SUMMARY:Tumbling Down the Lane
DESCRIPTION:
URL:https://lupinelane.com/event/tumbling-down-the-lane-3/
CATEGORIES:Activities
END:VEVENT
BEGIN:VEVENT
DTSTART;TZID=America/Chicago:20231005T150000
DTEND;TZID=America/Chicago:20231005T154500
DTSTAMP:20260421T200028
CREATED:20231204T173847Z
LAST-MODIFIED:20231204T173847Z
UID:17825-1696518000-1696520700@lupinelane.com
SUMMARY:Hip Hop Hooray!: Exploring Modern Dance
DESCRIPTION:
URL:https://lupinelane.com/event/hip-hop-hooray-exploring-modern-dance-3/
CATEGORIES:Activities
END:VEVENT
BEGIN:VEVENT
DTSTART;TZID=America/Chicago:20231005T150000
DTEND;TZID=America/Chicago:20231005T154500
DTSTAMP:20260421T200028
CREATED:20231204T173911Z
LAST-MODIFIED:20231204T173911Z
UID:17868-1696518000-1696520700@lupinelane.com
SUMMARY:Sportball
DESCRIPTION:
URL:https://lupinelane.com/event/sportball-3/
CATEGORIES:Activities
END:VEVENT
BEGIN:VEVENT
DTSTART;TZID=America/Chicago:20231005T150000
DTEND;TZID=America/Chicago:20231005T154500
DTSTAMP:20260421T200028
CREATED:20231204T173928Z
LAST-MODIFIED:20231204T173928Z
UID:17894-1696518000-1696520700@lupinelane.com
SUMMARY:The Music in Me
DESCRIPTION:
URL:https://lupinelane.com/event/the-music-in-me-3/
CATEGORIES:Activities
END:VEVENT
BEGIN:VEVENT
DTSTART;TZID=America/Chicago:20231006T150000
DTEND;TZID=America/Chicago:20231006T154500
DTSTAMP:20260421T200028
CREATED:20231204T173911Z
LAST-MODIFIED:20231204T173911Z
UID:17869-1696604400-1696607100@lupinelane.com
SUMMARY:Hoop Dreams: Basketball with Cameron
DESCRIPTION:
URL:https://lupinelane.com/event/hoop-dreams-basketball-with-cameron-3/
CATEGORIES:Activities
END:VEVENT
BEGIN:VEVENT
DTSTART;TZID=America/Chicago:20231006T150000
DTEND;TZID=America/Chicago:20231006T154500
DTSTAMP:20260421T200028
CREATED:20231204T173947Z
LAST-MODIFIED:20231204T173947Z
UID:17918-1696604400-1696607100@lupinelane.com
SUMMARY:Full STEAM Ahead!
DESCRIPTION:
URL:https://lupinelane.com/event/full-steam-ahead-3/
CATEGORIES:Activities
END:VEVENT
BEGIN:VEVENT
DTSTART;TZID=America/Chicago:20231010T150000
DTEND;TZID=America/Chicago:20231010T154500
DTSTAMP:20260421T200028
CREATED:20231204T173902Z
LAST-MODIFIED:20231204T173902Z
UID:17851-1696950000-1696952700@lupinelane.com
SUMMARY:Imagination Theatre
DESCRIPTION:
URL:https://lupinelane.com/event/imagination-theatre-4/
CATEGORIES:Activities
END:VEVENT
BEGIN:VEVENT
DTSTART;TZID=America/Chicago:20231010T150000
DTEND;TZID=America/Chicago:20231010T154500
DTSTAMP:20260421T200028
CREATED:20231204T173909Z
LAST-MODIFIED:20231204T173909Z
UID:17864-1696950000-1696952700@lupinelane.com
SUMMARY:Yoga: Mindfulness and Movement
DESCRIPTION:
URL:https://lupinelane.com/event/yoga-mindfulness-and-movement-4/
CATEGORIES:Activities
END:VEVENT
BEGIN:VEVENT
DTSTART;TZID=America/Chicago:20231011T150000
DTEND;TZID=America/Chicago:20231011T154500
DTSTAMP:20260421T200028
CREATED:20231204T173846Z
LAST-MODIFIED:20231204T173846Z
UID:17822-1697036400-1697039100@lupinelane.com
SUMMARY:The Heart of Art
DESCRIPTION:
URL:https://lupinelane.com/event/the-heart-of-art-4/
CATEGORIES:Activities
END:VEVENT
BEGIN:VEVENT
DTSTART;TZID=America/Chicago:20231011T150000
DTEND;TZID=America/Chicago:20231011T154500
DTSTAMP:20260421T200028
CREATED:20231204T173926Z
LAST-MODIFIED:20231204T173926Z
UID:17891-1697036400-1697039100@lupinelane.com
SUMMARY:Tumbling Down the Lane
DESCRIPTION:
URL:https://lupinelane.com/event/tumbling-down-the-lane-4/
CATEGORIES:Activities
END:VEVENT
BEGIN:VEVENT
DTSTART;TZID=America/Chicago:20231012T150000
DTEND;TZID=America/Chicago:20231012T154500
DTSTAMP:20260421T200028
CREATED:20231204T173848Z
LAST-MODIFIED:20231204T173848Z
UID:17827-1697122800-1697125500@lupinelane.com
SUMMARY:Hip Hop Hooray!: Exploring Modern Dance
DESCRIPTION:
URL:https://lupinelane.com/event/hip-hop-hooray-exploring-modern-dance-4/
CATEGORIES:Activities
END:VEVENT
BEGIN:VEVENT
DTSTART;TZID=America/Chicago:20231012T150000
DTEND;TZID=America/Chicago:20231012T154500
DTSTAMP:20260421T200028
CREATED:20231204T173912Z
LAST-MODIFIED:20231204T173912Z
UID:17870-1697122800-1697125500@lupinelane.com
SUMMARY:Sportball
DESCRIPTION:
URL:https://lupinelane.com/event/sportball-4/
CATEGORIES:Activities
END:VEVENT
BEGIN:VEVENT
DTSTART;TZID=America/Chicago:20231012T150000
DTEND;TZID=America/Chicago:20231012T154500
DTSTAMP:20260421T200028
CREATED:20231204T173929Z
LAST-MODIFIED:20231204T173929Z
UID:17896-1697122800-1697125500@lupinelane.com
SUMMARY:The Music in Me
DESCRIPTION:
URL:https://lupinelane.com/event/the-music-in-me-4/
CATEGORIES:Activities
END:VEVENT
END:VCALENDAR