BEGIN:VCALENDAR
VERSION:2.0
PRODID:-//Lupine Lane - ECPv6.15.20//NONSGML v1.0//EN
CALSCALE:GREGORIAN
METHOD:PUBLISH
X-ORIGINAL-URL:https://lupinelane.com
X-WR-CALDESC:Events for Lupine Lane
REFRESH-INTERVAL;VALUE=DURATION:PT1H
X-Robots-Tag:noindex
X-PUBLISHED-TTL:PT1H
BEGIN:VTIMEZONE
TZID:America/Chicago
BEGIN:DAYLIGHT
TZOFFSETFROM:-0600
TZOFFSETTO:-0500
TZNAME:CDT
DTSTART:20220313T080000
END:DAYLIGHT
BEGIN:STANDARD
TZOFFSETFROM:-0500
TZOFFSETTO:-0600
TZNAME:CST
DTSTART:20221106T070000
END:STANDARD
BEGIN:DAYLIGHT
TZOFFSETFROM:-0600
TZOFFSETTO:-0500
TZNAME:CDT
DTSTART:20230312T080000
END:DAYLIGHT
BEGIN:STANDARD
TZOFFSETFROM:-0500
TZOFFSETTO:-0600
TZNAME:CST
DTSTART:20231105T070000
END:STANDARD
BEGIN:DAYLIGHT
TZOFFSETFROM:-0600
TZOFFSETTO:-0500
TZNAME:CDT
DTSTART:20240310T080000
END:DAYLIGHT
BEGIN:STANDARD
TZOFFSETFROM:-0500
TZOFFSETTO:-0600
TZNAME:CST
DTSTART:20241103T070000
END:STANDARD
BEGIN:DAYLIGHT
TZOFFSETFROM:-0600
TZOFFSETTO:-0500
TZNAME:CDT
DTSTART:20250309T080000
END:DAYLIGHT
BEGIN:STANDARD
TZOFFSETFROM:-0500
TZOFFSETTO:-0600
TZNAME:CST
DTSTART:20251102T070000
END:STANDARD
END:VTIMEZONE
BEGIN:VEVENT
DTSTART;TZID=America/Chicago:20231207T150000
DTEND;TZID=America/Chicago:20231207T154500
DTSTAMP:20260421T111355
CREATED:20231204T173855Z
LAST-MODIFIED:20231204T173855Z
UID:17839-1701961200-1701963900@lupinelane.com
SUMMARY:Hip Hop Hooray!: Exploring Modern Dance
DESCRIPTION:
URL:https://lupinelane.com/event/hip-hop-hooray-exploring-modern-dance-11/
CATEGORIES:Activities
END:VEVENT
BEGIN:VEVENT
DTSTART;TZID=America/Chicago:20231207T150000
DTEND;TZID=America/Chicago:20231207T154500
DTSTAMP:20260421T111355
CREATED:20231204T173922Z
LAST-MODIFIED:20231204T173922Z
UID:17884-1701961200-1701963900@lupinelane.com
SUMMARY:Sportball
DESCRIPTION:
URL:https://lupinelane.com/event/sportball-11/
CATEGORIES:Activities
END:VEVENT
BEGIN:VEVENT
DTSTART;TZID=America/Chicago:20231207T150000
DTEND;TZID=America/Chicago:20231207T154500
DTSTAMP:20260421T111355
CREATED:20231204T173940Z
LAST-MODIFIED:20231204T173940Z
UID:17908-1701961200-1701963900@lupinelane.com
SUMMARY:The Music in Me
DESCRIPTION:
URL:https://lupinelane.com/event/the-music-in-me-11/
CATEGORIES:Activities
END:VEVENT
BEGIN:VEVENT
DTSTART;VALUE=DATE:20231208
DTEND;VALUE=DATE:20231209
DTSTAMP:20260421T111355
CREATED:20231104T060007Z
LAST-MODIFIED:20231104T060007Z
UID:17768-1701993600-1702079999@lupinelane.com
SUMMARY:Polar Express Day
DESCRIPTION:
URL:https://lupinelane.com/event/polar-express-day/
CATEGORIES:Activities
END:VEVENT
BEGIN:VEVENT
DTSTART;TZID=America/Chicago:20231208T150000
DTEND;TZID=America/Chicago:20231208T154500
DTSTAMP:20260421T111355
CREATED:20231204T173922Z
LAST-MODIFIED:20231204T173922Z
UID:17883-1702047600-1702050300@lupinelane.com
SUMMARY:Hoop Dreams: Basketball with Cameron
DESCRIPTION:
URL:https://lupinelane.com/event/hoop-dreams-basketball-with-cameron-10/
CATEGORIES:Activities
END:VEVENT
BEGIN:VEVENT
DTSTART;TZID=America/Chicago:20231208T150000
DTEND;TZID=America/Chicago:20231208T154500
DTSTAMP:20260421T111355
CREATED:20231204T173952Z
LAST-MODIFIED:20231204T173952Z
UID:17925-1702047600-1702050300@lupinelane.com
SUMMARY:Full STEAM Ahead!
DESCRIPTION:
URL:https://lupinelane.com/event/full-steam-ahead-10/
CATEGORIES:Activities
END:VEVENT
BEGIN:VEVENT
DTSTART;VALUE=DATE:20231215
DTEND;VALUE=DATE:20231216
DTSTAMP:20260421T111355
CREATED:20231104T060008Z
LAST-MODIFIED:20231104T060008Z
UID:17769-1702598400-1702684799@lupinelane.com
SUMMARY:Grinch Day
DESCRIPTION:
URL:https://lupinelane.com/event/grinch-day/
CATEGORIES:Activities
END:VEVENT
BEGIN:VEVENT
DTSTART;VALUE=DATE:20231221
DTEND;VALUE=DATE:20231222
DTSTAMP:20260421T111355
CREATED:20231104T060010Z
LAST-MODIFIED:20231104T060010Z
UID:17770-1703116800-1703203199@lupinelane.com
SUMMARY:Gingerbread House Party and Class Performances
DESCRIPTION:
URL:https://lupinelane.com/event/gingerbread-house-party-and-class-performances/
CATEGORIES:Activities
END:VEVENT
BEGIN:VEVENT
DTSTART;TZID=America/Chicago:20240119T150000
DTEND;TZID=America/Chicago:20240119T154500
DTSTAMP:20260421T111355
CREATED:20240108T070102Z
LAST-MODIFIED:20240108T070102Z
UID:18165-1705676400-1705679100@lupinelane.com
SUMMARY:The Heart of Art
DESCRIPTION:
URL:https://lupinelane.com/event/the-heart-of-art-12/
CATEGORIES:Activities
END:VEVENT
BEGIN:VEVENT
DTSTART;TZID=America/Chicago:20240119T150000
DTEND;TZID=America/Chicago:20240119T154500
DTSTAMP:20260421T111355
CREATED:20240108T070110Z
LAST-MODIFIED:20240108T070110Z
UID:18178-1705676400-1705679100@lupinelane.com
SUMMARY:Fizzle\, Bubble\, Pop & WOW!: Science
DESCRIPTION:
URL:https://lupinelane.com/event/fizzle-bubble-pop-wow-science/
CATEGORIES:Activities
END:VEVENT
BEGIN:VEVENT
DTSTART;TZID=America/Chicago:20240122T150000
DTEND;TZID=America/Chicago:20240122T154500
DTSTAMP:20260421T111355
CREATED:20231204T173901Z
LAST-MODIFIED:20231204T173901Z
UID:17849-1705935600-1705938300@lupinelane.com
SUMMARY:Soccer Shots
DESCRIPTION:
URL:https://lupinelane.com/event/soccer-shots-11/
CATEGORIES:Activities
END:VEVENT
BEGIN:VEVENT
DTSTART;TZID=America/Chicago:20240122T150000
DTEND;TZID=America/Chicago:20240122T154500
DTSTAMP:20260421T111355
CREATED:20240117T070031Z
LAST-MODIFIED:20240117T070031Z
UID:18611-1705935600-1705938300@lupinelane.com
SUMMARY:Imagination Theatre
DESCRIPTION:
URL:https://lupinelane.com/event/imagination-theatre-12/
CATEGORIES:Activities
END:VEVENT
BEGIN:VEVENT
DTSTART;TZID=America/Chicago:20240123T150000
DTEND;TZID=America/Chicago:20240123T154500
DTSTAMP:20260421T111355
CREATED:20231204T174001Z
LAST-MODIFIED:20231204T174001Z
UID:17936-1706022000-1706024700@lupinelane.com
SUMMARY:Hoop Dreams: Basketball with Cameron
DESCRIPTION:
URL:https://lupinelane.com/event/hoop-dreams-basketball-with-cameron-11/
CATEGORIES:Activities
END:VEVENT
BEGIN:VEVENT
DTSTART;TZID=America/Chicago:20240123T150000
DTEND;TZID=America/Chicago:20240123T154500
DTSTAMP:20260421T111355
CREATED:20231213T070020Z
LAST-MODIFIED:20231213T070020Z
UID:18110-1706022000-1706024700@lupinelane.com
SUMMARY:Yoga: Mindfulness and Movement
DESCRIPTION:
URL:https://lupinelane.com/event/yoga-mindfulness-and-movement-12/
CATEGORIES:Activities
END:VEVENT
BEGIN:VEVENT
DTSTART;TZID=America/Chicago:20240124T150000
DTEND;TZID=America/Chicago:20240124T154500
DTSTAMP:20260421T111355
CREATED:20240123T070019Z
LAST-MODIFIED:20240123T070019Z
UID:18805-1706108400-1706111100@lupinelane.com
SUMMARY:Full STEAM Ahead!
DESCRIPTION:
URL:https://lupinelane.com/event/full-steam-ahead-11/
CATEGORIES:Activities
END:VEVENT
BEGIN:VEVENT
DTSTART;TZID=America/Chicago:20240124T150000
DTEND;TZID=America/Chicago:20240124T154500
DTSTAMP:20260421T111355
CREATED:20240220T192913Z
LAST-MODIFIED:20240220T192913Z
UID:19299-1706108400-1706111100@lupinelane.com
SUMMARY:The Friendship Circle - A Social Emotional Journey
DESCRIPTION:
URL:https://lupinelane.com/event/the-friendship-circle-a-social-emotional-journey/
CATEGORIES:Activities
END:VEVENT
BEGIN:VEVENT
DTSTART;TZID=America/Chicago:20240125T150000
DTEND;TZID=America/Chicago:20240125T154500
DTSTAMP:20260421T111355
CREATED:20240120T070021Z
LAST-MODIFIED:20240120T070021Z
UID:18777-1706194800-1706197500@lupinelane.com
SUMMARY:Tumblinas
DESCRIPTION:
URL:https://lupinelane.com/event/tumblinas/
CATEGORIES:Activities
END:VEVENT
BEGIN:VEVENT
DTSTART;TZID=America/Chicago:20240125T150000
DTEND;TZID=America/Chicago:20240125T154500
DTSTAMP:20260421T111355
CREATED:20240307T080031Z
LAST-MODIFIED:20240307T080031Z
UID:19551-1706194800-1706197500@lupinelane.com
SUMMARY:Sportball
DESCRIPTION:
URL:https://lupinelane.com/event/sportball-12/
CATEGORIES:Activities
END:VEVENT
BEGIN:VEVENT
DTSTART;TZID=America/Chicago:20240126T150000
DTEND;TZID=America/Chicago:20240126T154500
DTSTAMP:20260421T111355
CREATED:20240108T070102Z
LAST-MODIFIED:20240108T070102Z
UID:18166-1706281200-1706283900@lupinelane.com
SUMMARY:The Heart of Art
DESCRIPTION:
URL:https://lupinelane.com/event/the-heart-of-art-13/
CATEGORIES:Activities
END:VEVENT
BEGIN:VEVENT
DTSTART;TZID=America/Chicago:20240126T150000
DTEND;TZID=America/Chicago:20240126T154500
DTSTAMP:20260421T111355
CREATED:20240108T070111Z
LAST-MODIFIED:20240108T070111Z
UID:18179-1706281200-1706283900@lupinelane.com
SUMMARY:Fizzle\, Bubble\, Pop & WOW!: Science
DESCRIPTION:
URL:https://lupinelane.com/event/fizzle-bubble-pop-wow-science-2/
CATEGORIES:Activities
END:VEVENT
BEGIN:VEVENT
DTSTART;TZID=America/Chicago:20240129T150000
DTEND;TZID=America/Chicago:20240129T154500
DTSTAMP:20260421T111355
CREATED:20231204T173907Z
LAST-MODIFIED:20231204T173907Z
UID:17861-1706540400-1706543100@lupinelane.com
SUMMARY:Soccer Shots
DESCRIPTION:
URL:https://lupinelane.com/event/soccer-shots-12/
CATEGORIES:Activities
END:VEVENT
BEGIN:VEVENT
DTSTART;TZID=America/Chicago:20240129T150000
DTEND;TZID=America/Chicago:20240129T154500
DTSTAMP:20260421T111355
CREATED:20240117T070032Z
LAST-MODIFIED:20240117T070032Z
UID:18612-1706540400-1706543100@lupinelane.com
SUMMARY:Imagination Theatre
DESCRIPTION:
URL:https://lupinelane.com/event/imagination-theatre-13/
CATEGORIES:Activities
END:VEVENT
BEGIN:VEVENT
DTSTART;TZID=America/Chicago:20240130T150000
DTEND;TZID=America/Chicago:20240130T154500
DTSTAMP:20260421T111355
CREATED:20231204T174003Z
LAST-MODIFIED:20231204T174003Z
UID:17938-1706626800-1706629500@lupinelane.com
SUMMARY:Hoop Dreams: Basketball with Cameron
DESCRIPTION:
URL:https://lupinelane.com/event/hoop-dreams-basketball-with-cameron-12/
CATEGORIES:Activities
END:VEVENT
BEGIN:VEVENT
DTSTART;TZID=America/Chicago:20240130T150000
DTEND;TZID=America/Chicago:20240130T154500
DTSTAMP:20260421T111355
CREATED:20231213T070020Z
LAST-MODIFIED:20231213T070020Z
UID:18111-1706626800-1706629500@lupinelane.com
SUMMARY:Yoga: Mindfulness and Movement
DESCRIPTION:
URL:https://lupinelane.com/event/yoga-mindfulness-and-movement-13/
CATEGORIES:Activities
END:VEVENT
BEGIN:VEVENT
DTSTART;TZID=America/Chicago:20240131T150000
DTEND;TZID=America/Chicago:20240131T154500
DTSTAMP:20260421T111355
CREATED:20240123T070020Z
LAST-MODIFIED:20240123T070020Z
UID:18806-1706713200-1706715900@lupinelane.com
SUMMARY:Full STEAM Ahead!
DESCRIPTION:
URL:https://lupinelane.com/event/full-steam-ahead-12/
CATEGORIES:Activities
END:VEVENT
BEGIN:VEVENT
DTSTART;TZID=America/Chicago:20240131T150000
DTEND;TZID=America/Chicago:20240131T154500
DTSTAMP:20260421T111355
CREATED:20240220T192913Z
LAST-MODIFIED:20240220T192913Z
UID:19300-1706713200-1706715900@lupinelane.com
SUMMARY:The Friendship Circle - A Social Emotional Journey
DESCRIPTION:
URL:https://lupinelane.com/event/the-friendship-circle-a-social-emotional-journey-2/
CATEGORIES:Activities
END:VEVENT
BEGIN:VEVENT
DTSTART;TZID=America/Chicago:20240201T150000
DTEND;TZID=America/Chicago:20240201T154500
DTSTAMP:20260421T111355
CREATED:20240120T070021Z
LAST-MODIFIED:20240120T070021Z
UID:18778-1706799600-1706802300@lupinelane.com
SUMMARY:Tumblinas
DESCRIPTION:
URL:https://lupinelane.com/event/tumblinas-2/
CATEGORIES:Activities
END:VEVENT
BEGIN:VEVENT
DTSTART;TZID=America/Chicago:20240201T150000
DTEND;TZID=America/Chicago:20240201T154500
DTSTAMP:20260421T111355
CREATED:20240307T080032Z
LAST-MODIFIED:20240307T080032Z
UID:19552-1706799600-1706802300@lupinelane.com
SUMMARY:Sportball
DESCRIPTION:
URL:https://lupinelane.com/event/sportball-13/
CATEGORIES:Activities
END:VEVENT
BEGIN:VEVENT
DTSTART;TZID=America/Chicago:20240202T150000
DTEND;TZID=America/Chicago:20240202T154500
DTSTAMP:20260421T111355
CREATED:20240108T070103Z
LAST-MODIFIED:20240108T070103Z
UID:18167-1706886000-1706888700@lupinelane.com
SUMMARY:The Heart of Art
DESCRIPTION:
URL:https://lupinelane.com/event/the-heart-of-art-14/
CATEGORIES:Activities
END:VEVENT
BEGIN:VEVENT
DTSTART;TZID=America/Chicago:20240202T150000
DTEND;TZID=America/Chicago:20240202T154500
DTSTAMP:20260421T111355
CREATED:20240108T070112Z
LAST-MODIFIED:20240108T070112Z
UID:18180-1706886000-1706888700@lupinelane.com
SUMMARY:Fizzle\, Bubble\, Pop & WOW!: Science
DESCRIPTION:
URL:https://lupinelane.com/event/fizzle-bubble-pop-wow-science-3/
CATEGORIES:Activities
END:VEVENT
END:VCALENDAR