BEGIN:VCALENDAR
VERSION:2.0
PRODID:-//Lupine Lane - ECPv6.15.20//NONSGML v1.0//EN
CALSCALE:GREGORIAN
METHOD:PUBLISH
X-WR-CALNAME:Lupine Lane
X-ORIGINAL-URL:https://lupinelane.com
X-WR-CALDESC:Events for Lupine Lane
REFRESH-INTERVAL;VALUE=DURATION:PT1H
X-Robots-Tag:noindex
X-PUBLISHED-TTL:PT1H
BEGIN:VTIMEZONE
TZID:America/Chicago
BEGIN:DAYLIGHT
TZOFFSETFROM:-0600
TZOFFSETTO:-0500
TZNAME:CDT
DTSTART:20220313T080000
END:DAYLIGHT
BEGIN:STANDARD
TZOFFSETFROM:-0500
TZOFFSETTO:-0600
TZNAME:CST
DTSTART:20221106T070000
END:STANDARD
BEGIN:DAYLIGHT
TZOFFSETFROM:-0600
TZOFFSETTO:-0500
TZNAME:CDT
DTSTART:20230312T080000
END:DAYLIGHT
BEGIN:STANDARD
TZOFFSETFROM:-0500
TZOFFSETTO:-0600
TZNAME:CST
DTSTART:20231105T070000
END:STANDARD
BEGIN:DAYLIGHT
TZOFFSETFROM:-0600
TZOFFSETTO:-0500
TZNAME:CDT
DTSTART:20240310T080000
END:DAYLIGHT
BEGIN:STANDARD
TZOFFSETFROM:-0500
TZOFFSETTO:-0600
TZNAME:CST
DTSTART:20241103T070000
END:STANDARD
END:VTIMEZONE
BEGIN:VEVENT
DTSTART;TZID=America/Chicago:20231113T150000
DTEND;TZID=America/Chicago:20231113T154500
DTSTAMP:20260421T181458
CREATED:20231204T173838Z
LAST-MODIFIED:20231204T173838Z
UID:17811-1699887600-1699890300@lupinelane.com
SUMMARY:Soccer Shots
DESCRIPTION:
URL:https://lupinelane.com/event/soccer-shots-8/
CATEGORIES:Activities
END:VEVENT
BEGIN:VEVENT
DTSTART;TZID=America/Chicago:20231113T150000
DTEND;TZID=America/Chicago:20231113T154500
DTSTAMP:20260421T181458
CREATED:20231204T173858Z
LAST-MODIFIED:20231204T173858Z
UID:17844-1699887600-1699890300@lupinelane.com
SUMMARY:Storybook Ballet
DESCRIPTION:
URL:https://lupinelane.com/event/storybook-ballet-8/
CATEGORIES:Activities
END:VEVENT
BEGIN:VEVENT
DTSTART;TZID=America/Chicago:20231114T150000
DTEND;TZID=America/Chicago:20231114T154500
DTSTAMP:20260421T181458
CREATED:20231204T173904Z
LAST-MODIFIED:20231204T173904Z
UID:17856-1699974000-1699976700@lupinelane.com
SUMMARY:Imagination Theatre
DESCRIPTION:
URL:https://lupinelane.com/event/imagination-theatre-9/
CATEGORIES:Activities
END:VEVENT
BEGIN:VEVENT
DTSTART;TZID=America/Chicago:20231114T150000
DTEND;TZID=America/Chicago:20231114T154500
DTSTAMP:20260421T181458
CREATED:20231204T173944Z
LAST-MODIFIED:20231204T173944Z
UID:17913-1699974000-1699976700@lupinelane.com
SUMMARY:Yoga: Mindfulness and Movement
DESCRIPTION:
URL:https://lupinelane.com/event/yoga-mindfulness-and-movement-9/
CATEGORIES:Activities
END:VEVENT
BEGIN:VEVENT
DTSTART;TZID=America/Chicago:20231115T150000
DTEND;TZID=America/Chicago:20231115T154500
DTSTAMP:20260421T181458
CREATED:20231204T173851Z
LAST-MODIFIED:20231204T173851Z
UID:17832-1700060400-1700063100@lupinelane.com
SUMMARY:The Heart of Art
DESCRIPTION:
URL:https://lupinelane.com/event/the-heart-of-art-9/
CATEGORIES:Activities
END:VEVENT
BEGIN:VEVENT
DTSTART;TZID=America/Chicago:20231115T150000
DTEND;TZID=America/Chicago:20231115T154500
DTSTAMP:20260421T181458
CREATED:20231204T173932Z
LAST-MODIFIED:20231204T173932Z
UID:17901-1700060400-1700063100@lupinelane.com
SUMMARY:Tumbling Down the Lane
DESCRIPTION:
URL:https://lupinelane.com/event/tumbling-down-the-lane-9/
CATEGORIES:Activities
END:VEVENT
BEGIN:VEVENT
DTSTART;TZID=America/Chicago:20231116T150000
DTEND;TZID=America/Chicago:20231116T154500
DTSTAMP:20260421T181458
CREATED:20231204T173854Z
LAST-MODIFIED:20231204T173854Z
UID:17837-1700146800-1700149500@lupinelane.com
SUMMARY:Hip Hop Hooray!: Exploring Modern Dance
DESCRIPTION:
URL:https://lupinelane.com/event/hip-hop-hooray-exploring-modern-dance-9/
CATEGORIES:Activities
END:VEVENT
BEGIN:VEVENT
DTSTART;TZID=America/Chicago:20231116T150000
DTEND;TZID=America/Chicago:20231116T154500
DTSTAMP:20260421T181458
CREATED:20231204T173918Z
LAST-MODIFIED:20231204T173918Z
UID:17880-1700146800-1700149500@lupinelane.com
SUMMARY:Sportball
DESCRIPTION:
URL:https://lupinelane.com/event/sportball-9/
CATEGORIES:Activities
END:VEVENT
BEGIN:VEVENT
DTSTART;TZID=America/Chicago:20231116T150000
DTEND;TZID=America/Chicago:20231116T154500
DTSTAMP:20260421T181458
CREATED:20231204T173938Z
LAST-MODIFIED:20231204T173938Z
UID:17905-1700146800-1700149500@lupinelane.com
SUMMARY:The Music in Me
DESCRIPTION:
URL:https://lupinelane.com/event/the-music-in-me-9/
CATEGORIES:Activities
END:VEVENT
BEGIN:VEVENT
DTSTART;VALUE=DATE:20231117
DTEND;VALUE=DATE:20231118
DTSTAMP:20260421T181458
CREATED:20231104T060005Z
LAST-MODIFIED:20231104T060005Z
UID:17766-1700179200-1700265599@lupinelane.com
SUMMARY:Feast of Gratitude - Class Performances and Feast
DESCRIPTION:
URL:https://lupinelane.com/event/feast-of-gratitude-class-performances-and-feast/
CATEGORIES:Activities
END:VEVENT
BEGIN:VEVENT
DTSTART;TZID=America/Chicago:20231117T150000
DTEND;TZID=America/Chicago:20231117T154500
DTSTAMP:20260421T181458
CREATED:20231204T173918Z
LAST-MODIFIED:20231204T173918Z
UID:17879-1700233200-1700235900@lupinelane.com
SUMMARY:Hoop Dreams: Basketball with Cameron
DESCRIPTION:
URL:https://lupinelane.com/event/hoop-dreams-basketball-with-cameron-8/
CATEGORIES:Activities
END:VEVENT
BEGIN:VEVENT
DTSTART;TZID=America/Chicago:20231117T150000
DTEND;TZID=America/Chicago:20231117T154500
DTSTAMP:20260421T181458
CREATED:20231204T173951Z
LAST-MODIFIED:20231204T173951Z
UID:17923-1700233200-1700235900@lupinelane.com
SUMMARY:Full STEAM Ahead!
DESCRIPTION:
URL:https://lupinelane.com/event/full-steam-ahead-8/
CATEGORIES:Activities
END:VEVENT
BEGIN:VEVENT
DTSTART;TZID=America/Chicago:20231127T150000
DTEND;TZID=America/Chicago:20231127T154500
DTSTAMP:20260421T181458
CREATED:20231204T173840Z
LAST-MODIFIED:20231204T173840Z
UID:17812-1701097200-1701099900@lupinelane.com
SUMMARY:Soccer Shots
DESCRIPTION:
URL:https://lupinelane.com/event/soccer-shots-9/
CATEGORIES:Activities
END:VEVENT
BEGIN:VEVENT
DTSTART;TZID=America/Chicago:20231127T150000
DTEND;TZID=America/Chicago:20231127T154500
DTSTAMP:20260421T181458
CREATED:20231204T173858Z
LAST-MODIFIED:20231204T173858Z
UID:17845-1701097200-1701099900@lupinelane.com
SUMMARY:Storybook Ballet
DESCRIPTION:
URL:https://lupinelane.com/event/storybook-ballet-9/
CATEGORIES:Activities
END:VEVENT
BEGIN:VEVENT
DTSTART;TZID=America/Chicago:20231128T150000
DTEND;TZID=America/Chicago:20231128T154500
DTSTAMP:20260421T181458
CREATED:20231204T173905Z
LAST-MODIFIED:20231204T173905Z
UID:17857-1701183600-1701186300@lupinelane.com
SUMMARY:Imagination Theatre
DESCRIPTION:
URL:https://lupinelane.com/event/imagination-theatre-10/
CATEGORIES:Activities
END:VEVENT
BEGIN:VEVENT
DTSTART;TZID=America/Chicago:20231128T150000
DTEND;TZID=America/Chicago:20231128T154500
DTSTAMP:20260421T181458
CREATED:20231204T173945Z
LAST-MODIFIED:20231204T173945Z
UID:17914-1701183600-1701186300@lupinelane.com
SUMMARY:Yoga: Mindfulness and Movement
DESCRIPTION:
URL:https://lupinelane.com/event/yoga-mindfulness-and-movement-10/
CATEGORIES:Activities
END:VEVENT
BEGIN:VEVENT
DTSTART;TZID=America/Chicago:20231129T150000
DTEND;TZID=America/Chicago:20231129T154500
DTSTAMP:20260421T181458
CREATED:20231204T173852Z
LAST-MODIFIED:20231204T173852Z
UID:17834-1701270000-1701272700@lupinelane.com
SUMMARY:The Heart of Art
DESCRIPTION:
URL:https://lupinelane.com/event/the-heart-of-art-10/
CATEGORIES:Activities
END:VEVENT
BEGIN:VEVENT
DTSTART;TZID=America/Chicago:20231129T150000
DTEND;TZID=America/Chicago:20231129T154500
DTSTAMP:20260421T181458
CREATED:20231204T173937Z
LAST-MODIFIED:20231204T173937Z
UID:17903-1701270000-1701272700@lupinelane.com
SUMMARY:Tumbling Down the Lane
DESCRIPTION:
URL:https://lupinelane.com/event/tumbling-down-the-lane-10/
CATEGORIES:Activities
END:VEVENT
BEGIN:VEVENT
DTSTART;TZID=America/Chicago:20231130T150000
DTEND;TZID=America/Chicago:20231130T154500
DTSTAMP:20260421T181458
CREATED:20231204T173855Z
LAST-MODIFIED:20231204T173855Z
UID:17838-1701356400-1701359100@lupinelane.com
SUMMARY:Hip Hop Hooray!: Exploring Modern Dance
DESCRIPTION:
URL:https://lupinelane.com/event/hip-hop-hooray-exploring-modern-dance-10/
CATEGORIES:Activities
END:VEVENT
BEGIN:VEVENT
DTSTART;TZID=America/Chicago:20231130T150000
DTEND;TZID=America/Chicago:20231130T154500
DTSTAMP:20260421T181458
CREATED:20231204T173919Z
LAST-MODIFIED:20231204T173919Z
UID:17882-1701356400-1701359100@lupinelane.com
SUMMARY:Sportball
DESCRIPTION:
URL:https://lupinelane.com/event/sportball-10/
CATEGORIES:Activities
END:VEVENT
BEGIN:VEVENT
DTSTART;TZID=America/Chicago:20231130T150000
DTEND;TZID=America/Chicago:20231130T154500
DTSTAMP:20260421T181458
CREATED:20231204T173939Z
LAST-MODIFIED:20231204T173939Z
UID:17907-1701356400-1701359100@lupinelane.com
SUMMARY:The Music in Me
DESCRIPTION:
URL:https://lupinelane.com/event/the-music-in-me-10/
CATEGORIES:Activities
END:VEVENT
BEGIN:VEVENT
DTSTART;VALUE=DATE:20231201
DTEND;VALUE=DATE:20231202
DTSTAMP:20260421T181458
CREATED:20231104T060003Z
LAST-MODIFIED:20231104T060003Z
UID:17765-1701388800-1701475199@lupinelane.com
SUMMARY:Angel Tree Gifts Due
DESCRIPTION:
URL:https://lupinelane.com/event/angel-tree-gifts-due/
CATEGORIES:Activities
END:VEVENT
BEGIN:VEVENT
DTSTART;TZID=America/Chicago:20231201T150000
DTEND;TZID=America/Chicago:20231201T154500
DTSTAMP:20260421T181458
CREATED:20231204T173919Z
LAST-MODIFIED:20231204T173919Z
UID:17881-1701442800-1701445500@lupinelane.com
SUMMARY:Hoop Dreams: Basketball with Cameron
DESCRIPTION:
URL:https://lupinelane.com/event/hoop-dreams-basketball-with-cameron-9/
CATEGORIES:Activities
END:VEVENT
BEGIN:VEVENT
DTSTART;TZID=America/Chicago:20231201T150000
DTEND;TZID=America/Chicago:20231201T154500
DTSTAMP:20260421T181458
CREATED:20231204T173952Z
LAST-MODIFIED:20231204T173952Z
UID:17924-1701442800-1701445500@lupinelane.com
SUMMARY:Full STEAM Ahead!
DESCRIPTION:
URL:https://lupinelane.com/event/full-steam-ahead-9/
CATEGORIES:Activities
END:VEVENT
BEGIN:VEVENT
DTSTART;TZID=America/Chicago:20231204T150000
DTEND;TZID=America/Chicago:20231204T154500
DTSTAMP:20260421T181458
CREATED:20231204T173841Z
LAST-MODIFIED:20231204T173841Z
UID:17813-1701702000-1701704700@lupinelane.com
SUMMARY:Soccer Shots
DESCRIPTION:
URL:https://lupinelane.com/event/soccer-shots-10/
CATEGORIES:Activities
END:VEVENT
BEGIN:VEVENT
DTSTART;TZID=America/Chicago:20231204T150000
DTEND;TZID=America/Chicago:20231204T154500
DTSTAMP:20260421T181458
CREATED:20231204T173859Z
LAST-MODIFIED:20231204T173859Z
UID:17846-1701702000-1701704700@lupinelane.com
SUMMARY:Storybook Ballet
DESCRIPTION:
URL:https://lupinelane.com/event/storybook-ballet-10/
CATEGORIES:Activities
END:VEVENT
BEGIN:VEVENT
DTSTART;TZID=America/Chicago:20231205T150000
DTEND;TZID=America/Chicago:20231205T154500
DTSTAMP:20260421T181458
CREATED:20231204T173907Z
LAST-MODIFIED:20231204T173907Z
UID:17860-1701788400-1701791100@lupinelane.com
SUMMARY:Imagination Theatre
DESCRIPTION:
URL:https://lupinelane.com/event/imagination-theatre-11/
CATEGORIES:Activities
END:VEVENT
BEGIN:VEVENT
DTSTART;TZID=America/Chicago:20231205T150000
DTEND;TZID=America/Chicago:20231205T154500
DTSTAMP:20260421T181458
CREATED:20231204T173945Z
LAST-MODIFIED:20231204T173945Z
UID:17915-1701788400-1701791100@lupinelane.com
SUMMARY:Yoga: Mindfulness and Movement
DESCRIPTION:
URL:https://lupinelane.com/event/yoga-mindfulness-and-movement-11/
CATEGORIES:Activities
END:VEVENT
BEGIN:VEVENT
DTSTART;TZID=America/Chicago:20231206T150000
DTEND;TZID=America/Chicago:20231206T154500
DTSTAMP:20260421T181458
CREATED:20231204T173854Z
LAST-MODIFIED:20231204T173854Z
UID:17836-1701874800-1701877500@lupinelane.com
SUMMARY:The Heart of Art
DESCRIPTION:
URL:https://lupinelane.com/event/the-heart-of-art-11/
CATEGORIES:Activities
END:VEVENT
BEGIN:VEVENT
DTSTART;TZID=America/Chicago:20231206T150000
DTEND;TZID=America/Chicago:20231206T154500
DTSTAMP:20260421T181458
CREATED:20231204T173939Z
LAST-MODIFIED:20231204T173939Z
UID:17906-1701874800-1701877500@lupinelane.com
SUMMARY:Tumbling Down the Lane
DESCRIPTION:
URL:https://lupinelane.com/event/tumbling-down-the-lane-11/
CATEGORIES:Activities
END:VEVENT
END:VCALENDAR