BEGIN:VCALENDAR
VERSION:2.0
PRODID:-//Lupine Lane - ECPv6.15.20//NONSGML v1.0//EN
CALSCALE:GREGORIAN
METHOD:PUBLISH
X-WR-CALNAME:Lupine Lane
X-ORIGINAL-URL:https://lupinelane.com
X-WR-CALDESC:Events for Lupine Lane
REFRESH-INTERVAL;VALUE=DURATION:PT1H
X-Robots-Tag:noindex
X-PUBLISHED-TTL:PT1H
BEGIN:VTIMEZONE
TZID:America/Chicago
BEGIN:DAYLIGHT
TZOFFSETFROM:-0600
TZOFFSETTO:-0500
TZNAME:CDT
DTSTART:20240310T080000
END:DAYLIGHT
BEGIN:STANDARD
TZOFFSETFROM:-0500
TZOFFSETTO:-0600
TZNAME:CST
DTSTART:20241103T070000
END:STANDARD
BEGIN:DAYLIGHT
TZOFFSETFROM:-0600
TZOFFSETTO:-0500
TZNAME:CDT
DTSTART:20250309T080000
END:DAYLIGHT
BEGIN:STANDARD
TZOFFSETFROM:-0500
TZOFFSETTO:-0600
TZNAME:CST
DTSTART:20251102T070000
END:STANDARD
BEGIN:DAYLIGHT
TZOFFSETFROM:-0600
TZOFFSETTO:-0500
TZNAME:CDT
DTSTART:20260308T080000
END:DAYLIGHT
BEGIN:STANDARD
TZOFFSETFROM:-0500
TZOFFSETTO:-0600
TZNAME:CST
DTSTART:20261101T070000
END:STANDARD
END:VTIMEZONE
BEGIN:VEVENT
DTSTART;TZID=America/Chicago:20250224T150000
DTEND;TZID=America/Chicago:20250224T154500
DTSTAMP:20260420T111232
CREATED:20241213T080625Z
LAST-MODIFIED:20241213T080625Z
UID:22142-1740409200-1740411900@lupinelane.com
SUMMARY:The Heart of Art
DESCRIPTION:
URL:https://lupinelane.com/event/the-heart-of-art-38/
CATEGORIES:Activities
END:VEVENT
BEGIN:VEVENT
DTSTART;TZID=America/Chicago:20250224T150000
DTEND;TZID=America/Chicago:20250224T154500
DTSTAMP:20260420T111232
CREATED:20250101T080025Z
LAST-MODIFIED:20250101T080025Z
UID:22239-1740409200-1740411900@lupinelane.com
SUMMARY:Coding with Kids: My First Computer Skills
DESCRIPTION:
URL:https://lupinelane.com/event/coding-with-kids-my-first-computer-skills-4/
CATEGORIES:Activities
END:VEVENT
BEGIN:VEVENT
DTSTART;TZID=America/Chicago:20250225T150000
DTEND;TZID=America/Chicago:20250225T154500
DTSTAMP:20260420T111232
CREATED:20241213T080602Z
LAST-MODIFIED:20241213T080602Z
UID:22118-1740495600-1740498300@lupinelane.com
SUMMARY:Once Upon a Skill
DESCRIPTION:
URL:https://lupinelane.com/event/once-upon-a-skill-5/
CATEGORIES:Activities
END:VEVENT
BEGIN:VEVENT
DTSTART;TZID=America/Chicago:20250225T150000
DTEND;TZID=America/Chicago:20250225T154500
DTSTAMP:20260420T111232
CREATED:20241213T080638Z
LAST-MODIFIED:20241213T080638Z
UID:22156-1740495600-1740498300@lupinelane.com
SUMMARY:Champs Express Tumbling
DESCRIPTION:
URL:https://lupinelane.com/event/champs-express-tumbling-5/
CATEGORIES:Activities
END:VEVENT
BEGIN:VEVENT
DTSTART;TZID=America/Chicago:20250226T150000
DTEND;TZID=America/Chicago:20250226T154500
DTSTAMP:20260420T111232
CREATED:20241213T080449Z
LAST-MODIFIED:20241213T080449Z
UID:22052-1740582000-1740584700@lupinelane.com
SUMMARY:The Friendship Circle: A Social-Emotional Journey
DESCRIPTION:
URL:https://lupinelane.com/event/the-friendship-circle-a-social-emotional-journey-19/
CATEGORIES:Activities
END:VEVENT
BEGIN:VEVENT
DTSTART;TZID=America/Chicago:20250226T150000
DTEND;TZID=America/Chicago:20250226T154500
DTSTAMP:20260420T111232
CREATED:20241213T080521Z
LAST-MODIFIED:20241213T080521Z
UID:22079-1740582000-1740584700@lupinelane.com
SUMMARY:Ballet with KinderDance by Wendy
DESCRIPTION:
URL:https://lupinelane.com/event/ballet-with-kinderdance-by-wendy-15/
CATEGORIES:Activities
END:VEVENT
BEGIN:VEVENT
DTSTART;TZID=America/Chicago:20250226T150000
DTEND;TZID=America/Chicago:20250226T154500
DTSTAMP:20260420T111232
CREATED:20241213T080548Z
LAST-MODIFIED:20241213T080548Z
UID:22104-1740582000-1740584700@lupinelane.com
SUMMARY:The Friendship Circle: A Social Emotional Journey
DESCRIPTION:
URL:https://lupinelane.com/event/the-friendship-circle-a-social-emotional-journey-33/
CATEGORIES:Activities
END:VEVENT
BEGIN:VEVENT
DTSTART;TZID=America/Chicago:20250226T150000
DTEND;TZID=America/Chicago:20250226T154500
DTSTAMP:20260420T111232
CREATED:20241213T080652Z
LAST-MODIFIED:20241213T080652Z
UID:22170-1740582000-1740584700@lupinelane.com
SUMMARY:Mis Sueños: Spanish Language and Culture
DESCRIPTION:
URL:https://lupinelane.com/event/mis-suenos-spanish-language-and-culture-16/
CATEGORIES:Activities
END:VEVENT
BEGIN:VEVENT
DTSTART;TZID=America/Chicago:20250227T150000
DTEND;TZID=America/Chicago:20250227T154500
DTSTAMP:20260420T111232
CREATED:20241213T080434Z
LAST-MODIFIED:20241213T080434Z
UID:22038-1740668400-1740671100@lupinelane.com
SUMMARY:Yoga: Mindfulness and Movement
DESCRIPTION:
URL:https://lupinelane.com/event/yoga-mindfulness-and-movement-40/
CATEGORIES:Activities
END:VEVENT
BEGIN:VEVENT
DTSTART;TZID=America/Chicago:20250227T150000
DTEND;TZID=America/Chicago:20250227T154500
DTSTAMP:20260420T111232
CREATED:20241213T080502Z
LAST-MODIFIED:20241213T080502Z
UID:22065-1740668400-1740671100@lupinelane.com
SUMMARY:Sportball
DESCRIPTION:
URL:https://lupinelane.com/event/sportball-39/
CATEGORIES:Activities
END:VEVENT
BEGIN:VEVENT
DTSTART;TZID=America/Chicago:20250228T150000
DTEND;TZID=America/Chicago:20250228T154500
DTSTAMP:20260420T111232
CREATED:20241213T080615Z
LAST-MODIFIED:20241213T080615Z
UID:22131-1740754800-1740757500@lupinelane.com
SUMMARY:Austin Wildcat Wigglers Basketball
DESCRIPTION:
URL:https://lupinelane.com/event/austin-wildcat-wigglers-basketball-15/
CATEGORIES:Activities
END:VEVENT
BEGIN:VEVENT
DTSTART;TZID=America/Chicago:20250228T150000
DTEND;TZID=America/Chicago:20250228T154500
DTSTAMP:20260420T111232
CREATED:20241222T080026Z
LAST-MODIFIED:20241222T080026Z
UID:22211-1740754800-1740757500@lupinelane.com
SUMMARY:Inside Out: A Social Emotional Journey
DESCRIPTION:
URL:https://lupinelane.com/event/inside-out-a-social-emotional-journey-4/
CATEGORIES:Activities
END:VEVENT
BEGIN:VEVENT
DTSTART;TZID=America/Chicago:20250303T150000
DTEND;TZID=America/Chicago:20250303T154500
DTSTAMP:20260420T111232
CREATED:20241212T080213Z
LAST-MODIFIED:20241212T080213Z
UID:21833-1741014000-1741016700@lupinelane.com
SUMMARY:Soccer Shots
DESCRIPTION:
URL:https://lupinelane.com/event/soccer-shots-38/
CATEGORIES:Activities
END:VEVENT
BEGIN:VEVENT
DTSTART;TZID=America/Chicago:20250303T150000
DTEND;TZID=America/Chicago:20250303T154500
DTSTAMP:20260420T111232
CREATED:20241213T080626Z
LAST-MODIFIED:20241213T080626Z
UID:22143-1741014000-1741016700@lupinelane.com
SUMMARY:The Heart of Art
DESCRIPTION:
URL:https://lupinelane.com/event/the-heart-of-art-39/
CATEGORIES:Activities
END:VEVENT
BEGIN:VEVENT
DTSTART;TZID=America/Chicago:20250303T150000
DTEND;TZID=America/Chicago:20250303T154500
DTSTAMP:20260420T111232
CREATED:20250101T080026Z
LAST-MODIFIED:20250101T080026Z
UID:22240-1741014000-1741016700@lupinelane.com
SUMMARY:Coding with Kids: My First Computer Skills
DESCRIPTION:
URL:https://lupinelane.com/event/coding-with-kids-my-first-computer-skills-5/
CATEGORIES:Activities
END:VEVENT
BEGIN:VEVENT
DTSTART;TZID=America/Chicago:20250304T150000
DTEND;TZID=America/Chicago:20250304T154500
DTSTAMP:20260420T111232
CREATED:20241213T080603Z
LAST-MODIFIED:20241213T080603Z
UID:22119-1741100400-1741103100@lupinelane.com
SUMMARY:Once Upon a Skill
DESCRIPTION:
URL:https://lupinelane.com/event/once-upon-a-skill-6/
CATEGORIES:Activities
END:VEVENT
BEGIN:VEVENT
DTSTART;TZID=America/Chicago:20250304T150000
DTEND;TZID=America/Chicago:20250304T154500
DTSTAMP:20260420T111232
CREATED:20241213T080639Z
LAST-MODIFIED:20241213T080639Z
UID:22157-1741100400-1741103100@lupinelane.com
SUMMARY:Champs Express Tumbling
DESCRIPTION:
URL:https://lupinelane.com/event/champs-express-tumbling-6/
CATEGORIES:Activities
END:VEVENT
BEGIN:VEVENT
DTSTART;TZID=America/Chicago:20250305T150000
DTEND;TZID=America/Chicago:20250305T154500
DTSTAMP:20260420T111232
CREATED:20241213T080450Z
LAST-MODIFIED:20241213T080450Z
UID:22053-1741186800-1741189500@lupinelane.com
SUMMARY:The Friendship Circle: A Social-Emotional Journey
DESCRIPTION:
URL:https://lupinelane.com/event/the-friendship-circle-a-social-emotional-journey-20/
CATEGORIES:Activities
END:VEVENT
BEGIN:VEVENT
DTSTART;TZID=America/Chicago:20250305T150000
DTEND;TZID=America/Chicago:20250305T154500
DTSTAMP:20260420T111232
CREATED:20241213T080523Z
LAST-MODIFIED:20241213T080523Z
UID:22080-1741186800-1741189500@lupinelane.com
SUMMARY:Ballet with KinderDance by Wendy
DESCRIPTION:
URL:https://lupinelane.com/event/ballet-with-kinderdance-by-wendy-16/
CATEGORIES:Activities
END:VEVENT
BEGIN:VEVENT
DTSTART;TZID=America/Chicago:20250305T150000
DTEND;TZID=America/Chicago:20250305T154500
DTSTAMP:20260420T111232
CREATED:20241213T080549Z
LAST-MODIFIED:20241213T080549Z
UID:22105-1741186800-1741189500@lupinelane.com
SUMMARY:The Friendship Circle: A Social Emotional Journey
DESCRIPTION:
URL:https://lupinelane.com/event/the-friendship-circle-a-social-emotional-journey-34/
CATEGORIES:Activities
END:VEVENT
BEGIN:VEVENT
DTSTART;TZID=America/Chicago:20250305T150000
DTEND;TZID=America/Chicago:20250305T154500
DTSTAMP:20260420T111232
CREATED:20241213T080653Z
LAST-MODIFIED:20241213T080653Z
UID:22171-1741186800-1741189500@lupinelane.com
SUMMARY:Mis Sueños: Spanish Language and Culture
DESCRIPTION:
URL:https://lupinelane.com/event/mis-suenos-spanish-language-and-culture-17/
CATEGORIES:Activities
END:VEVENT
BEGIN:VEVENT
DTSTART;TZID=America/Chicago:20250306T150000
DTEND;TZID=America/Chicago:20250306T154500
DTSTAMP:20260420T111232
CREATED:20241213T080435Z
LAST-MODIFIED:20241213T080435Z
UID:22039-1741273200-1741275900@lupinelane.com
SUMMARY:Yoga: Mindfulness and Movement
DESCRIPTION:
URL:https://lupinelane.com/event/yoga-mindfulness-and-movement-41/
CATEGORIES:Activities
END:VEVENT
BEGIN:VEVENT
DTSTART;TZID=America/Chicago:20250306T150000
DTEND;TZID=America/Chicago:20250306T154500
DTSTAMP:20260420T111232
CREATED:20241213T080503Z
LAST-MODIFIED:20241213T080503Z
UID:22066-1741273200-1741275900@lupinelane.com
SUMMARY:Sportball
DESCRIPTION:
URL:https://lupinelane.com/event/sportball-40/
CATEGORIES:Activities
END:VEVENT
BEGIN:VEVENT
DTSTART;TZID=America/Chicago:20250307T150000
DTEND;TZID=America/Chicago:20250307T154500
DTSTAMP:20260420T111232
CREATED:20241213T080615Z
LAST-MODIFIED:20241213T080615Z
UID:22132-1741359600-1741362300@lupinelane.com
SUMMARY:Austin Wildcat Wigglers Basketball
DESCRIPTION:
URL:https://lupinelane.com/event/austin-wildcat-wigglers-basketball-16/
CATEGORIES:Activities
END:VEVENT
BEGIN:VEVENT
DTSTART;TZID=America/Chicago:20250307T150000
DTEND;TZID=America/Chicago:20250307T154500
DTSTAMP:20260420T111232
CREATED:20241222T080027Z
LAST-MODIFIED:20241222T080027Z
UID:22212-1741359600-1741362300@lupinelane.com
SUMMARY:Inside Out: A Social Emotional Journey
DESCRIPTION:
URL:https://lupinelane.com/event/inside-out-a-social-emotional-journey-5/
CATEGORIES:Activities
END:VEVENT
BEGIN:VEVENT
DTSTART;TZID=America/Chicago:20250310T150000
DTEND;TZID=America/Chicago:20250310T154500
DTSTAMP:20260420T111232
CREATED:20241212T080214Z
LAST-MODIFIED:20241212T080214Z
UID:21834-1741618800-1741621500@lupinelane.com
SUMMARY:Soccer Shots
DESCRIPTION:
URL:https://lupinelane.com/event/soccer-shots-39/
CATEGORIES:Activities
END:VEVENT
BEGIN:VEVENT
DTSTART;TZID=America/Chicago:20250310T150000
DTEND;TZID=America/Chicago:20250310T154500
DTSTAMP:20260420T111232
CREATED:20241213T080627Z
LAST-MODIFIED:20241213T080627Z
UID:22144-1741618800-1741621500@lupinelane.com
SUMMARY:The Heart of Art
DESCRIPTION:
URL:https://lupinelane.com/event/the-heart-of-art-40/
CATEGORIES:Activities
END:VEVENT
BEGIN:VEVENT
DTSTART;TZID=America/Chicago:20250310T150000
DTEND;TZID=America/Chicago:20250310T154500
DTSTAMP:20260420T111232
CREATED:20250101T080027Z
LAST-MODIFIED:20250101T080027Z
UID:22241-1741618800-1741621500@lupinelane.com
SUMMARY:Coding with Kids: My First Computer Skills
DESCRIPTION:
URL:https://lupinelane.com/event/coding-with-kids-my-first-computer-skills-6/
CATEGORIES:Activities
END:VEVENT
BEGIN:VEVENT
DTSTART;TZID=America/Chicago:20250311T150000
DTEND;TZID=America/Chicago:20250311T154500
DTSTAMP:20260420T111232
CREATED:20241213T080604Z
LAST-MODIFIED:20241213T080604Z
UID:22120-1741705200-1741707900@lupinelane.com
SUMMARY:Once Upon a Skill
DESCRIPTION:
URL:https://lupinelane.com/event/once-upon-a-skill-7/
CATEGORIES:Activities
END:VEVENT
BEGIN:VEVENT
DTSTART;TZID=America/Chicago:20250311T150000
DTEND;TZID=America/Chicago:20250311T154500
DTSTAMP:20260420T111232
CREATED:20241213T080640Z
LAST-MODIFIED:20241213T080640Z
UID:22158-1741705200-1741707900@lupinelane.com
SUMMARY:Champs Express Tumbling
DESCRIPTION:
URL:https://lupinelane.com/event/champs-express-tumbling-7/
CATEGORIES:Activities
END:VEVENT
END:VCALENDAR