BEGIN:VCALENDAR
VERSION:2.0
PRODID:-//Lupine Lane - ECPv6.15.20//NONSGML v1.0//EN
CALSCALE:GREGORIAN
METHOD:PUBLISH
X-ORIGINAL-URL:https://lupinelane.com
X-WR-CALDESC:Events for Lupine Lane
REFRESH-INTERVAL;VALUE=DURATION:PT1H
X-Robots-Tag:noindex
X-PUBLISHED-TTL:PT1H
BEGIN:VTIMEZONE
TZID:America/Chicago
BEGIN:DAYLIGHT
TZOFFSETFROM:-0600
TZOFFSETTO:-0500
TZNAME:CDT
DTSTART:20220313T080000
END:DAYLIGHT
BEGIN:STANDARD
TZOFFSETFROM:-0500
TZOFFSETTO:-0600
TZNAME:CST
DTSTART:20221106T070000
END:STANDARD
BEGIN:DAYLIGHT
TZOFFSETFROM:-0600
TZOFFSETTO:-0500
TZNAME:CDT
DTSTART:20230312T080000
END:DAYLIGHT
BEGIN:STANDARD
TZOFFSETFROM:-0500
TZOFFSETTO:-0600
TZNAME:CST
DTSTART:20231105T070000
END:STANDARD
BEGIN:DAYLIGHT
TZOFFSETFROM:-0600
TZOFFSETTO:-0500
TZNAME:CDT
DTSTART:20240310T080000
END:DAYLIGHT
BEGIN:STANDARD
TZOFFSETFROM:-0500
TZOFFSETTO:-0600
TZNAME:CST
DTSTART:20241103T070000
END:STANDARD
END:VTIMEZONE
BEGIN:VEVENT
DTSTART;TZID=America/Chicago:20231012T150000
DTEND;TZID=America/Chicago:20231012T154500
DTSTAMP:20260421T200226
CREATED:20231204T173848Z
LAST-MODIFIED:20231204T173848Z
UID:17827-1697122800-1697125500@lupinelane.com
SUMMARY:Hip Hop Hooray!: Exploring Modern Dance
DESCRIPTION:
URL:https://lupinelane.com/event/hip-hop-hooray-exploring-modern-dance-4/
CATEGORIES:Activities
END:VEVENT
BEGIN:VEVENT
DTSTART;TZID=America/Chicago:20231012T150000
DTEND;TZID=America/Chicago:20231012T154500
DTSTAMP:20260421T200226
CREATED:20231204T173912Z
LAST-MODIFIED:20231204T173912Z
UID:17870-1697122800-1697125500@lupinelane.com
SUMMARY:Sportball
DESCRIPTION:
URL:https://lupinelane.com/event/sportball-4/
CATEGORIES:Activities
END:VEVENT
BEGIN:VEVENT
DTSTART;TZID=America/Chicago:20231012T150000
DTEND;TZID=America/Chicago:20231012T154500
DTSTAMP:20260421T200226
CREATED:20231204T173929Z
LAST-MODIFIED:20231204T173929Z
UID:17896-1697122800-1697125500@lupinelane.com
SUMMARY:The Music in Me
DESCRIPTION:
URL:https://lupinelane.com/event/the-music-in-me-4/
CATEGORIES:Activities
END:VEVENT
BEGIN:VEVENT
DTSTART;TZID=America/Chicago:20231013T150000
DTEND;TZID=America/Chicago:20231013T154500
DTSTAMP:20260421T200226
CREATED:20231204T173912Z
LAST-MODIFIED:20231204T173912Z
UID:17871-1697209200-1697211900@lupinelane.com
SUMMARY:Hoop Dreams: Basketball with Cameron
DESCRIPTION:
URL:https://lupinelane.com/event/hoop-dreams-basketball-with-cameron-4/
CATEGORIES:Activities
END:VEVENT
BEGIN:VEVENT
DTSTART;TZID=America/Chicago:20231013T150000
DTEND;TZID=America/Chicago:20231013T154500
DTSTAMP:20260421T200226
CREATED:20231204T173948Z
LAST-MODIFIED:20231204T173948Z
UID:17919-1697209200-1697211900@lupinelane.com
SUMMARY:Full STEAM Ahead!
DESCRIPTION:
URL:https://lupinelane.com/event/full-steam-ahead-4/
CATEGORIES:Activities
END:VEVENT
BEGIN:VEVENT
DTSTART;TZID=America/Chicago:20231016T150000
DTEND;TZID=America/Chicago:20231016T154500
DTSTAMP:20260421T200226
CREATED:20231204T173833Z
LAST-MODIFIED:20231204T173833Z
UID:17807-1697468400-1697471100@lupinelane.com
SUMMARY:Soccer Shots
DESCRIPTION:
URL:https://lupinelane.com/event/soccer-shots-4/
CATEGORIES:Activities
END:VEVENT
BEGIN:VEVENT
DTSTART;TZID=America/Chicago:20231016T150000
DTEND;TZID=America/Chicago:20231016T154500
DTSTAMP:20260421T200226
CREATED:20231204T173856Z
LAST-MODIFIED:20231204T173856Z
UID:17840-1697468400-1697471100@lupinelane.com
SUMMARY:Storybook Ballet
DESCRIPTION:
URL:https://lupinelane.com/event/storybook-ballet-4/
CATEGORIES:Activities
END:VEVENT
BEGIN:VEVENT
DTSTART;TZID=America/Chicago:20231017T150000
DTEND;TZID=America/Chicago:20231017T154500
DTSTAMP:20260421T200226
CREATED:20231204T173902Z
LAST-MODIFIED:20231204T173902Z
UID:17852-1697554800-1697557500@lupinelane.com
SUMMARY:Imagination Theatre
DESCRIPTION:
URL:https://lupinelane.com/event/imagination-theatre-5/
CATEGORIES:Activities
END:VEVENT
BEGIN:VEVENT
DTSTART;TZID=America/Chicago:20231017T150000
DTEND;TZID=America/Chicago:20231017T154500
DTSTAMP:20260421T200226
CREATED:20231204T173940Z
LAST-MODIFIED:20231204T173940Z
UID:17909-1697554800-1697557500@lupinelane.com
SUMMARY:Yoga: Mindfulness and Movement
DESCRIPTION:
URL:https://lupinelane.com/event/yoga-mindfulness-and-movement-5/
CATEGORIES:Activities
END:VEVENT
BEGIN:VEVENT
DTSTART;TZID=America/Chicago:20231018T150000
DTEND;TZID=America/Chicago:20231018T154500
DTSTAMP:20260421T200226
CREATED:20231204T173847Z
LAST-MODIFIED:20231204T173847Z
UID:17824-1697641200-1697643900@lupinelane.com
SUMMARY:The Heart of Art
DESCRIPTION:
URL:https://lupinelane.com/event/the-heart-of-art-5/
CATEGORIES:Activities
END:VEVENT
BEGIN:VEVENT
DTSTART;TZID=America/Chicago:20231018T150000
DTEND;TZID=America/Chicago:20231018T154500
DTSTAMP:20260421T200226
CREATED:20231204T173928Z
LAST-MODIFIED:20231204T173928Z
UID:17893-1697641200-1697643900@lupinelane.com
SUMMARY:Tumbling Down the Lane
DESCRIPTION:
URL:https://lupinelane.com/event/tumbling-down-the-lane-5/
CATEGORIES:Activities
END:VEVENT
BEGIN:VEVENT
DTSTART;TZID=America/Chicago:20231019T150000
DTEND;TZID=America/Chicago:20231019T154500
DTSTAMP:20260421T200226
CREATED:20231204T173850Z
LAST-MODIFIED:20231204T173850Z
UID:17829-1697727600-1697730300@lupinelane.com
SUMMARY:Hip Hop Hooray!: Exploring Modern Dance
DESCRIPTION:
URL:https://lupinelane.com/event/hip-hop-hooray-exploring-modern-dance-5/
CATEGORIES:Activities
END:VEVENT
BEGIN:VEVENT
DTSTART;TZID=America/Chicago:20231019T150000
DTEND;TZID=America/Chicago:20231019T154500
DTSTAMP:20260421T200226
CREATED:20231204T173913Z
LAST-MODIFIED:20231204T173913Z
UID:17872-1697727600-1697730300@lupinelane.com
SUMMARY:Sportball
DESCRIPTION:
URL:https://lupinelane.com/event/sportball-5/
CATEGORIES:Activities
END:VEVENT
BEGIN:VEVENT
DTSTART;TZID=America/Chicago:20231019T150000
DTEND;TZID=America/Chicago:20231019T154500
DTSTAMP:20260421T200226
CREATED:20231204T173931Z
LAST-MODIFIED:20231204T173931Z
UID:17898-1697727600-1697730300@lupinelane.com
SUMMARY:The Music in Me
DESCRIPTION:
URL:https://lupinelane.com/event/the-music-in-me-5/
CATEGORIES:Activities
END:VEVENT
BEGIN:VEVENT
DTSTART;TZID=America/Chicago:20231020T150000
DTEND;TZID=America/Chicago:20231020T154500
DTSTAMP:20260421T200226
CREATED:20231204T173914Z
LAST-MODIFIED:20231204T173914Z
UID:17873-1697814000-1697816700@lupinelane.com
SUMMARY:Hoop Dreams: Basketball with Cameron
DESCRIPTION:
URL:https://lupinelane.com/event/hoop-dreams-basketball-with-cameron-5/
CATEGORIES:Activities
END:VEVENT
BEGIN:VEVENT
DTSTART;TZID=America/Chicago:20231020T150000
DTEND;TZID=America/Chicago:20231020T154500
DTSTAMP:20260421T200226
CREATED:20231204T173948Z
LAST-MODIFIED:20231204T173948Z
UID:17920-1697814000-1697816700@lupinelane.com
SUMMARY:Full STEAM Ahead!
DESCRIPTION:
URL:https://lupinelane.com/event/full-steam-ahead-5/
CATEGORIES:Activities
END:VEVENT
BEGIN:VEVENT
DTSTART;TZID=America/Chicago:20231023T150000
DTEND;TZID=America/Chicago:20231023T154500
DTSTAMP:20260421T200226
CREATED:20231204T173834Z
LAST-MODIFIED:20231204T173834Z
UID:17808-1698073200-1698075900@lupinelane.com
SUMMARY:Soccer Shots
DESCRIPTION:
URL:https://lupinelane.com/event/soccer-shots-5/
CATEGORIES:Activities
END:VEVENT
BEGIN:VEVENT
DTSTART;TZID=America/Chicago:20231023T150000
DTEND;TZID=America/Chicago:20231023T154500
DTSTAMP:20260421T200226
CREATED:20231204T173856Z
LAST-MODIFIED:20231204T173856Z
UID:17841-1698073200-1698075900@lupinelane.com
SUMMARY:Storybook Ballet
DESCRIPTION:
URL:https://lupinelane.com/event/storybook-ballet-5/
CATEGORIES:Activities
END:VEVENT
BEGIN:VEVENT
DTSTART;TZID=America/Chicago:20231024T150000
DTEND;TZID=America/Chicago:20231024T154500
DTSTAMP:20260421T200226
CREATED:20231204T173903Z
LAST-MODIFIED:20231204T173903Z
UID:17853-1698159600-1698162300@lupinelane.com
SUMMARY:Imagination Theatre
DESCRIPTION:
URL:https://lupinelane.com/event/imagination-theatre-6/
CATEGORIES:Activities
END:VEVENT
BEGIN:VEVENT
DTSTART;TZID=America/Chicago:20231024T150000
DTEND;TZID=America/Chicago:20231024T154500
DTSTAMP:20260421T200226
CREATED:20231204T173941Z
LAST-MODIFIED:20231204T173941Z
UID:17910-1698159600-1698162300@lupinelane.com
SUMMARY:Yoga: Mindfulness and Movement
DESCRIPTION:
URL:https://lupinelane.com/event/yoga-mindfulness-and-movement-6/
CATEGORIES:Activities
END:VEVENT
BEGIN:VEVENT
DTSTART;VALUE=DATE:20231025
DTEND;VALUE=DATE:20231028
DTSTAMP:20260421T200226
CREATED:20231016T132917Z
LAST-MODIFIED:20231016T132917Z
UID:17708-1698192000-1698451199@lupinelane.com
SUMMARY:Book Fair
DESCRIPTION:
URL:https://lupinelane.com/event/book-fair/
CATEGORIES:Activities
END:VEVENT
BEGIN:VEVENT
DTSTART;TZID=America/Chicago:20231025T150000
DTEND;TZID=America/Chicago:20231025T154500
DTSTAMP:20260421T200226
CREATED:20231204T173848Z
LAST-MODIFIED:20231204T173848Z
UID:17826-1698246000-1698248700@lupinelane.com
SUMMARY:The Heart of Art
DESCRIPTION:
URL:https://lupinelane.com/event/the-heart-of-art-6/
CATEGORIES:Activities
END:VEVENT
BEGIN:VEVENT
DTSTART;TZID=America/Chicago:20231025T150000
DTEND;TZID=America/Chicago:20231025T154500
DTSTAMP:20260421T200226
CREATED:20231204T173929Z
LAST-MODIFIED:20231204T173929Z
UID:17895-1698246000-1698248700@lupinelane.com
SUMMARY:Tumbling Down the Lane
DESCRIPTION:
URL:https://lupinelane.com/event/tumbling-down-the-lane-6/
CATEGORIES:Activities
END:VEVENT
BEGIN:VEVENT
DTSTART;TZID=America/Chicago:20231026T150000
DTEND;TZID=America/Chicago:20231026T154500
DTSTAMP:20260421T200226
CREATED:20231204T173851Z
LAST-MODIFIED:20231204T173851Z
UID:17831-1698332400-1698335100@lupinelane.com
SUMMARY:Hip Hop Hooray!: Exploring Modern Dance
DESCRIPTION:
URL:https://lupinelane.com/event/hip-hop-hooray-exploring-modern-dance-6/
CATEGORIES:Activities
END:VEVENT
BEGIN:VEVENT
DTSTART;TZID=America/Chicago:20231026T150000
DTEND;TZID=America/Chicago:20231026T154500
DTSTAMP:20260421T200226
CREATED:20231204T173914Z
LAST-MODIFIED:20231204T173914Z
UID:17874-1698332400-1698335100@lupinelane.com
SUMMARY:Sportball
DESCRIPTION:
URL:https://lupinelane.com/event/sportball-6/
CATEGORIES:Activities
END:VEVENT
BEGIN:VEVENT
DTSTART;TZID=America/Chicago:20231026T150000
DTEND;TZID=America/Chicago:20231026T154500
DTSTAMP:20260421T200226
CREATED:20231204T173932Z
LAST-MODIFIED:20231204T173932Z
UID:17900-1698332400-1698335100@lupinelane.com
SUMMARY:The Music in Me
DESCRIPTION:
URL:https://lupinelane.com/event/the-music-in-me-6/
CATEGORIES:Activities
END:VEVENT
BEGIN:VEVENT
DTSTART;TZID=America/Chicago:20231027T153000
DTEND;TZID=America/Chicago:20231027T170000
DTSTAMP:20260421T200226
CREATED:20231023T151135Z
LAST-MODIFIED:20231023T151135Z
UID:17650-1698420600-1698426000@lupinelane.com
SUMMARY:Fall Fest
DESCRIPTION: 
URL:https://lupinelane.com/event/fall-fest/
CATEGORIES:Activities
END:VEVENT
BEGIN:VEVENT
DTSTART;TZID=America/Chicago:20231030T150000
DTEND;TZID=America/Chicago:20231030T154500
DTSTAMP:20260421T200226
CREATED:20231204T173836Z
LAST-MODIFIED:20231204T173836Z
UID:17809-1698678000-1698680700@lupinelane.com
SUMMARY:Soccer Shots
DESCRIPTION:
URL:https://lupinelane.com/event/soccer-shots-6/
CATEGORIES:Activities
END:VEVENT
BEGIN:VEVENT
DTSTART;TZID=America/Chicago:20231030T150000
DTEND;TZID=America/Chicago:20231030T154500
DTSTAMP:20260421T200226
CREATED:20231204T173857Z
LAST-MODIFIED:20231204T173857Z
UID:17842-1698678000-1698680700@lupinelane.com
SUMMARY:Storybook Ballet
DESCRIPTION:
URL:https://lupinelane.com/event/storybook-ballet-6/
CATEGORIES:Activities
END:VEVENT
BEGIN:VEVENT
DTSTART;VALUE=DATE:20231031
DTEND;VALUE=DATE:20231101
DTSTAMP:20260421T200226
CREATED:20231016T132920Z
LAST-MODIFIED:20231016T132920Z
UID:17710-1698710400-1698796799@lupinelane.com
SUMMARY:School Wide Tricks and Treats!
DESCRIPTION:
URL:https://lupinelane.com/event/school-wide-tricks-and-treats/
CATEGORIES:Activities
END:VEVENT
END:VCALENDAR