BEGIN:VCALENDAR
VERSION:2.0
PRODID:-//Lupine Lane - ECPv6.15.20//NONSGML v1.0//EN
CALSCALE:GREGORIAN
METHOD:PUBLISH
X-ORIGINAL-URL:https://lupinelane.com
X-WR-CALDESC:Events for Lupine Lane
REFRESH-INTERVAL;VALUE=DURATION:PT1H
X-Robots-Tag:noindex
X-PUBLISHED-TTL:PT1H
BEGIN:VTIMEZONE
TZID:America/Chicago
BEGIN:DAYLIGHT
TZOFFSETFROM:-0600
TZOFFSETTO:-0500
TZNAME:CDT
DTSTART:20230312T080000
END:DAYLIGHT
BEGIN:STANDARD
TZOFFSETFROM:-0500
TZOFFSETTO:-0600
TZNAME:CST
DTSTART:20231105T070000
END:STANDARD
BEGIN:DAYLIGHT
TZOFFSETFROM:-0600
TZOFFSETTO:-0500
TZNAME:CDT
DTSTART:20240310T080000
END:DAYLIGHT
BEGIN:STANDARD
TZOFFSETFROM:-0500
TZOFFSETTO:-0600
TZNAME:CST
DTSTART:20241103T070000
END:STANDARD
BEGIN:DAYLIGHT
TZOFFSETFROM:-0600
TZOFFSETTO:-0500
TZNAME:CDT
DTSTART:20250309T080000
END:DAYLIGHT
BEGIN:STANDARD
TZOFFSETFROM:-0500
TZOFFSETTO:-0600
TZNAME:CST
DTSTART:20251102T070000
END:STANDARD
END:VTIMEZONE
BEGIN:VEVENT
DTSTART;TZID=America/Chicago:20240201T150000
DTEND;TZID=America/Chicago:20240201T154500
DTSTAMP:20260421T130048
CREATED:20240307T080032Z
LAST-MODIFIED:20240307T080032Z
UID:19552-1706799600-1706802300@lupinelane.com
SUMMARY:Sportball
DESCRIPTION:
URL:https://lupinelane.com/event/sportball-13/
CATEGORIES:Activities
END:VEVENT
BEGIN:VEVENT
DTSTART;TZID=America/Chicago:20240202T150000
DTEND;TZID=America/Chicago:20240202T154500
DTSTAMP:20260421T130048
CREATED:20240108T070103Z
LAST-MODIFIED:20240108T070103Z
UID:18167-1706886000-1706888700@lupinelane.com
SUMMARY:The Heart of Art
DESCRIPTION:
URL:https://lupinelane.com/event/the-heart-of-art-14/
CATEGORIES:Activities
END:VEVENT
BEGIN:VEVENT
DTSTART;TZID=America/Chicago:20240202T150000
DTEND;TZID=America/Chicago:20240202T154500
DTSTAMP:20260421T130048
CREATED:20240108T070112Z
LAST-MODIFIED:20240108T070112Z
UID:18180-1706886000-1706888700@lupinelane.com
SUMMARY:Fizzle\, Bubble\, Pop & WOW!: Science
DESCRIPTION:
URL:https://lupinelane.com/event/fizzle-bubble-pop-wow-science-3/
CATEGORIES:Activities
END:VEVENT
BEGIN:VEVENT
DTSTART;TZID=America/Chicago:20240205T150000
DTEND;TZID=America/Chicago:20240205T154500
DTSTAMP:20260421T130048
CREATED:20231204T173923Z
LAST-MODIFIED:20231204T173923Z
UID:17885-1707145200-1707147900@lupinelane.com
SUMMARY:Soccer Shots
DESCRIPTION:
URL:https://lupinelane.com/event/soccer-shots-13/
CATEGORIES:Activities
END:VEVENT
BEGIN:VEVENT
DTSTART;TZID=America/Chicago:20240205T150000
DTEND;TZID=America/Chicago:20240205T154500
DTSTAMP:20260421T130048
CREATED:20240117T070032Z
LAST-MODIFIED:20240117T070032Z
UID:18613-1707145200-1707147900@lupinelane.com
SUMMARY:Imagination Theatre
DESCRIPTION:
URL:https://lupinelane.com/event/imagination-theatre-14/
CATEGORIES:Activities
END:VEVENT
BEGIN:VEVENT
DTSTART;TZID=America/Chicago:20240206T150000
DTEND;TZID=America/Chicago:20240206T154500
DTSTAMP:20260421T130048
CREATED:20231204T174009Z
LAST-MODIFIED:20231204T174009Z
UID:17948-1707231600-1707234300@lupinelane.com
SUMMARY:Hoop Dreams: Basketball with Cameron
DESCRIPTION:
URL:https://lupinelane.com/event/hoop-dreams-basketball-with-cameron-13/
CATEGORIES:Activities
END:VEVENT
BEGIN:VEVENT
DTSTART;TZID=America/Chicago:20240206T150000
DTEND;TZID=America/Chicago:20240206T154500
DTSTAMP:20260421T130048
CREATED:20231213T070021Z
LAST-MODIFIED:20231213T070021Z
UID:18112-1707231600-1707234300@lupinelane.com
SUMMARY:Yoga: Mindfulness and Movement
DESCRIPTION:
URL:https://lupinelane.com/event/yoga-mindfulness-and-movement-14/
CATEGORIES:Activities
END:VEVENT
BEGIN:VEVENT
DTSTART;TZID=America/Chicago:20240207T150000
DTEND;TZID=America/Chicago:20240207T154500
DTSTAMP:20260421T130048
CREATED:20240123T070020Z
LAST-MODIFIED:20240123T070020Z
UID:18807-1707318000-1707320700@lupinelane.com
SUMMARY:Full STEAM Ahead!
DESCRIPTION:
URL:https://lupinelane.com/event/full-steam-ahead-13/
CATEGORIES:Activities
END:VEVENT
BEGIN:VEVENT
DTSTART;TZID=America/Chicago:20240207T150000
DTEND;TZID=America/Chicago:20240207T154500
DTSTAMP:20260421T130048
CREATED:20240220T192914Z
LAST-MODIFIED:20240220T192914Z
UID:19301-1707318000-1707320700@lupinelane.com
SUMMARY:The Friendship Circle - A Social Emotional Journey
DESCRIPTION:
URL:https://lupinelane.com/event/the-friendship-circle-a-social-emotional-journey-3/
CATEGORIES:Activities
END:VEVENT
BEGIN:VEVENT
DTSTART;TZID=America/Chicago:20240208T150000
DTEND;TZID=America/Chicago:20240208T154500
DTSTAMP:20260421T130048
CREATED:20240120T070022Z
LAST-MODIFIED:20240120T070022Z
UID:18779-1707404400-1707407100@lupinelane.com
SUMMARY:Tumblinas
DESCRIPTION:
URL:https://lupinelane.com/event/tumblinas-3/
CATEGORIES:Activities
END:VEVENT
BEGIN:VEVENT
DTSTART;TZID=America/Chicago:20240208T150000
DTEND;TZID=America/Chicago:20240208T154500
DTSTAMP:20260421T130048
CREATED:20240307T080033Z
LAST-MODIFIED:20240307T080033Z
UID:19553-1707404400-1707407100@lupinelane.com
SUMMARY:Sportball
DESCRIPTION:
URL:https://lupinelane.com/event/sportball-14/
CATEGORIES:Activities
END:VEVENT
BEGIN:VEVENT
DTSTART;TZID=America/Chicago:20240209T150000
DTEND;TZID=America/Chicago:20240209T154500
DTSTAMP:20260421T130048
CREATED:20240108T070104Z
LAST-MODIFIED:20240108T070104Z
UID:18168-1707490800-1707493500@lupinelane.com
SUMMARY:The Heart of Art
DESCRIPTION:
URL:https://lupinelane.com/event/the-heart-of-art-15/
CATEGORIES:Activities
END:VEVENT
BEGIN:VEVENT
DTSTART;TZID=America/Chicago:20240209T150000
DTEND;TZID=America/Chicago:20240209T154500
DTSTAMP:20260421T130048
CREATED:20240108T070112Z
LAST-MODIFIED:20240108T070112Z
UID:18181-1707490800-1707493500@lupinelane.com
SUMMARY:Fizzle\, Bubble\, Pop & WOW!: Science
DESCRIPTION:
URL:https://lupinelane.com/event/fizzle-bubble-pop-wow-science-4/
CATEGORIES:Activities
END:VEVENT
BEGIN:VEVENT
DTSTART;TZID=America/Chicago:20240212T150000
DTEND;TZID=America/Chicago:20240212T154500
DTSTAMP:20260421T130048
CREATED:20231204T173925Z
LAST-MODIFIED:20231204T173925Z
UID:17888-1707750000-1707752700@lupinelane.com
SUMMARY:Soccer Shots
DESCRIPTION:
URL:https://lupinelane.com/event/soccer-shots-14/
CATEGORIES:Activities
END:VEVENT
BEGIN:VEVENT
DTSTART;TZID=America/Chicago:20240212T150000
DTEND;TZID=America/Chicago:20240212T154500
DTSTAMP:20260421T130049
CREATED:20240117T070033Z
LAST-MODIFIED:20240117T070033Z
UID:18614-1707750000-1707752700@lupinelane.com
SUMMARY:Imagination Theatre
DESCRIPTION:
URL:https://lupinelane.com/event/imagination-theatre-15/
CATEGORIES:Activities
END:VEVENT
BEGIN:VEVENT
DTSTART;TZID=America/Chicago:20240213T150000
DTEND;TZID=America/Chicago:20240213T154500
DTSTAMP:20260421T130049
CREATED:20231204T174009Z
LAST-MODIFIED:20231204T174009Z
UID:17949-1707836400-1707839100@lupinelane.com
SUMMARY:Hoop Dreams: Basketball with Cameron
DESCRIPTION:
URL:https://lupinelane.com/event/hoop-dreams-basketball-with-cameron-14/
CATEGORIES:Activities
END:VEVENT
BEGIN:VEVENT
DTSTART;TZID=America/Chicago:20240213T150000
DTEND;TZID=America/Chicago:20240213T154500
DTSTAMP:20260421T130049
CREATED:20231213T070021Z
LAST-MODIFIED:20231213T070021Z
UID:18113-1707836400-1707839100@lupinelane.com
SUMMARY:Yoga: Mindfulness and Movement
DESCRIPTION:
URL:https://lupinelane.com/event/yoga-mindfulness-and-movement-15/
CATEGORIES:Activities
END:VEVENT
BEGIN:VEVENT
DTSTART;TZID=America/Chicago:20240214T150000
DTEND;TZID=America/Chicago:20240214T154500
DTSTAMP:20260421T130049
CREATED:20240123T070021Z
LAST-MODIFIED:20240123T070021Z
UID:18808-1707922800-1707925500@lupinelane.com
SUMMARY:Full STEAM Ahead!
DESCRIPTION:
URL:https://lupinelane.com/event/full-steam-ahead-14/
CATEGORIES:Activities
END:VEVENT
BEGIN:VEVENT
DTSTART;TZID=America/Chicago:20240214T150000
DTEND;TZID=America/Chicago:20240214T154500
DTSTAMP:20260421T130049
CREATED:20240220T192915Z
LAST-MODIFIED:20240220T192915Z
UID:19302-1707922800-1707925500@lupinelane.com
SUMMARY:The Friendship Circle - A Social Emotional Journey
DESCRIPTION:
URL:https://lupinelane.com/event/the-friendship-circle-a-social-emotional-journey-4/
CATEGORIES:Activities
END:VEVENT
BEGIN:VEVENT
DTSTART;TZID=America/Chicago:20240220T150000
DTEND;TZID=America/Chicago:20240220T154500
DTSTAMP:20260421T130049
CREATED:20231204T174011Z
LAST-MODIFIED:20231204T174011Z
UID:17951-1708441200-1708443900@lupinelane.com
SUMMARY:Hoop Dreams: Basketball with Cameron
DESCRIPTION:
URL:https://lupinelane.com/event/hoop-dreams-basketball-with-cameron-15/
CATEGORIES:Activities
END:VEVENT
BEGIN:VEVENT
DTSTART;TZID=America/Chicago:20240220T150000
DTEND;TZID=America/Chicago:20240220T154500
DTSTAMP:20260421T130049
CREATED:20231213T070022Z
LAST-MODIFIED:20231213T070022Z
UID:18114-1708441200-1708443900@lupinelane.com
SUMMARY:Yoga: Mindfulness and Movement
DESCRIPTION:
URL:https://lupinelane.com/event/yoga-mindfulness-and-movement-16/
CATEGORIES:Activities
END:VEVENT
BEGIN:VEVENT
DTSTART;TZID=America/Chicago:20240221T150000
DTEND;TZID=America/Chicago:20240221T154500
DTSTAMP:20260421T130049
CREATED:20240123T070021Z
LAST-MODIFIED:20240123T070021Z
UID:18809-1708527600-1708530300@lupinelane.com
SUMMARY:Full STEAM Ahead!
DESCRIPTION:
URL:https://lupinelane.com/event/full-steam-ahead-15/
CATEGORIES:Activities
END:VEVENT
BEGIN:VEVENT
DTSTART;TZID=America/Chicago:20240221T150000
DTEND;TZID=America/Chicago:20240221T154500
DTSTAMP:20260421T130049
CREATED:20240220T192916Z
LAST-MODIFIED:20240220T192916Z
UID:19303-1708527600-1708530300@lupinelane.com
SUMMARY:The Friendship Circle - A Social Emotional Journey
DESCRIPTION:
URL:https://lupinelane.com/event/the-friendship-circle-a-social-emotional-journey-5/
CATEGORIES:Activities
END:VEVENT
BEGIN:VEVENT
DTSTART;TZID=America/Chicago:20240222T150000
DTEND;TZID=America/Chicago:20240222T154500
DTSTAMP:20260421T130049
CREATED:20240120T070022Z
LAST-MODIFIED:20240120T070022Z
UID:18780-1708614000-1708616700@lupinelane.com
SUMMARY:Tumblinas
DESCRIPTION:
URL:https://lupinelane.com/event/tumblinas-4/
CATEGORIES:Activities
END:VEVENT
BEGIN:VEVENT
DTSTART;TZID=America/Chicago:20240222T150000
DTEND;TZID=America/Chicago:20240222T154500
DTSTAMP:20260421T130049
CREATED:20240307T080033Z
LAST-MODIFIED:20240307T080033Z
UID:19554-1708614000-1708616700@lupinelane.com
SUMMARY:Sportball
DESCRIPTION:
URL:https://lupinelane.com/event/sportball-15/
CATEGORIES:Activities
END:VEVENT
BEGIN:VEVENT
DTSTART;TZID=America/Chicago:20240223T150000
DTEND;TZID=America/Chicago:20240223T154500
DTSTAMP:20260421T130049
CREATED:20240108T070104Z
LAST-MODIFIED:20240108T070104Z
UID:18169-1708700400-1708703100@lupinelane.com
SUMMARY:The Heart of Art
DESCRIPTION:
URL:https://lupinelane.com/event/the-heart-of-art-16/
CATEGORIES:Activities
END:VEVENT
BEGIN:VEVENT
DTSTART;TZID=America/Chicago:20240223T150000
DTEND;TZID=America/Chicago:20240223T154500
DTSTAMP:20260421T130049
CREATED:20240108T070113Z
LAST-MODIFIED:20240108T070113Z
UID:18182-1708700400-1708703100@lupinelane.com
SUMMARY:Fizzle\, Bubble\, Pop & WOW!: Science
DESCRIPTION:
URL:https://lupinelane.com/event/fizzle-bubble-pop-wow-science-5/
CATEGORIES:Activities
END:VEVENT
BEGIN:VEVENT
DTSTART;TZID=America/Chicago:20240226T150000
DTEND;TZID=America/Chicago:20240226T154500
DTSTAMP:20260421T130049
CREATED:20231204T173926Z
LAST-MODIFIED:20231204T173926Z
UID:17890-1708959600-1708962300@lupinelane.com
SUMMARY:Soccer Shots
DESCRIPTION:
URL:https://lupinelane.com/event/soccer-shots-15/
CATEGORIES:Activities
END:VEVENT
BEGIN:VEVENT
DTSTART;TZID=America/Chicago:20240226T150000
DTEND;TZID=America/Chicago:20240226T154500
DTSTAMP:20260421T130049
CREATED:20240117T070034Z
LAST-MODIFIED:20240117T070034Z
UID:18615-1708959600-1708962300@lupinelane.com
SUMMARY:Imagination Theatre
DESCRIPTION:
URL:https://lupinelane.com/event/imagination-theatre-16/
CATEGORIES:Activities
END:VEVENT
BEGIN:VEVENT
DTSTART;TZID=America/Chicago:20240227T150000
DTEND;TZID=America/Chicago:20240227T154500
DTSTAMP:20260421T130049
CREATED:20231204T174012Z
LAST-MODIFIED:20231204T174012Z
UID:17953-1709046000-1709048700@lupinelane.com
SUMMARY:Hoop Dreams: Basketball with Cameron
DESCRIPTION:
URL:https://lupinelane.com/event/hoop-dreams-basketball-with-cameron-16/
CATEGORIES:Activities
END:VEVENT
END:VCALENDAR