BEGIN:VCALENDAR
VERSION:2.0
PRODID:-//Lupine Lane - ECPv6.15.20//NONSGML v1.0//EN
CALSCALE:GREGORIAN
METHOD:PUBLISH
X-ORIGINAL-URL:https://lupinelane.com
X-WR-CALDESC:Events for Lupine Lane
REFRESH-INTERVAL;VALUE=DURATION:PT1H
X-Robots-Tag:noindex
X-PUBLISHED-TTL:PT1H
BEGIN:VTIMEZONE
TZID:America/Chicago
BEGIN:DAYLIGHT
TZOFFSETFROM:-0600
TZOFFSETTO:-0500
TZNAME:CDT
DTSTART:20230312T080000
END:DAYLIGHT
BEGIN:STANDARD
TZOFFSETFROM:-0500
TZOFFSETTO:-0600
TZNAME:CST
DTSTART:20231105T070000
END:STANDARD
BEGIN:DAYLIGHT
TZOFFSETFROM:-0600
TZOFFSETTO:-0500
TZNAME:CDT
DTSTART:20240310T080000
END:DAYLIGHT
BEGIN:STANDARD
TZOFFSETFROM:-0500
TZOFFSETTO:-0600
TZNAME:CST
DTSTART:20241103T070000
END:STANDARD
BEGIN:DAYLIGHT
TZOFFSETFROM:-0600
TZOFFSETTO:-0500
TZNAME:CDT
DTSTART:20250309T080000
END:DAYLIGHT
BEGIN:STANDARD
TZOFFSETFROM:-0500
TZOFFSETTO:-0600
TZNAME:CST
DTSTART:20251102T070000
END:STANDARD
BEGIN:DAYLIGHT
TZOFFSETFROM:-0600
TZOFFSETTO:-0500
TZNAME:CDT
DTSTART:20260308T080000
END:DAYLIGHT
BEGIN:STANDARD
TZOFFSETFROM:-0500
TZOFFSETTO:-0600
TZNAME:CST
DTSTART:20261101T070000
END:STANDARD
END:VTIMEZONE
BEGIN:VEVENT
DTSTART;TZID=America/Chicago:20241204T150000
DTEND;TZID=America/Chicago:20241204T154500
DTSTAMP:20260420T174810
CREATED:20240726T070212Z
LAST-MODIFIED:20240726T070212Z
UID:21231-1733324400-1733327100@lupinelane.com
SUMMARY:Tumbling with KinderDance by Wendy
DESCRIPTION:
URL:https://lupinelane.com/event/tumbling-with-kinderdance-by-wendy-11/
CATEGORIES:Activities
END:VEVENT
BEGIN:VEVENT
DTSTART;TZID=America/Chicago:20241204T150000
DTEND;TZID=America/Chicago:20241204T154500
DTSTAMP:20260420T174810
CREATED:20240804T070031Z
LAST-MODIFIED:20240804T070031Z
UID:21393-1733324400-1733327100@lupinelane.com
SUMMARY:Mis Sueños: Spanish Language and Culture
DESCRIPTION:
URL:https://lupinelane.com/event/mis-suenos-spanish-language-and-culture-11/
CATEGORIES:Activities
END:VEVENT
BEGIN:VEVENT
DTSTART;TZID=America/Chicago:20241205T150000
DTEND;TZID=America/Chicago:20241205T154500
DTSTAMP:20260420T174810
CREATED:20240802T070114Z
LAST-MODIFIED:20240802T070114Z
UID:21333-1733410800-1733413500@lupinelane.com
SUMMARY:Inside Out: Social Emotional Learning
DESCRIPTION:
URL:https://lupinelane.com/event/inside-out-social-emotional-learning-11/
CATEGORIES:Activities
END:VEVENT
BEGIN:VEVENT
DTSTART;TZID=America/Chicago:20241205T150000
DTEND;TZID=America/Chicago:20241205T154500
DTSTAMP:20260420T174810
CREATED:20241213T080430Z
LAST-MODIFIED:20241213T080430Z
UID:22034-1733410800-1733413500@lupinelane.com
SUMMARY:Sportball
DESCRIPTION:
URL:https://lupinelane.com/event/sportball-35/
CATEGORIES:Activities
END:VEVENT
BEGIN:VEVENT
DTSTART;TZID=America/Chicago:20241206T150000
DTEND;TZID=America/Chicago:20241206T154500
DTSTAMP:20260420T174810
CREATED:20240806T070059Z
LAST-MODIFIED:20240806T070059Z
UID:21485-1733497200-1733499900@lupinelane.com
SUMMARY:NinjaPlay with KidoKinetics
DESCRIPTION:
URL:https://lupinelane.com/event/ninjaplay-with-kidokinetics-10/
CATEGORIES:Activities
END:VEVENT
BEGIN:VEVENT
DTSTART;TZID=America/Chicago:20241206T150000
DTEND;TZID=America/Chicago:20241206T154500
DTSTAMP:20260420T174810
CREATED:20241102T070046Z
LAST-MODIFIED:20241102T070046Z
UID:21762-1733497200-1733499900@lupinelane.com
SUMMARY:The Heart of Art
DESCRIPTION:
URL:https://lupinelane.com/event/the-heart-of-art-34/
CATEGORIES:Activities
END:VEVENT
BEGIN:VEVENT
DTSTART;TZID=America/Chicago:20250127T150000
DTEND;TZID=America/Chicago:20250127T154500
DTSTAMP:20260420T174810
CREATED:20241212T080208Z
LAST-MODIFIED:20241212T080208Z
UID:21829-1737990000-1737992700@lupinelane.com
SUMMARY:Soccer Shots
DESCRIPTION:
URL:https://lupinelane.com/event/soccer-shots-34/
CATEGORIES:Activities
END:VEVENT
BEGIN:VEVENT
DTSTART;TZID=America/Chicago:20250127T150000
DTEND;TZID=America/Chicago:20250127T154500
DTSTAMP:20260420T174810
CREATED:20241213T080622Z
LAST-MODIFIED:20241213T080622Z
UID:22139-1737990000-1737992700@lupinelane.com
SUMMARY:The Heart of Art
DESCRIPTION:
URL:https://lupinelane.com/event/the-heart-of-art-35/
CATEGORIES:Activities
END:VEVENT
BEGIN:VEVENT
DTSTART;TZID=America/Chicago:20250127T150000
DTEND;TZID=America/Chicago:20250127T154500
DTSTAMP:20260420T174810
CREATED:20250101T080022Z
LAST-MODIFIED:20250101T080022Z
UID:22236-1737990000-1737992700@lupinelane.com
SUMMARY:Coding with Kids: My First Computer Skills
DESCRIPTION:
URL:https://lupinelane.com/event/coding-with-kids-my-first-computer-skills/
CATEGORIES:Activities
END:VEVENT
BEGIN:VEVENT
DTSTART;TZID=America/Chicago:20250128T150000
DTEND;TZID=America/Chicago:20250128T154500
DTSTAMP:20260420T174810
CREATED:20241213T080558Z
LAST-MODIFIED:20241213T080558Z
UID:22114-1738076400-1738079100@lupinelane.com
SUMMARY:Once Upon a Skill
DESCRIPTION:
URL:https://lupinelane.com/event/once-upon-a-skill/
CATEGORIES:Activities
END:VEVENT
BEGIN:VEVENT
DTSTART;TZID=America/Chicago:20250128T150000
DTEND;TZID=America/Chicago:20250128T154500
DTSTAMP:20260420T174810
CREATED:20241213T080635Z
LAST-MODIFIED:20241213T080635Z
UID:22152-1738076400-1738079100@lupinelane.com
SUMMARY:Champs Express Tumbling
DESCRIPTION:
URL:https://lupinelane.com/event/champs-express-tumbling/
CATEGORIES:Activities
END:VEVENT
BEGIN:VEVENT
DTSTART;TZID=America/Chicago:20250129T150000
DTEND;TZID=America/Chicago:20250129T154500
DTSTAMP:20260420T174810
CREATED:20241213T080445Z
LAST-MODIFIED:20241213T080445Z
UID:22048-1738162800-1738165500@lupinelane.com
SUMMARY:The Friendship Circle: A Social-Emotional Journey
DESCRIPTION:
URL:https://lupinelane.com/event/the-friendship-circle-a-social-emotional-journey-15/
CATEGORIES:Activities
END:VEVENT
BEGIN:VEVENT
DTSTART;TZID=America/Chicago:20250129T150000
DTEND;TZID=America/Chicago:20250129T154500
DTSTAMP:20260420T174810
CREATED:20241213T080515Z
LAST-MODIFIED:20241213T080515Z
UID:22075-1738162800-1738165500@lupinelane.com
SUMMARY:Ballet with KinderDance by Wendy
DESCRIPTION:
URL:https://lupinelane.com/event/ballet-with-kinderdance-by-wendy-11/
CATEGORIES:Activities
END:VEVENT
BEGIN:VEVENT
DTSTART;TZID=America/Chicago:20250129T150000
DTEND;TZID=America/Chicago:20250129T154500
DTSTAMP:20260420T174810
CREATED:20241213T080543Z
LAST-MODIFIED:20241213T080543Z
UID:22100-1738162800-1738165500@lupinelane.com
SUMMARY:The Friendship Circle: A Social Emotional Journey
DESCRIPTION:
URL:https://lupinelane.com/event/the-friendship-circle-a-social-emotional-journey-29/
CATEGORIES:Activities
END:VEVENT
BEGIN:VEVENT
DTSTART;TZID=America/Chicago:20250129T150000
DTEND;TZID=America/Chicago:20250129T154500
DTSTAMP:20260420T174810
CREATED:20241213T080648Z
LAST-MODIFIED:20241213T080648Z
UID:22166-1738162800-1738165500@lupinelane.com
SUMMARY:Mis Sueños: Spanish Language and Culture
DESCRIPTION:
URL:https://lupinelane.com/event/mis-suenos-spanish-language-and-culture-12/
CATEGORIES:Activities
END:VEVENT
BEGIN:VEVENT
DTSTART;TZID=America/Chicago:20250130T150000
DTEND;TZID=America/Chicago:20250130T154500
DTSTAMP:20260420T174810
CREATED:20241213T080431Z
LAST-MODIFIED:20241213T080431Z
UID:22035-1738249200-1738251900@lupinelane.com
SUMMARY:Yoga: Mindfulness and Movement
DESCRIPTION:
URL:https://lupinelane.com/event/yoga-mindfulness-and-movement-37/
CATEGORIES:Activities
END:VEVENT
BEGIN:VEVENT
DTSTART;TZID=America/Chicago:20250130T150000
DTEND;TZID=America/Chicago:20250130T154500
DTSTAMP:20260420T174810
CREATED:20241213T080459Z
LAST-MODIFIED:20241213T080459Z
UID:22062-1738249200-1738251900@lupinelane.com
SUMMARY:Sportball
DESCRIPTION:
URL:https://lupinelane.com/event/sportball-36/
CATEGORIES:Activities
END:VEVENT
BEGIN:VEVENT
DTSTART;TZID=America/Chicago:20250131T150000
DTEND;TZID=America/Chicago:20250131T154500
DTSTAMP:20260420T174810
CREATED:20241213T080612Z
LAST-MODIFIED:20241213T080612Z
UID:22128-1738335600-1738338300@lupinelane.com
SUMMARY:Austin Wildcat Wigglers Basketball
DESCRIPTION:
URL:https://lupinelane.com/event/austin-wildcat-wigglers-basketball-12/
CATEGORIES:Activities
END:VEVENT
BEGIN:VEVENT
DTSTART;TZID=America/Chicago:20250131T150000
DTEND;TZID=America/Chicago:20250131T154500
DTSTAMP:20260420T174810
CREATED:20241222T080022Z
LAST-MODIFIED:20241222T080022Z
UID:22208-1738335600-1738338300@lupinelane.com
SUMMARY:Inside Out: A Social Emotional Journey
DESCRIPTION:
URL:https://lupinelane.com/event/inside-out-a-social-emotional-journey/
CATEGORIES:Activities
END:VEVENT
BEGIN:VEVENT
DTSTART;TZID=America/Chicago:20250203T150000
DTEND;TZID=America/Chicago:20250203T154500
DTSTAMP:20260420T174810
CREATED:20241212T080209Z
LAST-MODIFIED:20241212T080209Z
UID:21830-1738594800-1738597500@lupinelane.com
SUMMARY:Soccer Shots
DESCRIPTION:
URL:https://lupinelane.com/event/soccer-shots-35/
CATEGORIES:Activities
END:VEVENT
BEGIN:VEVENT
DTSTART;TZID=America/Chicago:20250203T150000
DTEND;TZID=America/Chicago:20250203T154500
DTSTAMP:20260420T174810
CREATED:20241213T080623Z
LAST-MODIFIED:20241213T080623Z
UID:22140-1738594800-1738597500@lupinelane.com
SUMMARY:The Heart of Art
DESCRIPTION:
URL:https://lupinelane.com/event/the-heart-of-art-36/
CATEGORIES:Activities
END:VEVENT
BEGIN:VEVENT
DTSTART;TZID=America/Chicago:20250203T150000
DTEND;TZID=America/Chicago:20250203T154500
DTSTAMP:20260420T174810
CREATED:20250101T080023Z
LAST-MODIFIED:20250101T080023Z
UID:22237-1738594800-1738597500@lupinelane.com
SUMMARY:Coding with Kids: My First Computer Skills
DESCRIPTION:
URL:https://lupinelane.com/event/coding-with-kids-my-first-computer-skills-2/
CATEGORIES:Activities
END:VEVENT
BEGIN:VEVENT
DTSTART;TZID=America/Chicago:20250204T150000
DTEND;TZID=America/Chicago:20250204T154500
DTSTAMP:20260420T174810
CREATED:20241213T080559Z
LAST-MODIFIED:20241213T080559Z
UID:22115-1738681200-1738683900@lupinelane.com
SUMMARY:Once Upon a Skill
DESCRIPTION:
URL:https://lupinelane.com/event/once-upon-a-skill-2/
CATEGORIES:Activities
END:VEVENT
BEGIN:VEVENT
DTSTART;TZID=America/Chicago:20250204T150000
DTEND;TZID=America/Chicago:20250204T154500
DTSTAMP:20260420T174810
CREATED:20241213T080636Z
LAST-MODIFIED:20241213T080636Z
UID:22153-1738681200-1738683900@lupinelane.com
SUMMARY:Champs Express Tumbling
DESCRIPTION:
URL:https://lupinelane.com/event/champs-express-tumbling-2/
CATEGORIES:Activities
END:VEVENT
BEGIN:VEVENT
DTSTART;TZID=America/Chicago:20250205T150000
DTEND;TZID=America/Chicago:20250205T154500
DTSTAMP:20260420T174810
CREATED:20241213T080446Z
LAST-MODIFIED:20241213T080446Z
UID:22049-1738767600-1738770300@lupinelane.com
SUMMARY:The Friendship Circle: A Social-Emotional Journey
DESCRIPTION:
URL:https://lupinelane.com/event/the-friendship-circle-a-social-emotional-journey-16/
CATEGORIES:Activities
END:VEVENT
BEGIN:VEVENT
DTSTART;TZID=America/Chicago:20250205T150000
DTEND;TZID=America/Chicago:20250205T154500
DTSTAMP:20260420T174810
CREATED:20241213T080516Z
LAST-MODIFIED:20241213T080516Z
UID:22076-1738767600-1738770300@lupinelane.com
SUMMARY:Ballet with KinderDance by Wendy
DESCRIPTION:
URL:https://lupinelane.com/event/ballet-with-kinderdance-by-wendy-12/
CATEGORIES:Activities
END:VEVENT
BEGIN:VEVENT
DTSTART;TZID=America/Chicago:20250205T150000
DTEND;TZID=America/Chicago:20250205T154500
DTSTAMP:20260420T174810
CREATED:20241213T080544Z
LAST-MODIFIED:20241213T080544Z
UID:22101-1738767600-1738770300@lupinelane.com
SUMMARY:The Friendship Circle: A Social Emotional Journey
DESCRIPTION:
URL:https://lupinelane.com/event/the-friendship-circle-a-social-emotional-journey-30/
CATEGORIES:Activities
END:VEVENT
BEGIN:VEVENT
DTSTART;TZID=America/Chicago:20250205T150000
DTEND;TZID=America/Chicago:20250205T154500
DTSTAMP:20260420T174810
CREATED:20241213T080649Z
LAST-MODIFIED:20241213T080649Z
UID:22167-1738767600-1738770300@lupinelane.com
SUMMARY:Mis Sueños: Spanish Language and Culture
DESCRIPTION:
URL:https://lupinelane.com/event/mis-suenos-spanish-language-and-culture-13/
CATEGORIES:Activities
END:VEVENT
BEGIN:VEVENT
DTSTART;TZID=America/Chicago:20250206T150000
DTEND;TZID=America/Chicago:20250206T154500
DTSTAMP:20260420T174810
CREATED:20241213T080432Z
LAST-MODIFIED:20241213T080432Z
UID:22036-1738854000-1738856700@lupinelane.com
SUMMARY:Yoga: Mindfulness and Movement
DESCRIPTION:
URL:https://lupinelane.com/event/yoga-mindfulness-and-movement-38/
CATEGORIES:Activities
END:VEVENT
BEGIN:VEVENT
DTSTART;TZID=America/Chicago:20250206T150000
DTEND;TZID=America/Chicago:20250206T154500
DTSTAMP:20260420T174810
CREATED:20241213T080500Z
LAST-MODIFIED:20241213T080500Z
UID:22063-1738854000-1738856700@lupinelane.com
SUMMARY:Sportball
DESCRIPTION:
URL:https://lupinelane.com/event/sportball-37/
CATEGORIES:Activities
END:VEVENT
END:VCALENDAR