BEGIN:VCALENDAR
VERSION:2.0
PRODID:-//Lupine Lane - ECPv6.15.20//NONSGML v1.0//EN
CALSCALE:GREGORIAN
METHOD:PUBLISH
X-WR-CALNAME:Lupine Lane
X-ORIGINAL-URL:https://lupinelane.com
X-WR-CALDESC:Events for Lupine Lane
REFRESH-INTERVAL;VALUE=DURATION:PT1H
X-Robots-Tag:noindex
X-PUBLISHED-TTL:PT1H
BEGIN:VTIMEZONE
TZID:America/Chicago
BEGIN:DAYLIGHT
TZOFFSETFROM:-0600
TZOFFSETTO:-0500
TZNAME:CDT
DTSTART:20240310T080000
END:DAYLIGHT
BEGIN:STANDARD
TZOFFSETFROM:-0500
TZOFFSETTO:-0600
TZNAME:CST
DTSTART:20241103T070000
END:STANDARD
BEGIN:DAYLIGHT
TZOFFSETFROM:-0600
TZOFFSETTO:-0500
TZNAME:CDT
DTSTART:20250309T080000
END:DAYLIGHT
BEGIN:STANDARD
TZOFFSETFROM:-0500
TZOFFSETTO:-0600
TZNAME:CST
DTSTART:20251102T070000
END:STANDARD
BEGIN:DAYLIGHT
TZOFFSETFROM:-0600
TZOFFSETTO:-0500
TZNAME:CDT
DTSTART:20260308T080000
END:DAYLIGHT
BEGIN:STANDARD
TZOFFSETFROM:-0500
TZOFFSETTO:-0600
TZNAME:CST
DTSTART:20261101T070000
END:STANDARD
BEGIN:DAYLIGHT
TZOFFSETFROM:-0600
TZOFFSETTO:-0500
TZNAME:CDT
DTSTART:20270314T080000
END:DAYLIGHT
BEGIN:STANDARD
TZOFFSETFROM:-0500
TZOFFSETTO:-0600
TZNAME:CST
DTSTART:20271107T070000
END:STANDARD
END:VTIMEZONE
BEGIN:VEVENT
DTSTART;TZID=America/Chicago:20251204T150000
DTEND;TZID=America/Chicago:20251204T154500
DTSTAMP:20260419T214422
CREATED:20250828T070328Z
LAST-MODIFIED:20250828T070328Z
UID:25849-1764860400-1764863100@lupinelane.com
SUMMARY:Mis Sueños: Spanish Language and Culture
DESCRIPTION:
URL:https://lupinelane.com/event/mis-suenos-spanish-language-and-culture-37/
CATEGORIES:Activities
END:VEVENT
BEGIN:VEVENT
DTSTART;TZID=America/Chicago:20251204T150000
DTEND;TZID=America/Chicago:20251204T154500
DTSTAMP:20260419T214422
CREATED:20250916T070322Z
LAST-MODIFIED:20250916T070322Z
UID:26020-1764860400-1764863100@lupinelane.com
SUMMARY:Sportball
DESCRIPTION:
URL:https://lupinelane.com/event/sportball-59/
CATEGORIES:Activities
END:VEVENT
BEGIN:VEVENT
DTSTART;TZID=America/Chicago:20251205T150000
DTEND;TZID=America/Chicago:20251205T154500
DTSTAMP:20260419T214422
CREATED:20250916T070336Z
LAST-MODIFIED:20250916T070336Z
UID:26030-1764946800-1764949500@lupinelane.com
SUMMARY:NinjaPlay with KidoKinetics
DESCRIPTION:
URL:https://lupinelane.com/event/ninjaplay-with-kidokinetics-19/
CATEGORIES:Activities
END:VEVENT
BEGIN:VEVENT
DTSTART;TZID=America/Chicago:20251205T150000
DTEND;TZID=America/Chicago:20251205T154500
DTSTAMP:20260419T214422
CREATED:20250917T070311Z
LAST-MODIFIED:20250917T070311Z
UID:26054-1764946800-1764949500@lupinelane.com
SUMMARY:Full STEAM Ahead!
DESCRIPTION:
URL:https://lupinelane.com/event/full-steam-ahead-33/
CATEGORIES:Activities
END:VEVENT
BEGIN:VEVENT
DTSTART;TZID=America/Chicago:20251208T150000
DTEND;TZID=America/Chicago:20251208T154500
DTSTAMP:20260419T214422
CREATED:20251228T080443Z
LAST-MODIFIED:20251228T080443Z
UID:26290-1765206000-1765208700@lupinelane.com
SUMMARY:Soccer Shots
DESCRIPTION:
URL:https://lupinelane.com/event/soccer-shots-57/
CATEGORIES:Activities
END:VEVENT
BEGIN:VEVENT
DTSTART;TZID=America/Chicago:20251209T150000
DTEND;TZID=America/Chicago:20251209T154500
DTSTAMP:20260419T214422
CREATED:20250907T070503Z
LAST-MODIFIED:20250907T070503Z
UID:25942-1765292400-1765295100@lupinelane.com
SUMMARY:Yoga: Mindfulness and Movement
DESCRIPTION:
URL:https://lupinelane.com/event/yoga-mindfulness-and-movement-61/
CATEGORIES:Activities
END:VEVENT
BEGIN:VEVENT
DTSTART;TZID=America/Chicago:20251209T150000
DTEND;TZID=America/Chicago:20251209T154500
DTSTAMP:20260419T214422
CREATED:20250907T070555Z
LAST-MODIFIED:20250907T070555Z
UID:25986-1765292400-1765295100@lupinelane.com
SUMMARY:Austin Wildcats Wigglers Basketball
DESCRIPTION:
URL:https://lupinelane.com/event/austin-wildcats-wigglers-basketball-12/
CATEGORIES:Activities
END:VEVENT
BEGIN:VEVENT
DTSTART;TZID=America/Chicago:20251211T150000
DTEND;TZID=America/Chicago:20251211T154500
DTSTAMP:20260419T214422
CREATED:20250916T070324Z
LAST-MODIFIED:20250916T070324Z
UID:26021-1765465200-1765467900@lupinelane.com
SUMMARY:Sportball
DESCRIPTION:
URL:https://lupinelane.com/event/sportball-60/
CATEGORIES:Activities
END:VEVENT
BEGIN:VEVENT
DTSTART;TZID=America/Chicago:20251212T150000
DTEND;TZID=America/Chicago:20251212T154500
DTSTAMP:20260419T214422
CREATED:20250916T070338Z
LAST-MODIFIED:20250916T070338Z
UID:26031-1765551600-1765554300@lupinelane.com
SUMMARY:NinjaPlay with KidoKinetics
DESCRIPTION:
URL:https://lupinelane.com/event/ninjaplay-with-kidokinetics-20/
CATEGORIES:Activities
END:VEVENT
BEGIN:VEVENT
DTSTART;TZID=America/Chicago:20251212T150000
DTEND;TZID=America/Chicago:20251212T154500
DTSTAMP:20260419T214422
CREATED:20250917T070312Z
LAST-MODIFIED:20250917T070312Z
UID:26055-1765551600-1765554300@lupinelane.com
SUMMARY:Full STEAM Ahead!
DESCRIPTION:
URL:https://lupinelane.com/event/full-steam-ahead-34/
CATEGORIES:Activities
END:VEVENT
BEGIN:VEVENT
DTSTART;TZID=America/Chicago:20260126T150000
DTEND;TZID=America/Chicago:20260126T154500
DTSTAMP:20260419T214422
CREATED:20251228T080444Z
LAST-MODIFIED:20251228T080444Z
UID:26291-1769439600-1769442300@lupinelane.com
SUMMARY:Soccer Shots
DESCRIPTION:
URL:https://lupinelane.com/event/soccer-shots-58/
CATEGORIES:Activities
END:VEVENT
BEGIN:VEVENT
DTSTART;TZID=America/Chicago:20260126T150000
DTEND;TZID=America/Chicago:20260126T154500
DTSTAMP:20260419T214422
CREATED:20251228T080501Z
LAST-MODIFIED:20251228T080501Z
UID:26304-1769439600-1769442300@lupinelane.com
SUMMARY:Little Chefs' Club
DESCRIPTION:
URL:https://lupinelane.com/event/little-chefs-club-13/
CATEGORIES:Activities
END:VEVENT
BEGIN:VEVENT
DTSTART;TZID=America/Chicago:20260127T150000
DTEND;TZID=America/Chicago:20260127T154500
DTSTAMP:20260419T214422
CREATED:20260102T080307Z
LAST-MODIFIED:20260102T080307Z
UID:26435-1769526000-1769528700@lupinelane.com
SUMMARY:StoryPlay Theatre
DESCRIPTION:
URL:https://lupinelane.com/event/storyplay-theatre/
CATEGORIES:Activities
END:VEVENT
BEGIN:VEVENT
DTSTART;TZID=America/Chicago:20260127T150000
DTEND;TZID=America/Chicago:20260127T154500
DTSTAMP:20260419T214422
CREATED:20260117T080305Z
LAST-MODIFIED:20260117T080305Z
UID:26468-1769526000-1769528700@lupinelane.com
SUMMARY:Austin Wildcats Wigglers Basketball
DESCRIPTION:
URL:https://lupinelane.com/event/austin-wildcats-wigglers-basketball-13/
CATEGORIES:Activities
END:VEVENT
BEGIN:VEVENT
DTSTART;TZID=America/Chicago:20260128T150000
DTEND;TZID=America/Chicago:20260128T154500
DTSTAMP:20260419T214422
CREATED:20251228T080547Z
LAST-MODIFIED:20251228T080547Z
UID:26345-1769612400-1769615100@lupinelane.com
SUMMARY:Ballet with KinderDance
DESCRIPTION:
URL:https://lupinelane.com/event/ballet-with-kinderdance-13/
CATEGORIES:Activities
END:VEVENT
BEGIN:VEVENT
DTSTART;TZID=America/Chicago:20260128T150000
DTEND;TZID=America/Chicago:20260128T154500
DTSTAMP:20260419T214422
CREATED:20260312T070313Z
LAST-MODIFIED:20260312T070313Z
UID:27388-1769612400-1769615100@lupinelane.com
SUMMARY:Champs Express Tumbling
DESCRIPTION:
URL:https://lupinelane.com/event/champs-express-tumbling-27/
CATEGORIES:Activities
END:VEVENT
BEGIN:VEVENT
DTSTART;TZID=America/Chicago:20260129T150000
DTEND;TZID=America/Chicago:20260129T154500
DTSTAMP:20260419T214422
CREATED:20251228T080620Z
LAST-MODIFIED:20251228T080620Z
UID:26373-1769698800-1769701500@lupinelane.com
SUMMARY:Mis Sueños: Spanish Language and Culture
DESCRIPTION:
URL:https://lupinelane.com/event/mis-suenos-spanish-language-and-culture-38/
CATEGORIES:Activities
END:VEVENT
BEGIN:VEVENT
DTSTART;TZID=America/Chicago:20260129T150000
DTEND;TZID=America/Chicago:20260129T154500
DTSTAMP:20260419T214422
CREATED:20251228T080635Z
LAST-MODIFIED:20251228T080635Z
UID:26386-1769698800-1769701500@lupinelane.com
SUMMARY:Sportball
DESCRIPTION:
URL:https://lupinelane.com/event/sportball-61/
CATEGORIES:Activities
END:VEVENT
BEGIN:VEVENT
DTSTART;TZID=America/Chicago:20260130T150000
DTEND;TZID=America/Chicago:20260130T154500
DTSTAMP:20260419T214422
CREATED:20251228T080651Z
LAST-MODIFIED:20251228T080651Z
UID:26399-1769785200-1769787900@lupinelane.com
SUMMARY:The Heart of Art
DESCRIPTION:
URL:https://lupinelane.com/event/the-heart-of-art-59/
CATEGORIES:Activities
END:VEVENT
BEGIN:VEVENT
DTSTART;TZID=America/Chicago:20260130T150000
DTEND;TZID=America/Chicago:20260130T154500
DTSTAMP:20260419T214422
CREATED:20251228T080704Z
LAST-MODIFIED:20251228T080704Z
UID:26410-1769785200-1769787900@lupinelane.com
SUMMARY:Full STEAM Ahead!
DESCRIPTION:
URL:https://lupinelane.com/event/full-steam-ahead-35/
CATEGORIES:Activities
END:VEVENT
BEGIN:VEVENT
DTSTART;TZID=America/Chicago:20260202T150000
DTEND;TZID=America/Chicago:20260202T154500
DTSTAMP:20260419T214422
CREATED:20251228T080445Z
LAST-MODIFIED:20251228T080445Z
UID:26292-1770044400-1770047100@lupinelane.com
SUMMARY:Soccer Shots
DESCRIPTION:
URL:https://lupinelane.com/event/soccer-shots-59/
CATEGORIES:Activities
END:VEVENT
BEGIN:VEVENT
DTSTART;TZID=America/Chicago:20260202T150000
DTEND;TZID=America/Chicago:20260202T154500
DTSTAMP:20260419T214422
CREATED:20251228T080502Z
LAST-MODIFIED:20251228T080502Z
UID:26305-1770044400-1770047100@lupinelane.com
SUMMARY:Little Chefs' Club
DESCRIPTION:
URL:https://lupinelane.com/event/little-chefs-club-14/
CATEGORIES:Activities
END:VEVENT
BEGIN:VEVENT
DTSTART;TZID=America/Chicago:20260203T150000
DTEND;TZID=America/Chicago:20260203T154500
DTSTAMP:20260419T214422
CREATED:20260102T080311Z
LAST-MODIFIED:20260102T080311Z
UID:26436-1770130800-1770133500@lupinelane.com
SUMMARY:StoryPlay Theatre
DESCRIPTION:
URL:https://lupinelane.com/event/storyplay-theatre-2/
CATEGORIES:Activities
END:VEVENT
BEGIN:VEVENT
DTSTART;TZID=America/Chicago:20260203T150000
DTEND;TZID=America/Chicago:20260203T154500
DTSTAMP:20260419T214422
CREATED:20260117T080307Z
LAST-MODIFIED:20260117T080307Z
UID:26469-1770130800-1770133500@lupinelane.com
SUMMARY:Austin Wildcats Wigglers Basketball
DESCRIPTION:
URL:https://lupinelane.com/event/austin-wildcats-wigglers-basketball-14/
CATEGORIES:Activities
END:VEVENT
BEGIN:VEVENT
DTSTART;TZID=America/Chicago:20260204T150000
DTEND;TZID=America/Chicago:20260204T154500
DTSTAMP:20260419T214422
CREATED:20251228T080548Z
LAST-MODIFIED:20251228T080548Z
UID:26346-1770217200-1770219900@lupinelane.com
SUMMARY:Ballet with KinderDance
DESCRIPTION:
URL:https://lupinelane.com/event/ballet-with-kinderdance-14/
CATEGORIES:Activities
END:VEVENT
BEGIN:VEVENT
DTSTART;TZID=America/Chicago:20260204T150000
DTEND;TZID=America/Chicago:20260204T154500
DTSTAMP:20260419T214422
CREATED:20260312T070315Z
LAST-MODIFIED:20260312T070315Z
UID:27389-1770217200-1770219900@lupinelane.com
SUMMARY:Champs Express Tumbling
DESCRIPTION:
URL:https://lupinelane.com/event/champs-express-tumbling-28/
CATEGORIES:Activities
END:VEVENT
BEGIN:VEVENT
DTSTART;TZID=America/Chicago:20260205T150000
DTEND;TZID=America/Chicago:20260205T154500
DTSTAMP:20260419T214422
CREATED:20251228T080621Z
LAST-MODIFIED:20251228T080621Z
UID:26374-1770303600-1770306300@lupinelane.com
SUMMARY:Mis Sueños: Spanish Language and Culture
DESCRIPTION:
URL:https://lupinelane.com/event/mis-suenos-spanish-language-and-culture-39/
CATEGORIES:Activities
END:VEVENT
BEGIN:VEVENT
DTSTART;TZID=America/Chicago:20260205T150000
DTEND;TZID=America/Chicago:20260205T154500
DTSTAMP:20260419T214422
CREATED:20251228T080636Z
LAST-MODIFIED:20251228T080636Z
UID:26387-1770303600-1770306300@lupinelane.com
SUMMARY:Sportball
DESCRIPTION:
URL:https://lupinelane.com/event/sportball-62/
CATEGORIES:Activities
END:VEVENT
BEGIN:VEVENT
DTSTART;TZID=America/Chicago:20260206T150000
DTEND;TZID=America/Chicago:20260206T154500
DTSTAMP:20260419T214422
CREATED:20251228T080652Z
LAST-MODIFIED:20251228T080652Z
UID:26400-1770390000-1770392700@lupinelane.com
SUMMARY:The Heart of Art
DESCRIPTION:
URL:https://lupinelane.com/event/the-heart-of-art-60/
CATEGORIES:Activities
END:VEVENT
BEGIN:VEVENT
DTSTART;TZID=America/Chicago:20260206T150000
DTEND;TZID=America/Chicago:20260206T154500
DTSTAMP:20260419T214422
CREATED:20251228T080705Z
LAST-MODIFIED:20251228T080705Z
UID:26411-1770390000-1770392700@lupinelane.com
SUMMARY:Full STEAM Ahead!
DESCRIPTION:
URL:https://lupinelane.com/event/full-steam-ahead-36/
CATEGORIES:Activities
END:VEVENT
END:VCALENDAR