BEGIN:VCALENDAR
VERSION:2.0
PRODID:-//Lupine Lane - ECPv6.15.20//NONSGML v1.0//EN
CALSCALE:GREGORIAN
METHOD:PUBLISH
X-ORIGINAL-URL:https://lupinelane.com
X-WR-CALDESC:Events for Lupine Lane
REFRESH-INTERVAL;VALUE=DURATION:PT1H
X-Robots-Tag:noindex
X-PUBLISHED-TTL:PT1H
BEGIN:VTIMEZONE
TZID:America/Chicago
BEGIN:DAYLIGHT
TZOFFSETFROM:-0600
TZOFFSETTO:-0500
TZNAME:CDT
DTSTART:20240310T080000
END:DAYLIGHT
BEGIN:STANDARD
TZOFFSETFROM:-0500
TZOFFSETTO:-0600
TZNAME:CST
DTSTART:20241103T070000
END:STANDARD
BEGIN:DAYLIGHT
TZOFFSETFROM:-0600
TZOFFSETTO:-0500
TZNAME:CDT
DTSTART:20250309T080000
END:DAYLIGHT
BEGIN:STANDARD
TZOFFSETFROM:-0500
TZOFFSETTO:-0600
TZNAME:CST
DTSTART:20251102T070000
END:STANDARD
BEGIN:DAYLIGHT
TZOFFSETFROM:-0600
TZOFFSETTO:-0500
TZNAME:CDT
DTSTART:20260308T080000
END:DAYLIGHT
BEGIN:STANDARD
TZOFFSETFROM:-0500
TZOFFSETTO:-0600
TZNAME:CST
DTSTART:20261101T070000
END:STANDARD
END:VTIMEZONE
BEGIN:VEVENT
DTSTART;TZID=America/Chicago:20251017T150000
DTEND;TZID=America/Chicago:20251017T154500
DTSTAMP:20260420T004244
CREATED:20250916T070329Z
LAST-MODIFIED:20250916T070329Z
UID:26025-1760713200-1760715900@lupinelane.com
SUMMARY:NinjaPlay with KidoKinetics
DESCRIPTION:
URL:https://lupinelane.com/event/ninjaplay-with-kidokinetics-14/
CATEGORIES:Activities
END:VEVENT
BEGIN:VEVENT
DTSTART;TZID=America/Chicago:20251017T150000
DTEND;TZID=America/Chicago:20251017T154500
DTSTAMP:20260420T004244
CREATED:20250917T070305Z
LAST-MODIFIED:20250917T070305Z
UID:26049-1760713200-1760715900@lupinelane.com
SUMMARY:Full STEAM Ahead!
DESCRIPTION:
URL:https://lupinelane.com/event/full-steam-ahead-28/
CATEGORIES:Activities
END:VEVENT
BEGIN:VEVENT
DTSTART;TZID=America/Chicago:20251020T150000
DTEND;TZID=America/Chicago:20251020T154500
DTSTAMP:20260420T004244
CREATED:20251105T080248Z
LAST-MODIFIED:20251105T080248Z
UID:26189-1760972400-1760975100@lupinelane.com
SUMMARY:The Heart of Art
DESCRIPTION:
URL:https://lupinelane.com/event/the-heart-of-art-53/
CATEGORIES:Activities
END:VEVENT
BEGIN:VEVENT
DTSTART;TZID=America/Chicago:20251020T150000
DTEND;TZID=America/Chicago:20251020T154500
DTSTAMP:20260420T004244
CREATED:20251228T080436Z
LAST-MODIFIED:20251228T080436Z
UID:26284-1760972400-1760975100@lupinelane.com
SUMMARY:Soccer Shots
DESCRIPTION:
URL:https://lupinelane.com/event/soccer-shots-51/
CATEGORIES:Activities
END:VEVENT
BEGIN:VEVENT
DTSTART;TZID=America/Chicago:20251021T150000
DTEND;TZID=America/Chicago:20251021T154500
DTSTAMP:20260420T004244
CREATED:20250907T070456Z
LAST-MODIFIED:20250907T070456Z
UID:25936-1761058800-1761061500@lupinelane.com
SUMMARY:Yoga: Mindfulness and Movement
DESCRIPTION:
URL:https://lupinelane.com/event/yoga-mindfulness-and-movement-55/
CATEGORIES:Activities
END:VEVENT
BEGIN:VEVENT
DTSTART;TZID=America/Chicago:20251021T150000
DTEND;TZID=America/Chicago:20251021T154500
DTSTAMP:20260420T004244
CREATED:20250907T070548Z
LAST-MODIFIED:20250907T070548Z
UID:25980-1761058800-1761061500@lupinelane.com
SUMMARY:Austin Wildcats Wigglers Basketball
DESCRIPTION:
URL:https://lupinelane.com/event/austin-wildcats-wigglers-basketball-6/
CATEGORIES:Activities
END:VEVENT
BEGIN:VEVENT
DTSTART;TZID=America/Chicago:20251022T150000
DTEND;TZID=America/Chicago:20251022T154500
DTSTAMP:20260420T004244
CREATED:20250727T070345Z
LAST-MODIFIED:20250727T070345Z
UID:25538-1761145200-1761147900@lupinelane.com
SUMMARY:Ballet with KinderDance
DESCRIPTION:
URL:https://lupinelane.com/event/ballet-with-kinderdance-7/
CATEGORIES:Activities
END:VEVENT
BEGIN:VEVENT
DTSTART;TZID=America/Chicago:20251022T150000
DTEND;TZID=America/Chicago:20251022T154500
DTSTAMP:20260420T004244
CREATED:20250727T070440Z
LAST-MODIFIED:20250727T070440Z
UID:25584-1761145200-1761147900@lupinelane.com
SUMMARY:Champs Express Tumbling
DESCRIPTION:
URL:https://lupinelane.com/event/champs-express-tumbling-21/
CATEGORIES:Activities
END:VEVENT
BEGIN:VEVENT
DTSTART;TZID=America/Chicago:20251023T150000
DTEND;TZID=America/Chicago:20251023T154500
DTSTAMP:20260420T004244
CREATED:20250826T070249Z
LAST-MODIFIED:20250826T070249Z
UID:25796-1761231600-1761234300@lupinelane.com
SUMMARY:Little Chefs Club
DESCRIPTION:
URL:https://lupinelane.com/event/little-chefs-club-7/
CATEGORIES:Activities
END:VEVENT
BEGIN:VEVENT
DTSTART;TZID=America/Chicago:20251023T150000
DTEND;TZID=America/Chicago:20251023T154500
DTSTAMP:20260420T004244
CREATED:20250828T070321Z
LAST-MODIFIED:20250828T070321Z
UID:25844-1761231600-1761234300@lupinelane.com
SUMMARY:Mis Sueños: Spanish Language and Culture
DESCRIPTION:
URL:https://lupinelane.com/event/mis-suenos-spanish-language-and-culture-32/
CATEGORIES:Activities
END:VEVENT
BEGIN:VEVENT
DTSTART;TZID=America/Chicago:20251023T150000
DTEND;TZID=America/Chicago:20251023T154500
DTSTAMP:20260420T004244
CREATED:20250916T070315Z
LAST-MODIFIED:20250916T070315Z
UID:26015-1761231600-1761234300@lupinelane.com
SUMMARY:Sportball
DESCRIPTION:
URL:https://lupinelane.com/event/sportball-54/
CATEGORIES:Activities
END:VEVENT
BEGIN:VEVENT
DTSTART;TZID=America/Chicago:20251027T150000
DTEND;TZID=America/Chicago:20251027T154500
DTSTAMP:20260420T004244
CREATED:20251105T080249Z
LAST-MODIFIED:20251105T080249Z
UID:26190-1761577200-1761579900@lupinelane.com
SUMMARY:The Heart of Art
DESCRIPTION:
URL:https://lupinelane.com/event/the-heart-of-art-54/
CATEGORIES:Activities
END:VEVENT
BEGIN:VEVENT
DTSTART;TZID=America/Chicago:20251027T150000
DTEND;TZID=America/Chicago:20251027T154500
DTSTAMP:20260420T004244
CREATED:20251228T080437Z
LAST-MODIFIED:20251228T080437Z
UID:26285-1761577200-1761579900@lupinelane.com
SUMMARY:Soccer Shots
DESCRIPTION:
URL:https://lupinelane.com/event/soccer-shots-52/
CATEGORIES:Activities
END:VEVENT
BEGIN:VEVENT
DTSTART;TZID=America/Chicago:20251028T150000
DTEND;TZID=America/Chicago:20251028T154500
DTSTAMP:20260420T004244
CREATED:20250907T070457Z
LAST-MODIFIED:20250907T070457Z
UID:25937-1761663600-1761666300@lupinelane.com
SUMMARY:Yoga: Mindfulness and Movement
DESCRIPTION:
URL:https://lupinelane.com/event/yoga-mindfulness-and-movement-56/
CATEGORIES:Activities
END:VEVENT
BEGIN:VEVENT
DTSTART;TZID=America/Chicago:20251028T150000
DTEND;TZID=America/Chicago:20251028T154500
DTSTAMP:20260420T004244
CREATED:20250907T070550Z
LAST-MODIFIED:20250907T070550Z
UID:25981-1761663600-1761666300@lupinelane.com
SUMMARY:Austin Wildcats Wigglers Basketball
DESCRIPTION:
URL:https://lupinelane.com/event/austin-wildcats-wigglers-basketball-7/
CATEGORIES:Activities
END:VEVENT
BEGIN:VEVENT
DTSTART;TZID=America/Chicago:20251029T150000
DTEND;TZID=America/Chicago:20251029T154500
DTSTAMP:20260420T004244
CREATED:20250727T070346Z
LAST-MODIFIED:20250727T070346Z
UID:25539-1761750000-1761752700@lupinelane.com
SUMMARY:Ballet with KinderDance
DESCRIPTION:
URL:https://lupinelane.com/event/ballet-with-kinderdance-8/
CATEGORIES:Activities
END:VEVENT
BEGIN:VEVENT
DTSTART;TZID=America/Chicago:20251029T150000
DTEND;TZID=America/Chicago:20251029T154500
DTSTAMP:20260420T004244
CREATED:20250727T070441Z
LAST-MODIFIED:20250727T070441Z
UID:25585-1761750000-1761752700@lupinelane.com
SUMMARY:Champs Express Tumbling
DESCRIPTION:
URL:https://lupinelane.com/event/champs-express-tumbling-22/
CATEGORIES:Activities
END:VEVENT
BEGIN:VEVENT
DTSTART;TZID=America/Chicago:20251030T150000
DTEND;TZID=America/Chicago:20251030T154500
DTSTAMP:20260420T004244
CREATED:20250826T070251Z
LAST-MODIFIED:20250826T070251Z
UID:25797-1761836400-1761839100@lupinelane.com
SUMMARY:Little Chefs Club
DESCRIPTION:
URL:https://lupinelane.com/event/little-chefs-club-8/
CATEGORIES:Activities
END:VEVENT
BEGIN:VEVENT
DTSTART;TZID=America/Chicago:20251030T150000
DTEND;TZID=America/Chicago:20251030T154500
DTSTAMP:20260420T004244
CREATED:20250828T070322Z
LAST-MODIFIED:20250828T070322Z
UID:25845-1761836400-1761839100@lupinelane.com
SUMMARY:Mis Sueños: Spanish Language and Culture
DESCRIPTION:
URL:https://lupinelane.com/event/mis-suenos-spanish-language-and-culture-33/
CATEGORIES:Activities
END:VEVENT
BEGIN:VEVENT
DTSTART;TZID=America/Chicago:20251030T150000
DTEND;TZID=America/Chicago:20251030T154500
DTSTAMP:20260420T004244
CREATED:20250916T070317Z
LAST-MODIFIED:20250916T070317Z
UID:26016-1761836400-1761839100@lupinelane.com
SUMMARY:Sportball
DESCRIPTION:
URL:https://lupinelane.com/event/sportball-55/
CATEGORIES:Activities
END:VEVENT
BEGIN:VEVENT
DTSTART;TZID=America/Chicago:20251031T150000
DTEND;TZID=America/Chicago:20251031T154500
DTSTAMP:20260420T004244
CREATED:20250916T070331Z
LAST-MODIFIED:20250916T070331Z
UID:26026-1761922800-1761925500@lupinelane.com
SUMMARY:NinjaPlay with KidoKinetics
DESCRIPTION:
URL:https://lupinelane.com/event/ninjaplay-with-kidokinetics-15/
CATEGORIES:Activities
END:VEVENT
BEGIN:VEVENT
DTSTART;TZID=America/Chicago:20251031T150000
DTEND;TZID=America/Chicago:20251031T154500
DTSTAMP:20260420T004244
CREATED:20250917T070306Z
LAST-MODIFIED:20250917T070306Z
UID:26050-1761922800-1761925500@lupinelane.com
SUMMARY:Full STEAM Ahead!
DESCRIPTION:
URL:https://lupinelane.com/event/full-steam-ahead-29/
CATEGORIES:Activities
END:VEVENT
BEGIN:VEVENT
DTSTART;TZID=America/Chicago:20251103T150000
DTEND;TZID=America/Chicago:20251103T154500
DTSTAMP:20260420T004244
CREATED:20251105T080251Z
LAST-MODIFIED:20251105T080251Z
UID:26191-1762182000-1762184700@lupinelane.com
SUMMARY:The Heart of Art
DESCRIPTION:
URL:https://lupinelane.com/event/the-heart-of-art-55/
CATEGORIES:Activities
END:VEVENT
BEGIN:VEVENT
DTSTART;TZID=America/Chicago:20251103T150000
DTEND;TZID=America/Chicago:20251103T154500
DTSTAMP:20260420T004244
CREATED:20251228T080438Z
LAST-MODIFIED:20251228T080438Z
UID:26286-1762182000-1762184700@lupinelane.com
SUMMARY:Soccer Shots
DESCRIPTION:
URL:https://lupinelane.com/event/soccer-shots-53/
CATEGORIES:Activities
END:VEVENT
BEGIN:VEVENT
DTSTART;TZID=America/Chicago:20251104T150000
DTEND;TZID=America/Chicago:20251104T154500
DTSTAMP:20260420T004244
CREATED:20250907T070459Z
LAST-MODIFIED:20250907T070459Z
UID:25938-1762268400-1762271100@lupinelane.com
SUMMARY:Yoga: Mindfulness and Movement
DESCRIPTION:
URL:https://lupinelane.com/event/yoga-mindfulness-and-movement-57/
CATEGORIES:Activities
END:VEVENT
BEGIN:VEVENT
DTSTART;TZID=America/Chicago:20251104T150000
DTEND;TZID=America/Chicago:20251104T154500
DTSTAMP:20260420T004244
CREATED:20250907T070551Z
LAST-MODIFIED:20250907T070551Z
UID:25982-1762268400-1762271100@lupinelane.com
SUMMARY:Austin Wildcats Wigglers Basketball
DESCRIPTION:
URL:https://lupinelane.com/event/austin-wildcats-wigglers-basketball-8/
CATEGORIES:Activities
END:VEVENT
BEGIN:VEVENT
DTSTART;TZID=America/Chicago:20251105T150000
DTEND;TZID=America/Chicago:20251105T154500
DTSTAMP:20260420T004244
CREATED:20250727T070347Z
LAST-MODIFIED:20250727T070347Z
UID:25540-1762354800-1762357500@lupinelane.com
SUMMARY:Ballet with KinderDance
DESCRIPTION:
URL:https://lupinelane.com/event/ballet-with-kinderdance-9/
CATEGORIES:Activities
END:VEVENT
BEGIN:VEVENT
DTSTART;TZID=America/Chicago:20251105T150000
DTEND;TZID=America/Chicago:20251105T154500
DTSTAMP:20260420T004244
CREATED:20250727T070442Z
LAST-MODIFIED:20250727T070442Z
UID:25586-1762354800-1762357500@lupinelane.com
SUMMARY:Champs Express Tumbling
DESCRIPTION:
URL:https://lupinelane.com/event/champs-express-tumbling-23/
CATEGORIES:Activities
END:VEVENT
BEGIN:VEVENT
DTSTART;TZID=America/Chicago:20251106T150000
DTEND;TZID=America/Chicago:20251106T154500
DTSTAMP:20260420T004244
CREATED:20250826T070252Z
LAST-MODIFIED:20250826T070252Z
UID:25798-1762441200-1762443900@lupinelane.com
SUMMARY:Little Chefs Club
DESCRIPTION:
URL:https://lupinelane.com/event/little-chefs-club-9/
CATEGORIES:Activities
END:VEVENT
BEGIN:VEVENT
DTSTART;TZID=America/Chicago:20251106T150000
DTEND;TZID=America/Chicago:20251106T154500
DTSTAMP:20260420T004244
CREATED:20250828T070324Z
LAST-MODIFIED:20250828T070324Z
UID:25846-1762441200-1762443900@lupinelane.com
SUMMARY:Mis Sueños: Spanish Language and Culture
DESCRIPTION:
URL:https://lupinelane.com/event/mis-suenos-spanish-language-and-culture-34/
CATEGORIES:Activities
END:VEVENT
END:VCALENDAR