BEGIN:VCALENDAR
VERSION:2.0
PRODID:-//Lupine Lane - ECPv6.15.20//NONSGML v1.0//EN
CALSCALE:GREGORIAN
METHOD:PUBLISH
X-WR-CALNAME:Lupine Lane
X-ORIGINAL-URL:https://lupinelane.com
X-WR-CALDESC:Events for Lupine Lane
REFRESH-INTERVAL;VALUE=DURATION:PT1H
X-Robots-Tag:noindex
X-PUBLISHED-TTL:PT1H
BEGIN:VTIMEZONE
TZID:America/Chicago
BEGIN:DAYLIGHT
TZOFFSETFROM:-0600
TZOFFSETTO:-0500
TZNAME:CDT
DTSTART:20230312T080000
END:DAYLIGHT
BEGIN:STANDARD
TZOFFSETFROM:-0500
TZOFFSETTO:-0600
TZNAME:CST
DTSTART:20231105T070000
END:STANDARD
BEGIN:DAYLIGHT
TZOFFSETFROM:-0600
TZOFFSETTO:-0500
TZNAME:CDT
DTSTART:20240310T080000
END:DAYLIGHT
BEGIN:STANDARD
TZOFFSETFROM:-0500
TZOFFSETTO:-0600
TZNAME:CST
DTSTART:20241103T070000
END:STANDARD
BEGIN:DAYLIGHT
TZOFFSETFROM:-0600
TZOFFSETTO:-0500
TZNAME:CDT
DTSTART:20250309T080000
END:DAYLIGHT
BEGIN:STANDARD
TZOFFSETFROM:-0500
TZOFFSETTO:-0600
TZNAME:CST
DTSTART:20251102T070000
END:STANDARD
BEGIN:DAYLIGHT
TZOFFSETFROM:-0600
TZOFFSETTO:-0500
TZNAME:CDT
DTSTART:20260308T080000
END:DAYLIGHT
BEGIN:STANDARD
TZOFFSETFROM:-0500
TZOFFSETTO:-0600
TZNAME:CST
DTSTART:20261101T070000
END:STANDARD
END:VTIMEZONE
BEGIN:VEVENT
DTSTART;TZID=America/Chicago:20241112T150000
DTEND;TZID=America/Chicago:20241112T154500
DTSTAMP:20260420T221106
CREATED:20240726T070116Z
LAST-MODIFIED:20240726T070116Z
UID:21176-1731423600-1731426300@lupinelane.com
SUMMARY:Austin Wildcat Wigglers Basketball
DESCRIPTION:
URL:https://lupinelane.com/event/austin-wildcat-wigglers-basketball-9/
CATEGORIES:Activities
END:VEVENT
BEGIN:VEVENT
DTSTART;TZID=America/Chicago:20241112T150000
DTEND;TZID=America/Chicago:20241112T154500
DTSTAMP:20260420T221106
CREATED:20241213T080416Z
LAST-MODIFIED:20241213T080416Z
UID:22021-1731423600-1731426300@lupinelane.com
SUMMARY:Yoga: Mindfulness and Movement
DESCRIPTION:
URL:https://lupinelane.com/event/yoga-mindfulness-and-movement-34/
CATEGORIES:Activities
END:VEVENT
BEGIN:VEVENT
DTSTART;TZID=America/Chicago:20241113T150000
DTEND;TZID=America/Chicago:20241113T154500
DTSTAMP:20260420T221106
CREATED:20240726T070210Z
LAST-MODIFIED:20240726T070210Z
UID:21229-1731510000-1731512700@lupinelane.com
SUMMARY:Tumbling with KinderDance by Wendy
DESCRIPTION:
URL:https://lupinelane.com/event/tumbling-with-kinderdance-by-wendy-9/
CATEGORIES:Activities
END:VEVENT
BEGIN:VEVENT
DTSTART;TZID=America/Chicago:20241113T150000
DTEND;TZID=America/Chicago:20241113T154500
DTSTAMP:20260420T221106
CREATED:20240804T070029Z
LAST-MODIFIED:20240804T070029Z
UID:21391-1731510000-1731512700@lupinelane.com
SUMMARY:Mis Sueños: Spanish Language and Culture
DESCRIPTION:
URL:https://lupinelane.com/event/mis-suenos-spanish-language-and-culture-9/
CATEGORIES:Activities
END:VEVENT
BEGIN:VEVENT
DTSTART;TZID=America/Chicago:20241114T150000
DTEND;TZID=America/Chicago:20241114T154500
DTSTAMP:20260420T221106
CREATED:20240802T070110Z
LAST-MODIFIED:20240802T070110Z
UID:21331-1731596400-1731599100@lupinelane.com
SUMMARY:Inside Out: Social Emotional Learning
DESCRIPTION:
URL:https://lupinelane.com/event/inside-out-social-emotional-learning-9/
CATEGORIES:Activities
END:VEVENT
BEGIN:VEVENT
DTSTART;TZID=America/Chicago:20241114T150000
DTEND;TZID=America/Chicago:20241114T154500
DTSTAMP:20260420T221106
CREATED:20241213T080428Z
LAST-MODIFIED:20241213T080428Z
UID:22032-1731596400-1731599100@lupinelane.com
SUMMARY:Sportball
DESCRIPTION:
URL:https://lupinelane.com/event/sportball-33/
CATEGORIES:Activities
END:VEVENT
BEGIN:VEVENT
DTSTART;TZID=America/Chicago:20241115T150000
DTEND;TZID=America/Chicago:20241115T154500
DTSTAMP:20260420T221106
CREATED:20240806T070056Z
LAST-MODIFIED:20240806T070056Z
UID:21483-1731682800-1731685500@lupinelane.com
SUMMARY:NinjaPlay with KidoKinetics
DESCRIPTION:
URL:https://lupinelane.com/event/ninjaplay-with-kidokinetics-8/
CATEGORIES:Activities
END:VEVENT
BEGIN:VEVENT
DTSTART;TZID=America/Chicago:20241115T150000
DTEND;TZID=America/Chicago:20241115T154500
DTSTAMP:20260420T221106
CREATED:20241102T070045Z
LAST-MODIFIED:20241102T070045Z
UID:21760-1731682800-1731685500@lupinelane.com
SUMMARY:The Heart of Art
DESCRIPTION:
URL:https://lupinelane.com/event/the-heart-of-art-32/
CATEGORIES:Activities
END:VEVENT
BEGIN:VEVENT
DTSTART;TZID=America/Chicago:20241118T150000
DTEND;TZID=America/Chicago:20241118T154500
DTSTAMP:20260420T221106
CREATED:20240726T070221Z
LAST-MODIFIED:20240726T070221Z
UID:21240-1731942000-1731944700@lupinelane.com
SUMMARY:Ballet with KinderDance by Wendy
DESCRIPTION:
URL:https://lupinelane.com/event/ballet-with-kinderdance-by-wendy-9/
CATEGORIES:Activities
END:VEVENT
BEGIN:VEVENT
DTSTART;TZID=America/Chicago:20241118T150000
DTEND;TZID=America/Chicago:20241118T154500
DTSTAMP:20260420T221106
CREATED:20241212T080205Z
LAST-MODIFIED:20241212T080205Z
UID:21827-1731942000-1731944700@lupinelane.com
SUMMARY:Soccer Shots
DESCRIPTION:
URL:https://lupinelane.com/event/soccer-shots-32/
CATEGORIES:Activities
END:VEVENT
BEGIN:VEVENT
DTSTART;TZID=America/Chicago:20241119T150000
DTEND;TZID=America/Chicago:20241119T154500
DTSTAMP:20260420T221106
CREATED:20240726T070117Z
LAST-MODIFIED:20240726T070117Z
UID:21177-1732028400-1732031100@lupinelane.com
SUMMARY:Austin Wildcat Wigglers Basketball
DESCRIPTION:
URL:https://lupinelane.com/event/austin-wildcat-wigglers-basketball-10/
CATEGORIES:Activities
END:VEVENT
BEGIN:VEVENT
DTSTART;TZID=America/Chicago:20241119T150000
DTEND;TZID=America/Chicago:20241119T154500
DTSTAMP:20260420T221106
CREATED:20241213T080417Z
LAST-MODIFIED:20241213T080417Z
UID:22022-1732028400-1732031100@lupinelane.com
SUMMARY:Yoga: Mindfulness and Movement
DESCRIPTION:
URL:https://lupinelane.com/event/yoga-mindfulness-and-movement-35/
CATEGORIES:Activities
END:VEVENT
BEGIN:VEVENT
DTSTART;TZID=America/Chicago:20241120T150000
DTEND;TZID=America/Chicago:20241120T154500
DTSTAMP:20260420T221106
CREATED:20240726T070211Z
LAST-MODIFIED:20240726T070211Z
UID:21230-1732114800-1732117500@lupinelane.com
SUMMARY:Tumbling with KinderDance by Wendy
DESCRIPTION:
URL:https://lupinelane.com/event/tumbling-with-kinderdance-by-wendy-10/
CATEGORIES:Activities
END:VEVENT
BEGIN:VEVENT
DTSTART;TZID=America/Chicago:20241120T150000
DTEND;TZID=America/Chicago:20241120T154500
DTSTAMP:20260420T221106
CREATED:20240804T070030Z
LAST-MODIFIED:20240804T070030Z
UID:21392-1732114800-1732117500@lupinelane.com
SUMMARY:Mis Sueños: Spanish Language and Culture
DESCRIPTION:
URL:https://lupinelane.com/event/mis-suenos-spanish-language-and-culture-10/
CATEGORIES:Activities
END:VEVENT
BEGIN:VEVENT
DTSTART;TZID=America/Chicago:20241121T150000
DTEND;TZID=America/Chicago:20241121T154500
DTSTAMP:20260420T221106
CREATED:20240802T070112Z
LAST-MODIFIED:20240802T070112Z
UID:21332-1732201200-1732203900@lupinelane.com
SUMMARY:Inside Out: Social Emotional Learning
DESCRIPTION:
URL:https://lupinelane.com/event/inside-out-social-emotional-learning-10/
CATEGORIES:Activities
END:VEVENT
BEGIN:VEVENT
DTSTART;TZID=America/Chicago:20241121T150000
DTEND;TZID=America/Chicago:20241121T154500
DTSTAMP:20260420T221106
CREATED:20241213T080429Z
LAST-MODIFIED:20241213T080429Z
UID:22033-1732201200-1732203900@lupinelane.com
SUMMARY:Sportball
DESCRIPTION:
URL:https://lupinelane.com/event/sportball-34/
CATEGORIES:Activities
END:VEVENT
BEGIN:VEVENT
DTSTART;TZID=America/Chicago:20241122T150000
DTEND;TZID=America/Chicago:20241122T154500
DTSTAMP:20260420T221106
CREATED:20240806T070057Z
LAST-MODIFIED:20240806T070057Z
UID:21484-1732287600-1732290300@lupinelane.com
SUMMARY:NinjaPlay with KidoKinetics
DESCRIPTION:
URL:https://lupinelane.com/event/ninjaplay-with-kidokinetics-9/
CATEGORIES:Activities
END:VEVENT
BEGIN:VEVENT
DTSTART;TZID=America/Chicago:20241122T150000
DTEND;TZID=America/Chicago:20241122T154500
DTSTAMP:20260420T221106
CREATED:20241102T070046Z
LAST-MODIFIED:20241102T070046Z
UID:21761-1732287600-1732290300@lupinelane.com
SUMMARY:The Heart of Art
DESCRIPTION:
URL:https://lupinelane.com/event/the-heart-of-art-33/
CATEGORIES:Activities
END:VEVENT
BEGIN:VEVENT
DTSTART;TZID=America/Chicago:20241202T150000
DTEND;TZID=America/Chicago:20241202T154500
DTSTAMP:20260420T221106
CREATED:20240726T070222Z
LAST-MODIFIED:20240726T070222Z
UID:21241-1733151600-1733154300@lupinelane.com
SUMMARY:Ballet with KinderDance by Wendy
DESCRIPTION:
URL:https://lupinelane.com/event/ballet-with-kinderdance-by-wendy-10/
CATEGORIES:Activities
END:VEVENT
BEGIN:VEVENT
DTSTART;TZID=America/Chicago:20241202T150000
DTEND;TZID=America/Chicago:20241202T154500
DTSTAMP:20260420T221106
CREATED:20241212T080207Z
LAST-MODIFIED:20241212T080207Z
UID:21828-1733151600-1733154300@lupinelane.com
SUMMARY:Soccer Shots
DESCRIPTION:
URL:https://lupinelane.com/event/soccer-shots-33/
CATEGORIES:Activities
END:VEVENT
BEGIN:VEVENT
DTSTART;TZID=America/Chicago:20241203T150000
DTEND;TZID=America/Chicago:20241203T154500
DTSTAMP:20260420T221106
CREATED:20240726T070118Z
LAST-MODIFIED:20240726T070118Z
UID:21178-1733238000-1733240700@lupinelane.com
SUMMARY:Austin Wildcat Wigglers Basketball
DESCRIPTION:
URL:https://lupinelane.com/event/austin-wildcat-wigglers-basketball-11/
CATEGORIES:Activities
END:VEVENT
BEGIN:VEVENT
DTSTART;TZID=America/Chicago:20241203T150000
DTEND;TZID=America/Chicago:20241203T154500
DTSTAMP:20260420T221106
CREATED:20241213T080418Z
LAST-MODIFIED:20241213T080418Z
UID:22023-1733238000-1733240700@lupinelane.com
SUMMARY:Yoga: Mindfulness and Movement
DESCRIPTION:
URL:https://lupinelane.com/event/yoga-mindfulness-and-movement-36/
CATEGORIES:Activities
END:VEVENT
BEGIN:VEVENT
DTSTART;TZID=America/Chicago:20241204T150000
DTEND;TZID=America/Chicago:20241204T154500
DTSTAMP:20260420T221106
CREATED:20240726T070212Z
LAST-MODIFIED:20240726T070212Z
UID:21231-1733324400-1733327100@lupinelane.com
SUMMARY:Tumbling with KinderDance by Wendy
DESCRIPTION:
URL:https://lupinelane.com/event/tumbling-with-kinderdance-by-wendy-11/
CATEGORIES:Activities
END:VEVENT
BEGIN:VEVENT
DTSTART;TZID=America/Chicago:20241204T150000
DTEND;TZID=America/Chicago:20241204T154500
DTSTAMP:20260420T221106
CREATED:20240804T070031Z
LAST-MODIFIED:20240804T070031Z
UID:21393-1733324400-1733327100@lupinelane.com
SUMMARY:Mis Sueños: Spanish Language and Culture
DESCRIPTION:
URL:https://lupinelane.com/event/mis-suenos-spanish-language-and-culture-11/
CATEGORIES:Activities
END:VEVENT
BEGIN:VEVENT
DTSTART;TZID=America/Chicago:20241205T150000
DTEND;TZID=America/Chicago:20241205T154500
DTSTAMP:20260420T221106
CREATED:20240802T070114Z
LAST-MODIFIED:20240802T070114Z
UID:21333-1733410800-1733413500@lupinelane.com
SUMMARY:Inside Out: Social Emotional Learning
DESCRIPTION:
URL:https://lupinelane.com/event/inside-out-social-emotional-learning-11/
CATEGORIES:Activities
END:VEVENT
BEGIN:VEVENT
DTSTART;TZID=America/Chicago:20241205T150000
DTEND;TZID=America/Chicago:20241205T154500
DTSTAMP:20260420T221106
CREATED:20241213T080430Z
LAST-MODIFIED:20241213T080430Z
UID:22034-1733410800-1733413500@lupinelane.com
SUMMARY:Sportball
DESCRIPTION:
URL:https://lupinelane.com/event/sportball-35/
CATEGORIES:Activities
END:VEVENT
BEGIN:VEVENT
DTSTART;TZID=America/Chicago:20241206T150000
DTEND;TZID=America/Chicago:20241206T154500
DTSTAMP:20260420T221106
CREATED:20240806T070059Z
LAST-MODIFIED:20240806T070059Z
UID:21485-1733497200-1733499900@lupinelane.com
SUMMARY:NinjaPlay with KidoKinetics
DESCRIPTION:
URL:https://lupinelane.com/event/ninjaplay-with-kidokinetics-10/
CATEGORIES:Activities
END:VEVENT
BEGIN:VEVENT
DTSTART;TZID=America/Chicago:20241206T150000
DTEND;TZID=America/Chicago:20241206T154500
DTSTAMP:20260420T221106
CREATED:20241102T070046Z
LAST-MODIFIED:20241102T070046Z
UID:21762-1733497200-1733499900@lupinelane.com
SUMMARY:The Heart of Art
DESCRIPTION:
URL:https://lupinelane.com/event/the-heart-of-art-34/
CATEGORIES:Activities
END:VEVENT
BEGIN:VEVENT
DTSTART;TZID=America/Chicago:20250127T150000
DTEND;TZID=America/Chicago:20250127T154500
DTSTAMP:20260420T221106
CREATED:20241212T080208Z
LAST-MODIFIED:20241212T080208Z
UID:21829-1737990000-1737992700@lupinelane.com
SUMMARY:Soccer Shots
DESCRIPTION:
URL:https://lupinelane.com/event/soccer-shots-34/
CATEGORIES:Activities
END:VEVENT
BEGIN:VEVENT
DTSTART;TZID=America/Chicago:20250127T150000
DTEND;TZID=America/Chicago:20250127T154500
DTSTAMP:20260420T221106
CREATED:20241213T080622Z
LAST-MODIFIED:20241213T080622Z
UID:22139-1737990000-1737992700@lupinelane.com
SUMMARY:The Heart of Art
DESCRIPTION:
URL:https://lupinelane.com/event/the-heart-of-art-35/
CATEGORIES:Activities
END:VEVENT
END:VCALENDAR