BEGIN:VCALENDAR
VERSION:2.0
PRODID:-//Lupine Lane - ECPv6.15.20//NONSGML v1.0//EN
CALSCALE:GREGORIAN
METHOD:PUBLISH
X-WR-CALNAME:Lupine Lane
X-ORIGINAL-URL:https://lupinelane.com
X-WR-CALDESC:Events for Lupine Lane
REFRESH-INTERVAL;VALUE=DURATION:PT1H
X-Robots-Tag:noindex
X-PUBLISHED-TTL:PT1H
BEGIN:VTIMEZONE
TZID:America/Chicago
BEGIN:DAYLIGHT
TZOFFSETFROM:-0600
TZOFFSETTO:-0500
TZNAME:CDT
DTSTART:20240310T080000
END:DAYLIGHT
BEGIN:STANDARD
TZOFFSETFROM:-0500
TZOFFSETTO:-0600
TZNAME:CST
DTSTART:20241103T070000
END:STANDARD
BEGIN:DAYLIGHT
TZOFFSETFROM:-0600
TZOFFSETTO:-0500
TZNAME:CDT
DTSTART:20250309T080000
END:DAYLIGHT
BEGIN:STANDARD
TZOFFSETFROM:-0500
TZOFFSETTO:-0600
TZNAME:CST
DTSTART:20251102T070000
END:STANDARD
BEGIN:DAYLIGHT
TZOFFSETFROM:-0600
TZOFFSETTO:-0500
TZNAME:CDT
DTSTART:20260308T080000
END:DAYLIGHT
BEGIN:STANDARD
TZOFFSETFROM:-0500
TZOFFSETTO:-0600
TZNAME:CST
DTSTART:20261101T070000
END:STANDARD
END:VTIMEZONE
BEGIN:VEVENT
DTSTART;TZID=America/Chicago:20250310T150000
DTEND;TZID=America/Chicago:20250310T154500
DTSTAMP:20260420T230750
CREATED:20241213T080627Z
LAST-MODIFIED:20241213T080627Z
UID:22144-1741618800-1741621500@lupinelane.com
SUMMARY:The Heart of Art
DESCRIPTION:
URL:https://lupinelane.com/event/the-heart-of-art-40/
CATEGORIES:Activities
END:VEVENT
BEGIN:VEVENT
DTSTART;TZID=America/Chicago:20250310T150000
DTEND;TZID=America/Chicago:20250310T154500
DTSTAMP:20260420T230750
CREATED:20250101T080027Z
LAST-MODIFIED:20250101T080027Z
UID:22241-1741618800-1741621500@lupinelane.com
SUMMARY:Coding with Kids: My First Computer Skills
DESCRIPTION:
URL:https://lupinelane.com/event/coding-with-kids-my-first-computer-skills-6/
CATEGORIES:Activities
END:VEVENT
BEGIN:VEVENT
DTSTART;TZID=America/Chicago:20250311T150000
DTEND;TZID=America/Chicago:20250311T154500
DTSTAMP:20260420T230750
CREATED:20241213T080604Z
LAST-MODIFIED:20241213T080604Z
UID:22120-1741705200-1741707900@lupinelane.com
SUMMARY:Once Upon a Skill
DESCRIPTION:
URL:https://lupinelane.com/event/once-upon-a-skill-7/
CATEGORIES:Activities
END:VEVENT
BEGIN:VEVENT
DTSTART;TZID=America/Chicago:20250311T150000
DTEND;TZID=America/Chicago:20250311T154500
DTSTAMP:20260420T230750
CREATED:20241213T080640Z
LAST-MODIFIED:20241213T080640Z
UID:22158-1741705200-1741707900@lupinelane.com
SUMMARY:Champs Express Tumbling
DESCRIPTION:
URL:https://lupinelane.com/event/champs-express-tumbling-7/
CATEGORIES:Activities
END:VEVENT
BEGIN:VEVENT
DTSTART;TZID=America/Chicago:20250312T150000
DTEND;TZID=America/Chicago:20250312T154500
DTSTAMP:20260420T230750
CREATED:20241213T080451Z
LAST-MODIFIED:20241213T080451Z
UID:22054-1741791600-1741794300@lupinelane.com
SUMMARY:The Friendship Circle: A Social-Emotional Journey
DESCRIPTION:
URL:https://lupinelane.com/event/the-friendship-circle-a-social-emotional-journey-21/
CATEGORIES:Activities
END:VEVENT
BEGIN:VEVENT
DTSTART;TZID=America/Chicago:20250312T150000
DTEND;TZID=America/Chicago:20250312T154500
DTSTAMP:20260420T230750
CREATED:20241213T080524Z
LAST-MODIFIED:20241213T080524Z
UID:22081-1741791600-1741794300@lupinelane.com
SUMMARY:Ballet with KinderDance by Wendy
DESCRIPTION:
URL:https://lupinelane.com/event/ballet-with-kinderdance-by-wendy-17/
CATEGORIES:Activities
END:VEVENT
BEGIN:VEVENT
DTSTART;TZID=America/Chicago:20250312T150000
DTEND;TZID=America/Chicago:20250312T154500
DTSTAMP:20260420T230750
CREATED:20241213T080550Z
LAST-MODIFIED:20241213T080550Z
UID:22106-1741791600-1741794300@lupinelane.com
SUMMARY:The Friendship Circle: A Social Emotional Journey
DESCRIPTION:
URL:https://lupinelane.com/event/the-friendship-circle-a-social-emotional-journey-35/
CATEGORIES:Activities
END:VEVENT
BEGIN:VEVENT
DTSTART;TZID=America/Chicago:20250312T150000
DTEND;TZID=America/Chicago:20250312T154500
DTSTAMP:20260420T230750
CREATED:20241213T080654Z
LAST-MODIFIED:20241213T080654Z
UID:22172-1741791600-1741794300@lupinelane.com
SUMMARY:Mis Sueños: Spanish Language and Culture
DESCRIPTION:
URL:https://lupinelane.com/event/mis-suenos-spanish-language-and-culture-18/
CATEGORIES:Activities
END:VEVENT
BEGIN:VEVENT
DTSTART;TZID=America/Chicago:20250313T150000
DTEND;TZID=America/Chicago:20250313T154500
DTSTAMP:20260420T230750
CREATED:20241213T080436Z
LAST-MODIFIED:20241213T080436Z
UID:22040-1741878000-1741880700@lupinelane.com
SUMMARY:Yoga: Mindfulness and Movement
DESCRIPTION:
URL:https://lupinelane.com/event/yoga-mindfulness-and-movement-42/
CATEGORIES:Activities
END:VEVENT
BEGIN:VEVENT
DTSTART;TZID=America/Chicago:20250313T150000
DTEND;TZID=America/Chicago:20250313T154500
DTSTAMP:20260420T230750
CREATED:20241213T080504Z
LAST-MODIFIED:20241213T080504Z
UID:22067-1741878000-1741880700@lupinelane.com
SUMMARY:Sportball
DESCRIPTION:
URL:https://lupinelane.com/event/sportball-41/
CATEGORIES:Activities
END:VEVENT
BEGIN:VEVENT
DTSTART;TZID=America/Chicago:20250314T150000
DTEND;TZID=America/Chicago:20250314T154500
DTSTAMP:20260420T230750
CREATED:20241213T080616Z
LAST-MODIFIED:20241213T080616Z
UID:22133-1741964400-1741967100@lupinelane.com
SUMMARY:Austin Wildcat Wigglers Basketball
DESCRIPTION:
URL:https://lupinelane.com/event/austin-wildcat-wigglers-basketball-17/
CATEGORIES:Activities
END:VEVENT
BEGIN:VEVENT
DTSTART;TZID=America/Chicago:20250314T150000
DTEND;TZID=America/Chicago:20250314T154500
DTSTAMP:20260420T230750
CREATED:20241222T080028Z
LAST-MODIFIED:20241222T080028Z
UID:22213-1741964400-1741967100@lupinelane.com
SUMMARY:Inside Out: A Social Emotional Journey
DESCRIPTION:
URL:https://lupinelane.com/event/inside-out-a-social-emotional-journey-6/
CATEGORIES:Activities
END:VEVENT
BEGIN:VEVENT
DTSTART;TZID=America/Chicago:20250324T150000
DTEND;TZID=America/Chicago:20250324T154500
DTSTAMP:20260420T230750
CREATED:20241212T080215Z
LAST-MODIFIED:20241212T080215Z
UID:21835-1742828400-1742831100@lupinelane.com
SUMMARY:Soccer Shots
DESCRIPTION:
URL:https://lupinelane.com/event/soccer-shots-40/
CATEGORIES:Activities
END:VEVENT
BEGIN:VEVENT
DTSTART;TZID=America/Chicago:20250324T150000
DTEND;TZID=America/Chicago:20250324T154500
DTSTAMP:20260420T230750
CREATED:20241213T080628Z
LAST-MODIFIED:20241213T080628Z
UID:22145-1742828400-1742831100@lupinelane.com
SUMMARY:The Heart of Art
DESCRIPTION:
URL:https://lupinelane.com/event/the-heart-of-art-41/
CATEGORIES:Activities
END:VEVENT
BEGIN:VEVENT
DTSTART;TZID=America/Chicago:20250324T150000
DTEND;TZID=America/Chicago:20250324T154500
DTSTAMP:20260420T230750
CREATED:20250101T080028Z
LAST-MODIFIED:20250101T080028Z
UID:22242-1742828400-1742831100@lupinelane.com
SUMMARY:Coding with Kids: My First Computer Skills
DESCRIPTION:
URL:https://lupinelane.com/event/coding-with-kids-my-first-computer-skills-7/
CATEGORIES:Activities
END:VEVENT
BEGIN:VEVENT
DTSTART;TZID=America/Chicago:20250325T150000
DTEND;TZID=America/Chicago:20250325T154500
DTSTAMP:20260420T230750
CREATED:20241213T080605Z
LAST-MODIFIED:20241213T080605Z
UID:22121-1742914800-1742917500@lupinelane.com
SUMMARY:Once Upon a Skill
DESCRIPTION:
URL:https://lupinelane.com/event/once-upon-a-skill-8/
CATEGORIES:Activities
END:VEVENT
BEGIN:VEVENT
DTSTART;TZID=America/Chicago:20250325T150000
DTEND;TZID=America/Chicago:20250325T154500
DTSTAMP:20260420T230750
CREATED:20241213T080641Z
LAST-MODIFIED:20241213T080641Z
UID:22159-1742914800-1742917500@lupinelane.com
SUMMARY:Champs Express Tumbling
DESCRIPTION:
URL:https://lupinelane.com/event/champs-express-tumbling-8/
CATEGORIES:Activities
END:VEVENT
BEGIN:VEVENT
DTSTART;TZID=America/Chicago:20250326T150000
DTEND;TZID=America/Chicago:20250326T154500
DTSTAMP:20260420T230750
CREATED:20241213T080452Z
LAST-MODIFIED:20241213T080452Z
UID:22055-1743001200-1743003900@lupinelane.com
SUMMARY:The Friendship Circle: A Social-Emotional Journey
DESCRIPTION:
URL:https://lupinelane.com/event/the-friendship-circle-a-social-emotional-journey-22/
CATEGORIES:Activities
END:VEVENT
BEGIN:VEVENT
DTSTART;TZID=America/Chicago:20250326T150000
DTEND;TZID=America/Chicago:20250326T154500
DTSTAMP:20260420T230750
CREATED:20241213T080525Z
LAST-MODIFIED:20241213T080525Z
UID:22082-1743001200-1743003900@lupinelane.com
SUMMARY:Ballet with KinderDance by Wendy
DESCRIPTION:
URL:https://lupinelane.com/event/ballet-with-kinderdance-by-wendy-18/
CATEGORIES:Activities
END:VEVENT
BEGIN:VEVENT
DTSTART;TZID=America/Chicago:20250326T150000
DTEND;TZID=America/Chicago:20250326T154500
DTSTAMP:20260420T230750
CREATED:20241213T080551Z
LAST-MODIFIED:20241213T080551Z
UID:22107-1743001200-1743003900@lupinelane.com
SUMMARY:The Friendship Circle: A Social Emotional Journey
DESCRIPTION:
URL:https://lupinelane.com/event/the-friendship-circle-a-social-emotional-journey-36/
CATEGORIES:Activities
END:VEVENT
BEGIN:VEVENT
DTSTART;TZID=America/Chicago:20250326T150000
DTEND;TZID=America/Chicago:20250326T154500
DTSTAMP:20260420T230750
CREATED:20241213T080655Z
LAST-MODIFIED:20241213T080655Z
UID:22173-1743001200-1743003900@lupinelane.com
SUMMARY:Mis Sueños: Spanish Language and Culture
DESCRIPTION:
URL:https://lupinelane.com/event/mis-suenos-spanish-language-and-culture-19/
CATEGORIES:Activities
END:VEVENT
BEGIN:VEVENT
DTSTART;TZID=America/Chicago:20250327T150000
DTEND;TZID=America/Chicago:20250327T154500
DTSTAMP:20260420T230750
CREATED:20241213T080437Z
LAST-MODIFIED:20241213T080437Z
UID:22041-1743087600-1743090300@lupinelane.com
SUMMARY:Yoga: Mindfulness and Movement
DESCRIPTION:
URL:https://lupinelane.com/event/yoga-mindfulness-and-movement-43/
CATEGORIES:Activities
END:VEVENT
BEGIN:VEVENT
DTSTART;TZID=America/Chicago:20250327T150000
DTEND;TZID=America/Chicago:20250327T154500
DTSTAMP:20260420T230750
CREATED:20241213T080505Z
LAST-MODIFIED:20241213T080505Z
UID:22068-1743087600-1743090300@lupinelane.com
SUMMARY:Sportball
DESCRIPTION:
URL:https://lupinelane.com/event/sportball-42/
CATEGORIES:Activities
END:VEVENT
BEGIN:VEVENT
DTSTART;TZID=America/Chicago:20250328T150000
DTEND;TZID=America/Chicago:20250328T154500
DTSTAMP:20260420T230750
CREATED:20241213T080617Z
LAST-MODIFIED:20241213T080617Z
UID:22134-1743174000-1743176700@lupinelane.com
SUMMARY:Austin Wildcat Wigglers Basketball
DESCRIPTION:
URL:https://lupinelane.com/event/austin-wildcat-wigglers-basketball-18/
CATEGORIES:Activities
END:VEVENT
BEGIN:VEVENT
DTSTART;TZID=America/Chicago:20250328T150000
DTEND;TZID=America/Chicago:20250328T154500
DTSTAMP:20260420T230750
CREATED:20241222T080029Z
LAST-MODIFIED:20241222T080029Z
UID:22214-1743174000-1743176700@lupinelane.com
SUMMARY:Inside Out: A Social Emotional Journey
DESCRIPTION:
URL:https://lupinelane.com/event/inside-out-a-social-emotional-journey-7/
CATEGORIES:Activities
END:VEVENT
BEGIN:VEVENT
DTSTART;TZID=America/Chicago:20250331T150000
DTEND;TZID=America/Chicago:20250331T154500
DTSTAMP:20260420T230750
CREATED:20241212T080216Z
LAST-MODIFIED:20241212T080216Z
UID:21836-1743433200-1743435900@lupinelane.com
SUMMARY:Soccer Shots
DESCRIPTION:
URL:https://lupinelane.com/event/soccer-shots-41/
CATEGORIES:Activities
END:VEVENT
BEGIN:VEVENT
DTSTART;TZID=America/Chicago:20250331T150000
DTEND;TZID=America/Chicago:20250331T154500
DTSTAMP:20260420T230750
CREATED:20241213T080629Z
LAST-MODIFIED:20241213T080629Z
UID:22146-1743433200-1743435900@lupinelane.com
SUMMARY:The Heart of Art
DESCRIPTION:
URL:https://lupinelane.com/event/the-heart-of-art-42/
CATEGORIES:Activities
END:VEVENT
BEGIN:VEVENT
DTSTART;TZID=America/Chicago:20250331T150000
DTEND;TZID=America/Chicago:20250331T154500
DTSTAMP:20260420T230750
CREATED:20250101T080029Z
LAST-MODIFIED:20250101T080029Z
UID:22243-1743433200-1743435900@lupinelane.com
SUMMARY:Coding with Kids: My First Computer Skills
DESCRIPTION:
URL:https://lupinelane.com/event/coding-with-kids-my-first-computer-skills-8/
CATEGORIES:Activities
END:VEVENT
BEGIN:VEVENT
DTSTART;TZID=America/Chicago:20250401T150000
DTEND;TZID=America/Chicago:20250401T154500
DTSTAMP:20260420T230750
CREATED:20241213T080606Z
LAST-MODIFIED:20241213T080606Z
UID:22122-1743519600-1743522300@lupinelane.com
SUMMARY:Once Upon a Skill
DESCRIPTION:
URL:https://lupinelane.com/event/once-upon-a-skill-9/
CATEGORIES:Activities
END:VEVENT
BEGIN:VEVENT
DTSTART;TZID=America/Chicago:20250401T150000
DTEND;TZID=America/Chicago:20250401T154500
DTSTAMP:20260420T230750
CREATED:20241213T080642Z
LAST-MODIFIED:20241213T080642Z
UID:22160-1743519600-1743522300@lupinelane.com
SUMMARY:Champs Express Tumbling
DESCRIPTION:
URL:https://lupinelane.com/event/champs-express-tumbling-9/
CATEGORIES:Activities
END:VEVENT
END:VCALENDAR