BEGIN:VCALENDAR
VERSION:2.0
PRODID:-//Lupine Lane - ECPv6.15.20//NONSGML v1.0//EN
CALSCALE:GREGORIAN
METHOD:PUBLISH
X-ORIGINAL-URL:https://lupinelane.com
X-WR-CALDESC:Events for Lupine Lane
REFRESH-INTERVAL;VALUE=DURATION:PT1H
X-Robots-Tag:noindex
X-PUBLISHED-TTL:PT1H
BEGIN:VTIMEZONE
TZID:America/Chicago
BEGIN:DAYLIGHT
TZOFFSETFROM:-0600
TZOFFSETTO:-0500
TZNAME:CDT
DTSTART:20250309T080000
END:DAYLIGHT
BEGIN:STANDARD
TZOFFSETFROM:-0500
TZOFFSETTO:-0600
TZNAME:CST
DTSTART:20251102T070000
END:STANDARD
BEGIN:DAYLIGHT
TZOFFSETFROM:-0600
TZOFFSETTO:-0500
TZNAME:CDT
DTSTART:20260308T080000
END:DAYLIGHT
BEGIN:STANDARD
TZOFFSETFROM:-0500
TZOFFSETTO:-0600
TZNAME:CST
DTSTART:20261101T070000
END:STANDARD
BEGIN:DAYLIGHT
TZOFFSETFROM:-0600
TZOFFSETTO:-0500
TZNAME:CDT
DTSTART:20270314T080000
END:DAYLIGHT
BEGIN:STANDARD
TZOFFSETFROM:-0500
TZOFFSETTO:-0600
TZNAME:CST
DTSTART:20271107T070000
END:STANDARD
END:VTIMEZONE
BEGIN:VEVENT
DTSTART;TZID=America/Chicago:20260501T150000
DTEND;TZID=America/Chicago:20260501T154500
DTSTAMP:20260420T012307
CREATED:20251228T080701Z
LAST-MODIFIED:20251228T080701Z
UID:26408-1777647600-1777650300@lupinelane.com
SUMMARY:The Heart of Art
DESCRIPTION:
URL:https://lupinelane.com/event/the-heart-of-art-68/
CATEGORIES:Activities
END:VEVENT
BEGIN:VEVENT
DTSTART;TZID=America/Chicago:20260501T150000
DTEND;TZID=America/Chicago:20260501T154500
DTSTAMP:20260420T012307
CREATED:20251228T080714Z
LAST-MODIFIED:20251228T080714Z
UID:26419-1777647600-1777650300@lupinelane.com
SUMMARY:Full STEAM Ahead!
DESCRIPTION:
URL:https://lupinelane.com/event/full-steam-ahead-44/
CATEGORIES:Activities
END:VEVENT
BEGIN:VEVENT
DTSTART;TZID=America/Chicago:20260504T150000
DTEND;TZID=America/Chicago:20260504T154500
DTSTAMP:20260420T012307
CREATED:20251228T080500Z
LAST-MODIFIED:20251228T080500Z
UID:26303-1777906800-1777909500@lupinelane.com
SUMMARY:Soccer Shots
DESCRIPTION:
URL:https://lupinelane.com/event/soccer-shots-70/
CATEGORIES:Activities
END:VEVENT
BEGIN:VEVENT
DTSTART;TZID=America/Chicago:20260504T150000
DTEND;TZID=America/Chicago:20260504T154500
DTSTAMP:20260420T012307
CREATED:20251228T080515Z
LAST-MODIFIED:20251228T080515Z
UID:26316-1777906800-1777909500@lupinelane.com
SUMMARY:Little Chefs' Club
DESCRIPTION:
URL:https://lupinelane.com/event/little-chefs-club-25/
CATEGORIES:Activities
END:VEVENT
BEGIN:VEVENT
DTSTART;TZID=America/Chicago:20260505T150000
DTEND;TZID=America/Chicago:20260505T154500
DTSTAMP:20260420T012307
CREATED:20260102T080332Z
LAST-MODIFIED:20260102T080332Z
UID:26448-1777993200-1777995900@lupinelane.com
SUMMARY:StoryPlay Theatre
DESCRIPTION:
URL:https://lupinelane.com/event/storyplay-theatre-14/
CATEGORIES:Activities
END:VEVENT
BEGIN:VEVENT
DTSTART;TZID=America/Chicago:20260505T150000
DTEND;TZID=America/Chicago:20260505T154500
DTSTAMP:20260420T012307
CREATED:20260117T080322Z
LAST-MODIFIED:20260117T080322Z
UID:26481-1777993200-1777995900@lupinelane.com
SUMMARY:Austin Wildcats Wigglers Basketball
DESCRIPTION:
URL:https://lupinelane.com/event/austin-wildcats-wigglers-basketball-26/
CATEGORIES:Activities
END:VEVENT
BEGIN:VEVENT
DTSTART;TZID=America/Chicago:20260506T150000
DTEND;TZID=America/Chicago:20260506T154500
DTSTAMP:20260420T012307
CREATED:20251228T080602Z
LAST-MODIFIED:20251228T080602Z
UID:26358-1778079600-1778082300@lupinelane.com
SUMMARY:Ballet with KinderDance
DESCRIPTION:
URL:https://lupinelane.com/event/ballet-with-kinderdance-26/
CATEGORIES:Activities
END:VEVENT
BEGIN:VEVENT
DTSTART;TZID=America/Chicago:20260506T150000
DTEND;TZID=America/Chicago:20260506T154500
DTSTAMP:20260420T012307
CREATED:20260312T070340Z
LAST-MODIFIED:20260312T070340Z
UID:27401-1778079600-1778082300@lupinelane.com
SUMMARY:Champs Express Tumbling
DESCRIPTION:
URL:https://lupinelane.com/event/champs-express-tumbling-40/
CATEGORIES:Activities
END:VEVENT
BEGIN:VEVENT
DTSTART;TZID=America/Chicago:20260507T150000
DTEND;TZID=America/Chicago:20260507T154500
DTSTAMP:20260420T012307
CREATED:20251228T080634Z
LAST-MODIFIED:20251228T080634Z
UID:26385-1778166000-1778168700@lupinelane.com
SUMMARY:Mis Sueños: Spanish Language and Culture
DESCRIPTION:
URL:https://lupinelane.com/event/mis-suenos-spanish-language-and-culture-50/
CATEGORIES:Activities
END:VEVENT
BEGIN:VEVENT
DTSTART;TZID=America/Chicago:20260507T150000
DTEND;TZID=America/Chicago:20260507T154500
DTSTAMP:20260420T012307
CREATED:20251228T080650Z
LAST-MODIFIED:20251228T080650Z
UID:26398-1778166000-1778168700@lupinelane.com
SUMMARY:Sportball
DESCRIPTION:
URL:https://lupinelane.com/event/sportball-73/
CATEGORIES:Activities
END:VEVENT
BEGIN:VEVENT
DTSTART;TZID=America/Chicago:20260508T150000
DTEND;TZID=America/Chicago:20260508T154500
DTSTAMP:20260420T012307
CREATED:20251228T080703Z
LAST-MODIFIED:20251228T080703Z
UID:26409-1778252400-1778255100@lupinelane.com
SUMMARY:The Heart of Art
DESCRIPTION:
URL:https://lupinelane.com/event/the-heart-of-art-69/
CATEGORIES:Activities
END:VEVENT
BEGIN:VEVENT
DTSTART;TZID=America/Chicago:20260508T150000
DTEND;TZID=America/Chicago:20260508T154500
DTSTAMP:20260420T012307
CREATED:20251228T080715Z
LAST-MODIFIED:20251228T080715Z
UID:26420-1778252400-1778255100@lupinelane.com
SUMMARY:Full STEAM Ahead!
DESCRIPTION:
URL:https://lupinelane.com/event/full-steam-ahead-45/
CATEGORIES:Activities
END:VEVENT
END:VCALENDAR