BEGIN:VCALENDAR
VERSION:2.0
PRODID:-//Lupine Lane - ECPv6.15.20//NONSGML v1.0//EN
CALSCALE:GREGORIAN
METHOD:PUBLISH
X-ORIGINAL-URL:https://lupinelane.com
X-WR-CALDESC:Events for Lupine Lane
REFRESH-INTERVAL;VALUE=DURATION:PT1H
X-Robots-Tag:noindex
X-PUBLISHED-TTL:PT1H
BEGIN:VTIMEZONE
TZID:America/Chicago
BEGIN:DAYLIGHT
TZOFFSETFROM:-0600
TZOFFSETTO:-0500
TZNAME:CDT
DTSTART:20230312T080000
END:DAYLIGHT
BEGIN:STANDARD
TZOFFSETFROM:-0500
TZOFFSETTO:-0600
TZNAME:CST
DTSTART:20231105T070000
END:STANDARD
BEGIN:DAYLIGHT
TZOFFSETFROM:-0600
TZOFFSETTO:-0500
TZNAME:CDT
DTSTART:20240310T080000
END:DAYLIGHT
BEGIN:STANDARD
TZOFFSETFROM:-0500
TZOFFSETTO:-0600
TZNAME:CST
DTSTART:20241103T070000
END:STANDARD
BEGIN:DAYLIGHT
TZOFFSETFROM:-0600
TZOFFSETTO:-0500
TZNAME:CDT
DTSTART:20250309T080000
END:DAYLIGHT
BEGIN:STANDARD
TZOFFSETFROM:-0500
TZOFFSETTO:-0600
TZNAME:CST
DTSTART:20251102T070000
END:STANDARD
END:VTIMEZONE
BEGIN:VEVENT
DTSTART;TZID=America/Chicago:20240603T090000
DTEND;TZID=America/Chicago:20240603T140000
DTSTAMP:20260420T202243
CREATED:20240531T070114Z
LAST-MODIFIED:20240531T070114Z
UID:20655-1717405200-1717423200@lupinelane.com
SUMMARY:Genre Camp - Fizzle\, Bubble\, Pop and WOW! Science
DESCRIPTION:
URL:https://lupinelane.com/event/genre-camp-fizzle-bubble-pop-and-wow-science/
CATEGORIES:Camps
END:VEVENT
BEGIN:VEVENT
DTSTART;TZID=America/Chicago:20240603T090000
DTEND;TZID=America/Chicago:20240603T140000
DTSTAMP:20260420T202243
CREATED:20240531T070120Z
LAST-MODIFIED:20240531T070120Z
UID:20660-1717405200-1717423200@lupinelane.com
SUMMARY:Creations & Explorations: Sensational Explorations
DESCRIPTION:
URL:https://lupinelane.com/event/creations-explorations-sensational-explorations/
CATEGORIES:Camps
END:VEVENT
BEGIN:VEVENT
DTSTART;TZID=America/Chicago:20240604T090000
DTEND;TZID=America/Chicago:20240604T140000
DTSTAMP:20260420T202243
CREATED:20240531T070115Z
LAST-MODIFIED:20240531T070115Z
UID:20656-1717491600-1717509600@lupinelane.com
SUMMARY:Genre Camp - Fizzle\, Bubble\, Pop and WOW! Science
DESCRIPTION:
URL:https://lupinelane.com/event/genre-camp-fizzle-bubble-pop-and-wow-science-2/
CATEGORIES:Camps
END:VEVENT
BEGIN:VEVENT
DTSTART;TZID=America/Chicago:20240604T090000
DTEND;TZID=America/Chicago:20240604T140000
DTSTAMP:20260420T202243
CREATED:20240531T070122Z
LAST-MODIFIED:20240531T070122Z
UID:20661-1717491600-1717509600@lupinelane.com
SUMMARY:Creations & Explorations: Sensational Explorations
DESCRIPTION:
URL:https://lupinelane.com/event/creations-explorations-sensational-explorations-2/
CATEGORIES:Camps
END:VEVENT
BEGIN:VEVENT
DTSTART;TZID=America/Chicago:20240605T090000
DTEND;TZID=America/Chicago:20240605T140000
DTSTAMP:20260420T202243
CREATED:20240531T070117Z
LAST-MODIFIED:20240531T070117Z
UID:20657-1717578000-1717596000@lupinelane.com
SUMMARY:Genre Camp - Fizzle\, Bubble\, Pop and WOW! Science
DESCRIPTION:
URL:https://lupinelane.com/event/genre-camp-fizzle-bubble-pop-and-wow-science-3/
CATEGORIES:Camps
END:VEVENT
BEGIN:VEVENT
DTSTART;TZID=America/Chicago:20240605T090000
DTEND;TZID=America/Chicago:20240605T140000
DTSTAMP:20260420T202243
CREATED:20240531T070123Z
LAST-MODIFIED:20240531T070123Z
UID:20662-1717578000-1717596000@lupinelane.com
SUMMARY:Creations & Explorations: Sensational Explorations
DESCRIPTION:
URL:https://lupinelane.com/event/creations-explorations-sensational-explorations-3/
CATEGORIES:Camps
END:VEVENT
BEGIN:VEVENT
DTSTART;TZID=America/Chicago:20240606T090000
DTEND;TZID=America/Chicago:20240606T140000
DTSTAMP:20260420T202243
CREATED:20240531T070118Z
LAST-MODIFIED:20240531T070118Z
UID:20658-1717664400-1717682400@lupinelane.com
SUMMARY:Genre Camp - Fizzle\, Bubble\, Pop and WOW! Science
DESCRIPTION:
URL:https://lupinelane.com/event/genre-camp-fizzle-bubble-pop-and-wow-science-4/
CATEGORIES:Camps
END:VEVENT
BEGIN:VEVENT
DTSTART;TZID=America/Chicago:20240606T090000
DTEND;TZID=America/Chicago:20240606T140000
DTSTAMP:20260420T202243
CREATED:20240531T070124Z
LAST-MODIFIED:20240531T070124Z
UID:20663-1717664400-1717682400@lupinelane.com
SUMMARY:Creations & Explorations: Sensational Explorations
DESCRIPTION:
URL:https://lupinelane.com/event/creations-explorations-sensational-explorations-4/
CATEGORIES:Camps
END:VEVENT
BEGIN:VEVENT
DTSTART;TZID=America/Chicago:20240607T090000
DTEND;TZID=America/Chicago:20240607T140000
DTSTAMP:20260420T202243
CREATED:20240531T070119Z
LAST-MODIFIED:20240531T070119Z
UID:20659-1717750800-1717768800@lupinelane.com
SUMMARY:Genre Camp - Fizzle\, Bubble\, Pop and WOW! Science
DESCRIPTION:
URL:https://lupinelane.com/event/genre-camp-fizzle-bubble-pop-and-wow-science-5/
CATEGORIES:Camps
END:VEVENT
BEGIN:VEVENT
DTSTART;TZID=America/Chicago:20240607T090000
DTEND;TZID=America/Chicago:20240607T140000
DTSTAMP:20260420T202243
CREATED:20240531T070125Z
LAST-MODIFIED:20240531T070125Z
UID:20664-1717750800-1717768800@lupinelane.com
SUMMARY:Creations & Explorations: Sensational Explorations
DESCRIPTION:
URL:https://lupinelane.com/event/creations-explorations-sensational-explorations-5/
CATEGORIES:Camps
END:VEVENT
BEGIN:VEVENT
DTSTART;TZID=America/Chicago:20240610T090000
DTEND;TZID=America/Chicago:20240610T140000
DTSTAMP:20260420T202243
CREATED:20240504T070054Z
LAST-MODIFIED:20240504T070054Z
UID:20215-1718010000-1718028000@lupinelane.com
SUMMARY:Genre Camp - The Heart of Art
DESCRIPTION:
URL:https://lupinelane.com/event/genre-camp-the-heart-of-art/
CATEGORIES:Camps
END:VEVENT
BEGIN:VEVENT
DTSTART;TZID=America/Chicago:20240610T090000
DTEND;TZID=America/Chicago:20240610T140000
DTSTAMP:20260420T202243
CREATED:20240611T070047Z
LAST-MODIFIED:20240611T070047Z
UID:20785-1718010000-1718028000@lupinelane.com
SUMMARY:Creations & Explorations: Color My World
DESCRIPTION:
URL:https://lupinelane.com/event/creations-explorations-color-my-world/
CATEGORIES:Camps
END:VEVENT
BEGIN:VEVENT
DTSTART;TZID=America/Chicago:20240611T090000
DTEND;TZID=America/Chicago:20240611T140000
DTSTAMP:20260420T202243
CREATED:20240504T070055Z
LAST-MODIFIED:20240504T070055Z
UID:20216-1718096400-1718114400@lupinelane.com
SUMMARY:Genre Camp - The Heart of Art
DESCRIPTION:
URL:https://lupinelane.com/event/genre-camp-the-heart-of-art-2/
CATEGORIES:Camps
END:VEVENT
BEGIN:VEVENT
DTSTART;TZID=America/Chicago:20240611T090000
DTEND;TZID=America/Chicago:20240611T140000
DTSTAMP:20260420T202243
CREATED:20240611T070048Z
LAST-MODIFIED:20240611T070048Z
UID:20786-1718096400-1718114400@lupinelane.com
SUMMARY:Creations & Explorations: Color My World
DESCRIPTION:
URL:https://lupinelane.com/event/creations-explorations-color-my-world-2/
CATEGORIES:Camps
END:VEVENT
BEGIN:VEVENT
DTSTART;TZID=America/Chicago:20240612T090000
DTEND;TZID=America/Chicago:20240612T140000
DTSTAMP:20260420T202243
CREATED:20240504T070056Z
LAST-MODIFIED:20240504T070056Z
UID:20217-1718182800-1718200800@lupinelane.com
SUMMARY:Genre Camp - The Heart of Art
DESCRIPTION:
URL:https://lupinelane.com/event/genre-camp-the-heart-of-art-3/
CATEGORIES:Camps
END:VEVENT
BEGIN:VEVENT
DTSTART;TZID=America/Chicago:20240612T090000
DTEND;TZID=America/Chicago:20240612T140000
DTSTAMP:20260420T202243
CREATED:20240611T070049Z
LAST-MODIFIED:20240611T070049Z
UID:20787-1718182800-1718200800@lupinelane.com
SUMMARY:Creations & Explorations: Color My World
DESCRIPTION:
URL:https://lupinelane.com/event/creations-explorations-color-my-world-3/
CATEGORIES:Camps
END:VEVENT
BEGIN:VEVENT
DTSTART;TZID=America/Chicago:20240613T090000
DTEND;TZID=America/Chicago:20240613T140000
DTSTAMP:20260420T202243
CREATED:20240504T070057Z
LAST-MODIFIED:20240504T070057Z
UID:20218-1718269200-1718287200@lupinelane.com
SUMMARY:Genre Camp - The Heart of Art
DESCRIPTION:
URL:https://lupinelane.com/event/genre-camp-the-heart-of-art-4/
CATEGORIES:Camps
END:VEVENT
BEGIN:VEVENT
DTSTART;TZID=America/Chicago:20240613T090000
DTEND;TZID=America/Chicago:20240613T140000
DTSTAMP:20260420T202243
CREATED:20240611T070050Z
LAST-MODIFIED:20240611T070050Z
UID:20788-1718269200-1718287200@lupinelane.com
SUMMARY:Creations & Explorations: Color My World
DESCRIPTION:
URL:https://lupinelane.com/event/creations-explorations-color-my-world-4/
CATEGORIES:Camps
END:VEVENT
BEGIN:VEVENT
DTSTART;TZID=America/Chicago:20240614T090000
DTEND;TZID=America/Chicago:20240614T140000
DTSTAMP:20260420T202243
CREATED:20240504T070058Z
LAST-MODIFIED:20240504T070058Z
UID:20219-1718355600-1718373600@lupinelane.com
SUMMARY:Genre Camp - The Heart of Art
DESCRIPTION:
URL:https://lupinelane.com/event/genre-camp-the-heart-of-art-5/
CATEGORIES:Camps
END:VEVENT
BEGIN:VEVENT
DTSTART;TZID=America/Chicago:20240614T090000
DTEND;TZID=America/Chicago:20240614T140000
DTSTAMP:20260420T202243
CREATED:20240611T070051Z
LAST-MODIFIED:20240611T070051Z
UID:20789-1718355600-1718373600@lupinelane.com
SUMMARY:Creations & Explorations: Color My World
DESCRIPTION:
URL:https://lupinelane.com/event/creations-explorations-color-my-world-5/
CATEGORIES:Camps
END:VEVENT
BEGIN:VEVENT
DTSTART;TZID=America/Chicago:20240617T090000
DTEND;TZID=America/Chicago:20240617T140000
DTSTAMP:20260420T202243
CREATED:20240615T070025Z
LAST-MODIFIED:20240615T070025Z
UID:20830-1718614800-1718632800@lupinelane.com
SUMMARY:Creations & Explorations: Vehicles in Motion
DESCRIPTION:
URL:https://lupinelane.com/event/creations-explorations-vehicles-in-motion/
CATEGORIES:Camps
END:VEVENT
BEGIN:VEVENT
DTSTART;TZID=America/Chicago:20240617T090000
DTEND;TZID=America/Chicago:20240617T140000
DTSTAMP:20260420T202243
CREATED:20240615T070030Z
LAST-MODIFIED:20240615T070030Z
UID:20835-1718614800-1718632800@lupinelane.com
SUMMARY:Genre Camp - Be the Change! Leadership
DESCRIPTION:
URL:https://lupinelane.com/event/genre-camp-be-the-change-leadership/
CATEGORIES:Camps
END:VEVENT
BEGIN:VEVENT
DTSTART;TZID=America/Chicago:20240618T090000
DTEND;TZID=America/Chicago:20240618T140000
DTSTAMP:20260420T202243
CREATED:20240615T070026Z
LAST-MODIFIED:20240615T070026Z
UID:20831-1718701200-1718719200@lupinelane.com
SUMMARY:Creations & Explorations: Vehicles in Motion
DESCRIPTION:
URL:https://lupinelane.com/event/creations-explorations-vehicles-in-motion-2/
CATEGORIES:Camps
END:VEVENT
BEGIN:VEVENT
DTSTART;TZID=America/Chicago:20240618T090000
DTEND;TZID=America/Chicago:20240618T140000
DTSTAMP:20260420T202243
CREATED:20240615T070031Z
LAST-MODIFIED:20240615T070031Z
UID:20836-1718701200-1718719200@lupinelane.com
SUMMARY:Genre Camp - Be the Change! Leadership
DESCRIPTION:
URL:https://lupinelane.com/event/genre-camp-be-the-change-leadership-2/
CATEGORIES:Camps
END:VEVENT
BEGIN:VEVENT
DTSTART;TZID=America/Chicago:20240619T090000
DTEND;TZID=America/Chicago:20240619T140000
DTSTAMP:20260420T202243
CREATED:20240615T070027Z
LAST-MODIFIED:20240615T070027Z
UID:20832-1718787600-1718805600@lupinelane.com
SUMMARY:Creations & Explorations: Vehicles in Motion
DESCRIPTION:
URL:https://lupinelane.com/event/creations-explorations-vehicles-in-motion-3/
CATEGORIES:Camps
END:VEVENT
BEGIN:VEVENT
DTSTART;TZID=America/Chicago:20240619T090000
DTEND;TZID=America/Chicago:20240619T140000
DTSTAMP:20260420T202243
CREATED:20240615T070032Z
LAST-MODIFIED:20240615T070032Z
UID:20837-1718787600-1718805600@lupinelane.com
SUMMARY:Genre Camp - Be the Change! Leadership
DESCRIPTION:
URL:https://lupinelane.com/event/genre-camp-be-the-change-leadership-3/
CATEGORIES:Camps
END:VEVENT
BEGIN:VEVENT
DTSTART;TZID=America/Chicago:20240620T090000
DTEND;TZID=America/Chicago:20240620T140000
DTSTAMP:20260420T202243
CREATED:20240615T070028Z
LAST-MODIFIED:20240615T070028Z
UID:20833-1718874000-1718892000@lupinelane.com
SUMMARY:Creations & Explorations: Vehicles in Motion
DESCRIPTION:
URL:https://lupinelane.com/event/creations-explorations-vehicles-in-motion-4/
CATEGORIES:Camps
END:VEVENT
BEGIN:VEVENT
DTSTART;TZID=America/Chicago:20240620T090000
DTEND;TZID=America/Chicago:20240620T140000
DTSTAMP:20260420T202243
CREATED:20240615T070032Z
LAST-MODIFIED:20240615T070032Z
UID:20838-1718874000-1718892000@lupinelane.com
SUMMARY:Genre Camp - Be the Change! Leadership
DESCRIPTION:
URL:https://lupinelane.com/event/genre-camp-be-the-change-leadership-4/
CATEGORIES:Camps
END:VEVENT
BEGIN:VEVENT
DTSTART;TZID=America/Chicago:20240621T090000
DTEND;TZID=America/Chicago:20240621T140000
DTSTAMP:20260420T202243
CREATED:20240615T070029Z
LAST-MODIFIED:20240615T070029Z
UID:20834-1718960400-1718978400@lupinelane.com
SUMMARY:Creations & Explorations: Vehicles in Motion
DESCRIPTION:
URL:https://lupinelane.com/event/creations-explorations-vehicles-in-motion-5/
CATEGORIES:Camps
END:VEVENT
BEGIN:VEVENT
DTSTART;TZID=America/Chicago:20240621T090000
DTEND;TZID=America/Chicago:20240621T140000
DTSTAMP:20260420T202243
CREATED:20240615T070033Z
LAST-MODIFIED:20240615T070033Z
UID:20839-1718960400-1718978400@lupinelane.com
SUMMARY:Genre Camp - Be the Change! Leadership
DESCRIPTION:
URL:https://lupinelane.com/event/genre-camp-be-the-change-leadership-5/
CATEGORIES:Camps
END:VEVENT
END:VCALENDAR