BEGIN:VCALENDAR
VERSION:2.0
PRODID:-//Lupine Lane - ECPv6.15.20//NONSGML v1.0//EN
CALSCALE:GREGORIAN
METHOD:PUBLISH
X-ORIGINAL-URL:https://lupinelane.com
X-WR-CALDESC:Events for Lupine Lane
REFRESH-INTERVAL;VALUE=DURATION:PT1H
X-Robots-Tag:noindex
X-PUBLISHED-TTL:PT1H
BEGIN:VTIMEZONE
TZID:America/Chicago
BEGIN:DAYLIGHT
TZOFFSETFROM:-0600
TZOFFSETTO:-0500
TZNAME:CDT
DTSTART:20230312T080000
END:DAYLIGHT
BEGIN:STANDARD
TZOFFSETFROM:-0500
TZOFFSETTO:-0600
TZNAME:CST
DTSTART:20231105T070000
END:STANDARD
BEGIN:DAYLIGHT
TZOFFSETFROM:-0600
TZOFFSETTO:-0500
TZNAME:CDT
DTSTART:20240310T080000
END:DAYLIGHT
BEGIN:STANDARD
TZOFFSETFROM:-0500
TZOFFSETTO:-0600
TZNAME:CST
DTSTART:20241103T070000
END:STANDARD
BEGIN:DAYLIGHT
TZOFFSETFROM:-0600
TZOFFSETTO:-0500
TZNAME:CDT
DTSTART:20250309T080000
END:DAYLIGHT
BEGIN:STANDARD
TZOFFSETFROM:-0500
TZOFFSETTO:-0600
TZNAME:CST
DTSTART:20251102T070000
END:STANDARD
END:VTIMEZONE
BEGIN:VEVENT
DTSTART;TZID=America/Chicago:20240708T090000
DTEND;TZID=America/Chicago:20240708T140000
DTSTAMP:20260420T183210
CREATED:20240604T070107Z
LAST-MODIFIED:20240604T070107Z
UID:20710-1720429200-1720447200@lupinelane.com
SUMMARY:Genre Camp - Imagination Theatre
DESCRIPTION:
URL:https://lupinelane.com/event/genre-camp-imagination-theatre/
CATEGORIES:Camps
END:VEVENT
BEGIN:VEVENT
DTSTART;TZID=America/Chicago:20240708T090000
DTEND;TZID=America/Chicago:20240708T140000
DTSTAMP:20260420T183210
CREATED:20240705T070014Z
LAST-MODIFIED:20240705T070014Z
UID:20983-1720429200-1720447200@lupinelane.com
SUMMARY:Creations & Explorations: Thrilled to Build! Construction Camp
DESCRIPTION:
URL:https://lupinelane.com/event/creations-explorations-thrilled-to-build-construction-camp/
CATEGORIES:Camps
END:VEVENT
BEGIN:VEVENT
DTSTART;TZID=America/Chicago:20240709T090000
DTEND;TZID=America/Chicago:20240709T140000
DTSTAMP:20260420T183210
CREATED:20240604T070108Z
LAST-MODIFIED:20240604T070108Z
UID:20711-1720515600-1720533600@lupinelane.com
SUMMARY:Genre Camp - Imagination Theatre
DESCRIPTION:
URL:https://lupinelane.com/event/genre-camp-imagination-theatre-2/
CATEGORIES:Camps
END:VEVENT
BEGIN:VEVENT
DTSTART;TZID=America/Chicago:20240709T090000
DTEND;TZID=America/Chicago:20240709T140000
DTSTAMP:20260420T183210
CREATED:20240705T070016Z
LAST-MODIFIED:20240705T070016Z
UID:20984-1720515600-1720533600@lupinelane.com
SUMMARY:Creations & Explorations: Thrilled to Build! Construction Camp
DESCRIPTION:
URL:https://lupinelane.com/event/creations-explorations-thrilled-to-build-construction-camp-2/
CATEGORIES:Camps
END:VEVENT
BEGIN:VEVENT
DTSTART;TZID=America/Chicago:20240710T090000
DTEND;TZID=America/Chicago:20240710T140000
DTSTAMP:20260420T183210
CREATED:20240604T070110Z
LAST-MODIFIED:20240604T070110Z
UID:20712-1720602000-1720620000@lupinelane.com
SUMMARY:Genre Camp - Imagination Theatre
DESCRIPTION:
URL:https://lupinelane.com/event/genre-camp-imagination-theatre-3/
CATEGORIES:Camps
END:VEVENT
BEGIN:VEVENT
DTSTART;TZID=America/Chicago:20240710T090000
DTEND;TZID=America/Chicago:20240710T140000
DTSTAMP:20260420T183210
CREATED:20240705T070018Z
LAST-MODIFIED:20240705T070018Z
UID:20985-1720602000-1720620000@lupinelane.com
SUMMARY:Creations & Explorations: Thrilled to Build! Construction Camp
DESCRIPTION:
URL:https://lupinelane.com/event/creations-explorations-thrilled-to-build-construction-camp-3/
CATEGORIES:Camps
END:VEVENT
BEGIN:VEVENT
DTSTART;TZID=America/Chicago:20240711T090000
DTEND;TZID=America/Chicago:20240711T140000
DTSTAMP:20260420T183210
CREATED:20240604T070111Z
LAST-MODIFIED:20240604T070111Z
UID:20713-1720688400-1720706400@lupinelane.com
SUMMARY:Genre Camp - Imagination Theatre
DESCRIPTION:
URL:https://lupinelane.com/event/genre-camp-imagination-theatre-4/
CATEGORIES:Camps
END:VEVENT
BEGIN:VEVENT
DTSTART;TZID=America/Chicago:20240711T090000
DTEND;TZID=America/Chicago:20240711T140000
DTSTAMP:20260420T183210
CREATED:20240705T070021Z
LAST-MODIFIED:20240705T070021Z
UID:20986-1720688400-1720706400@lupinelane.com
SUMMARY:Creations & Explorations: Thrilled to Build! Construction Camp
DESCRIPTION:
URL:https://lupinelane.com/event/creations-explorations-thrilled-to-build-construction-camp-4/
CATEGORIES:Camps
END:VEVENT
BEGIN:VEVENT
DTSTART;TZID=America/Chicago:20240712T090000
DTEND;TZID=America/Chicago:20240712T140000
DTSTAMP:20260420T183210
CREATED:20240604T070112Z
LAST-MODIFIED:20240604T070112Z
UID:20714-1720774800-1720792800@lupinelane.com
SUMMARY:Genre Camp - Imagination Theatre
DESCRIPTION:
URL:https://lupinelane.com/event/genre-camp-imagination-theatre-5/
CATEGORIES:Camps
END:VEVENT
BEGIN:VEVENT
DTSTART;TZID=America/Chicago:20240712T090000
DTEND;TZID=America/Chicago:20240712T140000
DTSTAMP:20260420T183210
CREATED:20240705T070021Z
LAST-MODIFIED:20240705T070021Z
UID:20987-1720774800-1720792800@lupinelane.com
SUMMARY:Creations & Explorations: Thrilled to Build! Construction Camp
DESCRIPTION:
URL:https://lupinelane.com/event/creations-explorations-thrilled-to-build-construction-camp-5/
CATEGORIES:Camps
END:VEVENT
BEGIN:VEVENT
DTSTART;TZID=America/Chicago:20240715T090000
DTEND;TZID=America/Chicago:20240715T140000
DTSTAMP:20260420T183210
CREATED:20240701T070017Z
LAST-MODIFIED:20240701T070017Z
UID:20933-1721034000-1721052000@lupinelane.com
SUMMARY:Genre Camp - Fashion Design
DESCRIPTION:
URL:https://lupinelane.com/event/genre-camp-fashion-design/
CATEGORIES:Camps
END:VEVENT
BEGIN:VEVENT
DTSTART;TZID=America/Chicago:20240715T090000
DTEND;TZID=America/Chicago:20240715T140000
DTSTAMP:20260420T183210
CREATED:20240713T070015Z
LAST-MODIFIED:20240713T070015Z
UID:21043-1721034000-1721052000@lupinelane.com
SUMMARY:Genre Camp - Lego Jedi Engineering
DESCRIPTION:
URL:https://lupinelane.com/event/genre-camp-lego-jedi-engineering/
CATEGORIES:Camps
END:VEVENT
BEGIN:VEVENT
DTSTART;TZID=America/Chicago:20240715T090000
DTEND;TZID=America/Chicago:20240715T140000
DTSTAMP:20260420T183210
CREATED:20240716T070027Z
LAST-MODIFIED:20240716T070027Z
UID:21058-1721034000-1721052000@lupinelane.com
SUMMARY:Creations & Explorations: Three\, Two\, One\, Blast Off!
DESCRIPTION:
URL:https://lupinelane.com/event/creations-explorations-three-two-one-blast-off/
CATEGORIES:Camps
END:VEVENT
BEGIN:VEVENT
DTSTART;TZID=America/Chicago:20240716T090000
DTEND;TZID=America/Chicago:20240716T140000
DTSTAMP:20260420T183210
CREATED:20240701T070020Z
LAST-MODIFIED:20240701T070020Z
UID:20934-1721120400-1721138400@lupinelane.com
SUMMARY:Genre Camp - Fashion Design
DESCRIPTION:
URL:https://lupinelane.com/event/genre-camp-fashion-design-2/
CATEGORIES:Camps
END:VEVENT
BEGIN:VEVENT
DTSTART;TZID=America/Chicago:20240716T090000
DTEND;TZID=America/Chicago:20240716T140000
DTSTAMP:20260420T183210
CREATED:20240713T070018Z
LAST-MODIFIED:20240713T070018Z
UID:21044-1721120400-1721138400@lupinelane.com
SUMMARY:Genre Camp - Lego Jedi Engineering
DESCRIPTION:
URL:https://lupinelane.com/event/genre-camp-lego-jedi-engineering-2/
CATEGORIES:Camps
END:VEVENT
BEGIN:VEVENT
DTSTART;TZID=America/Chicago:20240716T090000
DTEND;TZID=America/Chicago:20240716T140000
DTSTAMP:20260420T183210
CREATED:20240716T070028Z
LAST-MODIFIED:20240716T070028Z
UID:21059-1721120400-1721138400@lupinelane.com
SUMMARY:Creations & Explorations: Three\, Two\, One\, Blast Off!
DESCRIPTION:
URL:https://lupinelane.com/event/creations-explorations-three-two-one-blast-off-2/
CATEGORIES:Camps
END:VEVENT
BEGIN:VEVENT
DTSTART;TZID=America/Chicago:20240717T090000
DTEND;TZID=America/Chicago:20240717T140000
DTSTAMP:20260420T183210
CREATED:20240701T070022Z
LAST-MODIFIED:20240701T070022Z
UID:20935-1721206800-1721224800@lupinelane.com
SUMMARY:Genre Camp - Fashion Design
DESCRIPTION:
URL:https://lupinelane.com/event/genre-camp-fashion-design-3/
CATEGORIES:Camps
END:VEVENT
BEGIN:VEVENT
DTSTART;TZID=America/Chicago:20240717T090000
DTEND;TZID=America/Chicago:20240717T140000
DTSTAMP:20260420T183210
CREATED:20240713T070020Z
LAST-MODIFIED:20240713T070020Z
UID:21045-1721206800-1721224800@lupinelane.com
SUMMARY:Genre Camp - Lego Jedi Engineering
DESCRIPTION:
URL:https://lupinelane.com/event/genre-camp-lego-jedi-engineering-3/
CATEGORIES:Camps
END:VEVENT
BEGIN:VEVENT
DTSTART;TZID=America/Chicago:20240717T090000
DTEND;TZID=America/Chicago:20240717T140000
DTSTAMP:20260420T183210
CREATED:20240716T070029Z
LAST-MODIFIED:20240716T070029Z
UID:21060-1721206800-1721224800@lupinelane.com
SUMMARY:Creations & Explorations: Three\, Two\, One\, Blast Off!
DESCRIPTION:
URL:https://lupinelane.com/event/creations-explorations-three-two-one-blast-off-3/
CATEGORIES:Camps
END:VEVENT
BEGIN:VEVENT
DTSTART;TZID=America/Chicago:20240718T090000
DTEND;TZID=America/Chicago:20240718T140000
DTSTAMP:20260420T183210
CREATED:20240701T070024Z
LAST-MODIFIED:20240701T070024Z
UID:20936-1721293200-1721311200@lupinelane.com
SUMMARY:Genre Camp - Fashion Design
DESCRIPTION:
URL:https://lupinelane.com/event/genre-camp-fashion-design-4/
CATEGORIES:Camps
END:VEVENT
BEGIN:VEVENT
DTSTART;TZID=America/Chicago:20240718T090000
DTEND;TZID=America/Chicago:20240718T140000
DTSTAMP:20260420T183210
CREATED:20240713T070022Z
LAST-MODIFIED:20240713T070022Z
UID:21046-1721293200-1721311200@lupinelane.com
SUMMARY:Genre Camp - Lego Jedi Engineering
DESCRIPTION:
URL:https://lupinelane.com/event/genre-camp-lego-jedi-engineering-4/
CATEGORIES:Camps
END:VEVENT
BEGIN:VEVENT
DTSTART;TZID=America/Chicago:20240718T090000
DTEND;TZID=America/Chicago:20240718T140000
DTSTAMP:20260420T183210
CREATED:20240716T070030Z
LAST-MODIFIED:20240716T070030Z
UID:21061-1721293200-1721311200@lupinelane.com
SUMMARY:Creations & Explorations: Three\, Two\, One\, Blast Off!
DESCRIPTION:
URL:https://lupinelane.com/event/creations-explorations-three-two-one-blast-off-4/
CATEGORIES:Camps
END:VEVENT
BEGIN:VEVENT
DTSTART;TZID=America/Chicago:20240719T090000
DTEND;TZID=America/Chicago:20240719T140000
DTSTAMP:20260420T183210
CREATED:20240701T070025Z
LAST-MODIFIED:20240701T070025Z
UID:20937-1721379600-1721397600@lupinelane.com
SUMMARY:Genre Camp - Fashion Design
DESCRIPTION:
URL:https://lupinelane.com/event/genre-camp-fashion-design-5/
CATEGORIES:Camps
END:VEVENT
BEGIN:VEVENT
DTSTART;TZID=America/Chicago:20240719T090000
DTEND;TZID=America/Chicago:20240719T140000
DTSTAMP:20260420T183210
CREATED:20240713T070023Z
LAST-MODIFIED:20240713T070023Z
UID:21047-1721379600-1721397600@lupinelane.com
SUMMARY:Genre Camp - Lego Jedi Engineering
DESCRIPTION:
URL:https://lupinelane.com/event/genre-camp-lego-jedi-engineering-5/
CATEGORIES:Camps
END:VEVENT
BEGIN:VEVENT
DTSTART;TZID=America/Chicago:20240719T090000
DTEND;TZID=America/Chicago:20240719T140000
DTSTAMP:20260420T183210
CREATED:20240716T070031Z
LAST-MODIFIED:20240716T070031Z
UID:21062-1721379600-1721397600@lupinelane.com
SUMMARY:Creations & Explorations: Three\, Two\, One\, Blast Off!
DESCRIPTION:
URL:https://lupinelane.com/event/creations-explorations-three-two-one-blast-off-5/
CATEGORIES:Camps
END:VEVENT
BEGIN:VEVENT
DTSTART;TZID=America/Chicago:20240722T090000
DTEND;TZID=America/Chicago:20240722T140000
DTSTAMP:20260420T183210
CREATED:20240711T070016Z
LAST-MODIFIED:20240711T070016Z
UID:21023-1721638800-1721656800@lupinelane.com
SUMMARY:Genre Camp - A Story\, A Story! Folktales\, Storytelling and Dance
DESCRIPTION:
URL:https://lupinelane.com/event/genre-camp-a-story-a-story-folktales-storytelling-and-dance/
CATEGORIES:Camps
END:VEVENT
BEGIN:VEVENT
DTSTART;TZID=America/Chicago:20240722T090000
DTEND;TZID=America/Chicago:20240722T140000
DTSTAMP:20260420T183210
CREATED:20240722T070019Z
LAST-MODIFIED:20240722T070019Z
UID:21108-1721638800-1721656800@lupinelane.com
SUMMARY:Creations & Explorations: Bubble\, Bubble\, Pop! Do the Science Bop!
DESCRIPTION:
URL:https://lupinelane.com/event/creations-explorations-bubble-bubble-pop-do-the-science-bop/
CATEGORIES:Camps
END:VEVENT
BEGIN:VEVENT
DTSTART;TZID=America/Chicago:20240723T090000
DTEND;TZID=America/Chicago:20240723T140000
DTSTAMP:20260420T183210
CREATED:20240711T070018Z
LAST-MODIFIED:20240711T070018Z
UID:21024-1721725200-1721743200@lupinelane.com
SUMMARY:Genre Camp - A Story\, A Story! Folktales\, Storytelling and Dance
DESCRIPTION:
URL:https://lupinelane.com/event/genre-camp-a-story-a-story-folktales-storytelling-and-dance-2/
CATEGORIES:Camps
END:VEVENT
BEGIN:VEVENT
DTSTART;TZID=America/Chicago:20240723T090000
DTEND;TZID=America/Chicago:20240723T140000
DTSTAMP:20260420T183210
CREATED:20240722T070021Z
LAST-MODIFIED:20240722T070021Z
UID:21109-1721725200-1721743200@lupinelane.com
SUMMARY:Creations & Explorations: Bubble\, Bubble\, Pop! Do the Science Bop!
DESCRIPTION:
URL:https://lupinelane.com/event/creations-explorations-bubble-bubble-pop-do-the-science-bop-2/
CATEGORIES:Camps
END:VEVENT
BEGIN:VEVENT
DTSTART;TZID=America/Chicago:20240724T090000
DTEND;TZID=America/Chicago:20240724T140000
DTSTAMP:20260420T183210
CREATED:20240711T070020Z
LAST-MODIFIED:20240711T070020Z
UID:21025-1721811600-1721829600@lupinelane.com
SUMMARY:Genre Camp - A Story\, A Story! Folktales\, Storytelling and Dance
DESCRIPTION:
URL:https://lupinelane.com/event/genre-camp-a-story-a-story-folktales-storytelling-and-dance-3/
CATEGORIES:Camps
END:VEVENT
END:VCALENDAR