BEGIN:VCALENDAR
VERSION:2.0
PRODID:-//Lupine Lane - ECPv6.15.20//NONSGML v1.0//EN
CALSCALE:GREGORIAN
METHOD:PUBLISH
X-ORIGINAL-URL:https://lupinelane.com
X-WR-CALDESC:Events for Lupine Lane
REFRESH-INTERVAL;VALUE=DURATION:PT1H
X-Robots-Tag:noindex
X-PUBLISHED-TTL:PT1H
BEGIN:VTIMEZONE
TZID:America/Chicago
BEGIN:DAYLIGHT
TZOFFSETFROM:-0600
TZOFFSETTO:-0500
TZNAME:CDT
DTSTART:20240310T080000
END:DAYLIGHT
BEGIN:STANDARD
TZOFFSETFROM:-0500
TZOFFSETTO:-0600
TZNAME:CST
DTSTART:20241103T070000
END:STANDARD
BEGIN:DAYLIGHT
TZOFFSETFROM:-0600
TZOFFSETTO:-0500
TZNAME:CDT
DTSTART:20250309T080000
END:DAYLIGHT
BEGIN:STANDARD
TZOFFSETFROM:-0500
TZOFFSETTO:-0600
TZNAME:CST
DTSTART:20251102T070000
END:STANDARD
BEGIN:DAYLIGHT
TZOFFSETFROM:-0600
TZOFFSETTO:-0500
TZNAME:CDT
DTSTART:20260308T080000
END:DAYLIGHT
BEGIN:STANDARD
TZOFFSETFROM:-0500
TZOFFSETTO:-0600
TZNAME:CST
DTSTART:20261101T070000
END:STANDARD
END:VTIMEZONE
BEGIN:VEVENT
DTSTART;TZID=America/Chicago:20250527T090000
DTEND;TZID=America/Chicago:20250527T140000
DTSTAMP:20260420T011237
CREATED:20250305T080032Z
LAST-MODIFIED:20250305T080032Z
UID:23166-1748336400-1748354400@lupinelane.com
SUMMARY:Sport Camp: May Staff Development Week
DESCRIPTION:
URL:https://lupinelane.com/event/sport-camp-may-staff-development-week/
CATEGORIES:Camps
END:VEVENT
BEGIN:VEVENT
DTSTART;TZID=America/Chicago:20250528T090000
DTEND;TZID=America/Chicago:20250528T140000
DTSTAMP:20260420T011237
CREATED:20250305T080034Z
LAST-MODIFIED:20250305T080034Z
UID:23167-1748422800-1748440800@lupinelane.com
SUMMARY:Sport Camp: May Staff Development Week
DESCRIPTION:
URL:https://lupinelane.com/event/sport-camp-may-staff-development-week-2/
CATEGORIES:Camps
END:VEVENT
BEGIN:VEVENT
DTSTART;TZID=America/Chicago:20250529T090000
DTEND;TZID=America/Chicago:20250529T140000
DTSTAMP:20260420T011237
CREATED:20250305T080036Z
LAST-MODIFIED:20250305T080036Z
UID:23168-1748509200-1748527200@lupinelane.com
SUMMARY:Sport Camp: May Staff Development Week
DESCRIPTION:
URL:https://lupinelane.com/event/sport-camp-may-staff-development-week-3/
CATEGORIES:Camps
END:VEVENT
BEGIN:VEVENT
DTSTART;TZID=America/Chicago:20250530T090000
DTEND;TZID=America/Chicago:20250530T140000
DTSTAMP:20260420T011237
CREATED:20250305T080038Z
LAST-MODIFIED:20250305T080038Z
UID:23169-1748595600-1748613600@lupinelane.com
SUMMARY:Sport Camp: May Staff Development Week
DESCRIPTION:
URL:https://lupinelane.com/event/sport-camp-may-staff-development-week-4/
CATEGORIES:Camps
END:VEVENT
END:VCALENDAR