BEGIN:VCALENDAR
VERSION:2.0
PRODID:-//Lupine Lane - ECPv6.15.20//NONSGML v1.0//EN
CALSCALE:GREGORIAN
METHOD:PUBLISH
X-ORIGINAL-URL:https://lupinelane.com
X-WR-CALDESC:Events for Lupine Lane
REFRESH-INTERVAL;VALUE=DURATION:PT1H
X-Robots-Tag:noindex
X-PUBLISHED-TTL:PT1H
BEGIN:VTIMEZONE
TZID:America/Chicago
BEGIN:DAYLIGHT
TZOFFSETFROM:-0600
TZOFFSETTO:-0500
TZNAME:CDT
DTSTART:20240310T080000
END:DAYLIGHT
BEGIN:STANDARD
TZOFFSETFROM:-0500
TZOFFSETTO:-0600
TZNAME:CST
DTSTART:20241103T070000
END:STANDARD
BEGIN:DAYLIGHT
TZOFFSETFROM:-0600
TZOFFSETTO:-0500
TZNAME:CDT
DTSTART:20250309T080000
END:DAYLIGHT
BEGIN:STANDARD
TZOFFSETFROM:-0500
TZOFFSETTO:-0600
TZNAME:CST
DTSTART:20251102T070000
END:STANDARD
BEGIN:DAYLIGHT
TZOFFSETFROM:-0600
TZOFFSETTO:-0500
TZNAME:CDT
DTSTART:20260308T080000
END:DAYLIGHT
BEGIN:STANDARD
TZOFFSETFROM:-0500
TZOFFSETTO:-0600
TZNAME:CST
DTSTART:20261101T070000
END:STANDARD
END:VTIMEZONE
BEGIN:VEVENT
DTSTART;TZID=America/Chicago:20250602T090000
DTEND;TZID=America/Chicago:20250602T140000
DTSTAMP:20260419T233950
CREATED:20250222T080056Z
LAST-MODIFIED:20250222T080056Z
UID:22934-1748854800-1748872800@lupinelane.com
SUMMARY:Genre Camp: Full STEAM Ahead - Exploring Science\, Technology\, Engineering\, Art and Math
DESCRIPTION:
URL:https://lupinelane.com/event/genre-camp-full-steam-ahead-exploring-science-technology-engineering-art-and-math/
CATEGORIES:Camps
END:VEVENT
BEGIN:VEVENT
DTSTART;TZID=America/Chicago:20250602T090000
DTEND;TZID=America/Chicago:20250602T140000
DTSTAMP:20260419T233950
CREATED:20250428T152844Z
LAST-MODIFIED:20250428T152844Z
UID:23413-1748854800-1748872800@lupinelane.com
SUMMARY:A Journey Through Time: Prehistoric Times - Days of the Dinosaurs
DESCRIPTION:
URL:https://lupinelane.com/event/a-journey-through-time-prehistoric-times-days-of-the-dinosaurs/
CATEGORIES:Camps
END:VEVENT
BEGIN:VEVENT
DTSTART;TZID=America/Chicago:20250602T090000
DTEND;TZID=America/Chicago:20250602T140000
DTSTAMP:20260419T233950
CREATED:20250603T070200Z
LAST-MODIFIED:20250603T070200Z
UID:24403-1748854800-1748872800@lupinelane.com
SUMMARY:A Journey Through Time: Prehistoric Times - Days of the Dinosaurs
DESCRIPTION:
URL:https://lupinelane.com/event/a-journey-through-time-prehistoric-times-days-of-the-dinosaurs-6/
CATEGORIES:Camps
END:VEVENT
BEGIN:VEVENT
DTSTART;TZID=America/Chicago:20250603T090000
DTEND;TZID=America/Chicago:20250603T140000
DTSTAMP:20260419T233950
CREATED:20250222T080057Z
LAST-MODIFIED:20250222T080057Z
UID:22935-1748941200-1748959200@lupinelane.com
SUMMARY:Genre Camp: Full STEAM Ahead - Exploring Science\, Technology\, Engineering\, Art and Math
DESCRIPTION:
URL:https://lupinelane.com/event/genre-camp-full-steam-ahead-exploring-science-technology-engineering-art-and-math-2/
CATEGORIES:Camps
END:VEVENT
BEGIN:VEVENT
DTSTART;TZID=America/Chicago:20250603T090000
DTEND;TZID=America/Chicago:20250603T140000
DTSTAMP:20260419T233950
CREATED:20250428T152845Z
LAST-MODIFIED:20250428T152845Z
UID:23414-1748941200-1748959200@lupinelane.com
SUMMARY:A Journey Through Time: Prehistoric Times - Days of the Dinosaurs
DESCRIPTION:
URL:https://lupinelane.com/event/a-journey-through-time-prehistoric-times-days-of-the-dinosaurs-2/
CATEGORIES:Camps
END:VEVENT
BEGIN:VEVENT
DTSTART;TZID=America/Chicago:20250603T090000
DTEND;TZID=America/Chicago:20250603T140000
DTSTAMP:20260419T233950
CREATED:20250603T070202Z
LAST-MODIFIED:20250603T070202Z
UID:24404-1748941200-1748959200@lupinelane.com
SUMMARY:A Journey Through Time: Prehistoric Times - Days of the Dinosaurs
DESCRIPTION:
URL:https://lupinelane.com/event/a-journey-through-time-prehistoric-times-days-of-the-dinosaurs-7/
CATEGORIES:Camps
END:VEVENT
BEGIN:VEVENT
DTSTART;TZID=America/Chicago:20250604T090000
DTEND;TZID=America/Chicago:20250604T140000
DTSTAMP:20260419T233950
CREATED:20250222T080058Z
LAST-MODIFIED:20250222T080058Z
UID:22936-1749027600-1749045600@lupinelane.com
SUMMARY:Genre Camp: Full STEAM Ahead - Exploring Science\, Technology\, Engineering\, Art and Math
DESCRIPTION:
URL:https://lupinelane.com/event/genre-camp-full-steam-ahead-exploring-science-technology-engineering-art-and-math-3/
CATEGORIES:Camps
END:VEVENT
BEGIN:VEVENT
DTSTART;TZID=America/Chicago:20250604T090000
DTEND;TZID=America/Chicago:20250604T140000
DTSTAMP:20260419T233950
CREATED:20250428T152846Z
LAST-MODIFIED:20250428T152846Z
UID:23415-1749027600-1749045600@lupinelane.com
SUMMARY:A Journey Through Time: Prehistoric Times - Days of the Dinosaurs
DESCRIPTION:
URL:https://lupinelane.com/event/a-journey-through-time-prehistoric-times-days-of-the-dinosaurs-3/
CATEGORIES:Camps
END:VEVENT
BEGIN:VEVENT
DTSTART;TZID=America/Chicago:20250604T090000
DTEND;TZID=America/Chicago:20250604T140000
DTSTAMP:20260419T233950
CREATED:20250603T070203Z
LAST-MODIFIED:20250603T070203Z
UID:24405-1749027600-1749045600@lupinelane.com
SUMMARY:A Journey Through Time: Prehistoric Times - Days of the Dinosaurs
DESCRIPTION:
URL:https://lupinelane.com/event/a-journey-through-time-prehistoric-times-days-of-the-dinosaurs-8/
CATEGORIES:Camps
END:VEVENT
BEGIN:VEVENT
DTSTART;TZID=America/Chicago:20250605T090000
DTEND;TZID=America/Chicago:20250605T140000
DTSTAMP:20260419T233950
CREATED:20250222T080059Z
LAST-MODIFIED:20250222T080059Z
UID:22937-1749114000-1749132000@lupinelane.com
SUMMARY:Genre Camp: Full STEAM Ahead - Exploring Science\, Technology\, Engineering\, Art and Math
DESCRIPTION:
URL:https://lupinelane.com/event/genre-camp-full-steam-ahead-exploring-science-technology-engineering-art-and-math-4/
CATEGORIES:Camps
END:VEVENT
BEGIN:VEVENT
DTSTART;TZID=America/Chicago:20250605T090000
DTEND;TZID=America/Chicago:20250605T140000
DTSTAMP:20260419T233950
CREATED:20250428T152847Z
LAST-MODIFIED:20250428T152847Z
UID:23416-1749114000-1749132000@lupinelane.com
SUMMARY:A Journey Through Time: Prehistoric Times - Days of the Dinosaurs
DESCRIPTION:
URL:https://lupinelane.com/event/a-journey-through-time-prehistoric-times-days-of-the-dinosaurs-4/
CATEGORIES:Camps
END:VEVENT
BEGIN:VEVENT
DTSTART;TZID=America/Chicago:20250605T090000
DTEND;TZID=America/Chicago:20250605T140000
DTSTAMP:20260419T233950
CREATED:20250603T070204Z
LAST-MODIFIED:20250603T070204Z
UID:24406-1749114000-1749132000@lupinelane.com
SUMMARY:A Journey Through Time: Prehistoric Times - Days of the Dinosaurs
DESCRIPTION:
URL:https://lupinelane.com/event/a-journey-through-time-prehistoric-times-days-of-the-dinosaurs-9/
CATEGORIES:Camps
END:VEVENT
BEGIN:VEVENT
DTSTART;TZID=America/Chicago:20250606T090000
DTEND;TZID=America/Chicago:20250606T140000
DTSTAMP:20260419T233950
CREATED:20250222T080100Z
LAST-MODIFIED:20250222T080100Z
UID:22938-1749200400-1749218400@lupinelane.com
SUMMARY:Genre Camp: Full STEAM Ahead - Exploring Science\, Technology\, Engineering\, Art and Math
DESCRIPTION:
URL:https://lupinelane.com/event/genre-camp-full-steam-ahead-exploring-science-technology-engineering-art-and-math-5/
CATEGORIES:Camps
END:VEVENT
BEGIN:VEVENT
DTSTART;TZID=America/Chicago:20250606T090000
DTEND;TZID=America/Chicago:20250606T140000
DTSTAMP:20260419T233950
CREATED:20250428T152849Z
LAST-MODIFIED:20250428T152849Z
UID:23417-1749200400-1749218400@lupinelane.com
SUMMARY:A Journey Through Time: Prehistoric Times - Days of the Dinosaurs
DESCRIPTION:
URL:https://lupinelane.com/event/a-journey-through-time-prehistoric-times-days-of-the-dinosaurs-5/
CATEGORIES:Camps
END:VEVENT
BEGIN:VEVENT
DTSTART;TZID=America/Chicago:20250606T090000
DTEND;TZID=America/Chicago:20250606T140000
DTSTAMP:20260419T233950
CREATED:20250603T070206Z
LAST-MODIFIED:20250603T070206Z
UID:24407-1749200400-1749218400@lupinelane.com
SUMMARY:A Journey Through Time: Prehistoric Times - Days of the Dinosaurs
DESCRIPTION:
URL:https://lupinelane.com/event/a-journey-through-time-prehistoric-times-days-of-the-dinosaurs-10/
CATEGORIES:Camps
END:VEVENT
BEGIN:VEVENT
DTSTART;TZID=America/Chicago:20250609T090000
DTEND;TZID=America/Chicago:20250609T140000
DTSTAMP:20260419T233950
CREATED:20250304T080038Z
LAST-MODIFIED:20250304T080038Z
UID:23148-1749459600-1749477600@lupinelane.com
SUMMARY:Genre Camp: The Heart of Art
DESCRIPTION:
URL:https://lupinelane.com/event/genre-camp-the-heart-of-art-6/
CATEGORIES:Camps
END:VEVENT
BEGIN:VEVENT
DTSTART;TZID=America/Chicago:20250609T090000
DTEND;TZID=America/Chicago:20250609T140000
DTSTAMP:20260419T233950
CREATED:20250428T152850Z
LAST-MODIFIED:20250428T152850Z
UID:23418-1749459600-1749477600@lupinelane.com
SUMMARY:A Journey Through Time: Skating Through the Ice Age
DESCRIPTION:
URL:https://lupinelane.com/event/a-journey-through-time-skating-through-the-ice-age/
CATEGORIES:Camps
END:VEVENT
BEGIN:VEVENT
DTSTART;TZID=America/Chicago:20250609T090000
DTEND;TZID=America/Chicago:20250609T140000
DTSTAMP:20260419T233950
CREATED:20250612T070254Z
LAST-MODIFIED:20250612T070254Z
UID:24503-1749459600-1749477600@lupinelane.com
SUMMARY:A Journey Through Time: Skating Through the Ice Age
DESCRIPTION:
URL:https://lupinelane.com/event/a-journey-through-time-skating-through-the-ice-age-6/
CATEGORIES:Camps
END:VEVENT
BEGIN:VEVENT
DTSTART;TZID=America/Chicago:20250610T090000
DTEND;TZID=America/Chicago:20250610T140000
DTSTAMP:20260419T233950
CREATED:20250304T080039Z
LAST-MODIFIED:20250304T080039Z
UID:23149-1749546000-1749564000@lupinelane.com
SUMMARY:Genre Camp: The Heart of Art
DESCRIPTION:
URL:https://lupinelane.com/event/genre-camp-the-heart-of-art-7/
CATEGORIES:Camps
END:VEVENT
BEGIN:VEVENT
DTSTART;TZID=America/Chicago:20250610T090000
DTEND;TZID=America/Chicago:20250610T140000
DTSTAMP:20260419T233950
CREATED:20250428T152851Z
LAST-MODIFIED:20250428T152851Z
UID:23419-1749546000-1749564000@lupinelane.com
SUMMARY:A Journey Through Time: Skating Through the Ice Age
DESCRIPTION:
URL:https://lupinelane.com/event/a-journey-through-time-skating-through-the-ice-age-2/
CATEGORIES:Camps
END:VEVENT
BEGIN:VEVENT
DTSTART;TZID=America/Chicago:20250610T090000
DTEND;TZID=America/Chicago:20250610T140000
DTSTAMP:20260419T233950
CREATED:20250612T070256Z
LAST-MODIFIED:20250612T070256Z
UID:24504-1749546000-1749564000@lupinelane.com
SUMMARY:A Journey Through Time: Skating Through the Ice Age
DESCRIPTION:
URL:https://lupinelane.com/event/a-journey-through-time-skating-through-the-ice-age-7/
CATEGORIES:Camps
END:VEVENT
BEGIN:VEVENT
DTSTART;TZID=America/Chicago:20250611T090000
DTEND;TZID=America/Chicago:20250611T140000
DTSTAMP:20260419T233950
CREATED:20250304T080040Z
LAST-MODIFIED:20250304T080040Z
UID:23150-1749632400-1749650400@lupinelane.com
SUMMARY:Genre Camp: The Heart of Art
DESCRIPTION:
URL:https://lupinelane.com/event/genre-camp-the-heart-of-art-8/
CATEGORIES:Camps
END:VEVENT
BEGIN:VEVENT
DTSTART;TZID=America/Chicago:20250611T090000
DTEND;TZID=America/Chicago:20250611T140000
DTSTAMP:20260419T233950
CREATED:20250428T152852Z
LAST-MODIFIED:20250428T152852Z
UID:23420-1749632400-1749650400@lupinelane.com
SUMMARY:A Journey Through Time: Skating Through the Ice Age
DESCRIPTION:
URL:https://lupinelane.com/event/a-journey-through-time-skating-through-the-ice-age-3/
CATEGORIES:Camps
END:VEVENT
BEGIN:VEVENT
DTSTART;TZID=America/Chicago:20250611T090000
DTEND;TZID=America/Chicago:20250611T140000
DTSTAMP:20260419T233950
CREATED:20250612T070257Z
LAST-MODIFIED:20250612T070257Z
UID:24505-1749632400-1749650400@lupinelane.com
SUMMARY:A Journey Through Time: Skating Through the Ice Age
DESCRIPTION:
URL:https://lupinelane.com/event/a-journey-through-time-skating-through-the-ice-age-8/
CATEGORIES:Camps
END:VEVENT
BEGIN:VEVENT
DTSTART;TZID=America/Chicago:20250612T090000
DTEND;TZID=America/Chicago:20250612T140000
DTSTAMP:20260419T233950
CREATED:20250304T080041Z
LAST-MODIFIED:20250304T080041Z
UID:23151-1749718800-1749736800@lupinelane.com
SUMMARY:Genre Camp: The Heart of Art
DESCRIPTION:
URL:https://lupinelane.com/event/genre-camp-the-heart-of-art-9/
CATEGORIES:Camps
END:VEVENT
BEGIN:VEVENT
DTSTART;TZID=America/Chicago:20250612T090000
DTEND;TZID=America/Chicago:20250612T140000
DTSTAMP:20260419T233950
CREATED:20250428T152854Z
LAST-MODIFIED:20250428T152854Z
UID:23421-1749718800-1749736800@lupinelane.com
SUMMARY:A Journey Through Time: Skating Through the Ice Age
DESCRIPTION:
URL:https://lupinelane.com/event/a-journey-through-time-skating-through-the-ice-age-4/
CATEGORIES:Camps
END:VEVENT
BEGIN:VEVENT
DTSTART;TZID=America/Chicago:20250612T090000
DTEND;TZID=America/Chicago:20250612T140000
DTSTAMP:20260419T233950
CREATED:20250612T070259Z
LAST-MODIFIED:20250612T070259Z
UID:24506-1749718800-1749736800@lupinelane.com
SUMMARY:A Journey Through Time: Skating Through the Ice Age
DESCRIPTION:
URL:https://lupinelane.com/event/a-journey-through-time-skating-through-the-ice-age-9/
CATEGORIES:Camps
END:VEVENT
BEGIN:VEVENT
DTSTART;TZID=America/Chicago:20250613T090000
DTEND;TZID=America/Chicago:20250613T140000
DTSTAMP:20260419T233950
CREATED:20250304T080042Z
LAST-MODIFIED:20250304T080042Z
UID:23152-1749805200-1749823200@lupinelane.com
SUMMARY:Genre Camp: The Heart of Art
DESCRIPTION:
URL:https://lupinelane.com/event/genre-camp-the-heart-of-art-10/
CATEGORIES:Camps
END:VEVENT
BEGIN:VEVENT
DTSTART;TZID=America/Chicago:20250613T090000
DTEND;TZID=America/Chicago:20250613T140000
DTSTAMP:20260419T233950
CREATED:20250428T152855Z
LAST-MODIFIED:20250428T152855Z
UID:23422-1749805200-1749823200@lupinelane.com
SUMMARY:A Journey Through Time: Skating Through the Ice Age
DESCRIPTION:
URL:https://lupinelane.com/event/a-journey-through-time-skating-through-the-ice-age-5/
CATEGORIES:Camps
END:VEVENT
BEGIN:VEVENT
DTSTART;TZID=America/Chicago:20250613T090000
DTEND;TZID=America/Chicago:20250613T140000
DTSTAMP:20260419T233950
CREATED:20250612T070300Z
LAST-MODIFIED:20250612T070300Z
UID:24507-1749805200-1749823200@lupinelane.com
SUMMARY:A Journey Through Time: Skating Through the Ice Age
DESCRIPTION:
URL:https://lupinelane.com/event/a-journey-through-time-skating-through-the-ice-age-10/
CATEGORIES:Camps
END:VEVENT
END:VCALENDAR