BEGIN:VCALENDAR
VERSION:2.0
PRODID:-//Lupine Lane - ECPv6.15.20//NONSGML v1.0//EN
CALSCALE:GREGORIAN
METHOD:PUBLISH
X-ORIGINAL-URL:https://lupinelane.com
X-WR-CALDESC:Events for Lupine Lane
REFRESH-INTERVAL;VALUE=DURATION:PT1H
X-Robots-Tag:noindex
X-PUBLISHED-TTL:PT1H
BEGIN:VTIMEZONE
TZID:America/Chicago
BEGIN:DAYLIGHT
TZOFFSETFROM:-0600
TZOFFSETTO:-0500
TZNAME:CDT
DTSTART:20240310T080000
END:DAYLIGHT
BEGIN:STANDARD
TZOFFSETFROM:-0500
TZOFFSETTO:-0600
TZNAME:CST
DTSTART:20241103T070000
END:STANDARD
BEGIN:DAYLIGHT
TZOFFSETFROM:-0600
TZOFFSETTO:-0500
TZNAME:CDT
DTSTART:20250309T080000
END:DAYLIGHT
BEGIN:STANDARD
TZOFFSETFROM:-0500
TZOFFSETTO:-0600
TZNAME:CST
DTSTART:20251102T070000
END:STANDARD
BEGIN:DAYLIGHT
TZOFFSETFROM:-0600
TZOFFSETTO:-0500
TZNAME:CDT
DTSTART:20260308T080000
END:DAYLIGHT
BEGIN:STANDARD
TZOFFSETFROM:-0500
TZOFFSETTO:-0600
TZNAME:CST
DTSTART:20261101T070000
END:STANDARD
END:VTIMEZONE
BEGIN:VEVENT
DTSTART;TZID=America/Chicago:20250707T090000
DTEND;TZID=America/Chicago:20250707T140000
DTSTAMP:20260419T221102
CREATED:20250222T080117Z
LAST-MODIFIED:20250222T080117Z
UID:22954-1751878800-1751896800@lupinelane.com
SUMMARY:Genre Camp: Entrepreneurship 101 - The Business Fair
DESCRIPTION:
URL:https://lupinelane.com/event/genre-camp-entrepreneurship-101-the-business-fair/
CATEGORIES:Camps
END:VEVENT
BEGIN:VEVENT
DTSTART;TZID=America/Chicago:20250707T090000
DTEND;TZID=America/Chicago:20250707T140000
DTSTAMP:20260419T221102
CREATED:20250428T152907Z
LAST-MODIFIED:20250428T152907Z
UID:23433-1751878800-1751896800@lupinelane.com
SUMMARY:A Journey Through Time: Medieval Times - Kings and Queens of the Castle
DESCRIPTION:
URL:https://lupinelane.com/event/a-journey-through-time-medieval-times-kings-and-queens-of-the-castle/
CATEGORIES:Camps
END:VEVENT
BEGIN:VEVENT
DTSTART;TZID=America/Chicago:20250707T090000
DTEND;TZID=America/Chicago:20250707T140000
DTSTAMP:20260419T221102
CREATED:20250707T070116Z
LAST-MODIFIED:20250707T070116Z
UID:24895-1751878800-1751896800@lupinelane.com
SUMMARY:A Journey Through Time: Medieval Times - Kings and Queens of the Castle
DESCRIPTION:
URL:https://lupinelane.com/event/a-journey-through-time-medieval-times-kings-and-queens-of-the-castle-6/
CATEGORIES:Camps
END:VEVENT
BEGIN:VEVENT
DTSTART;TZID=America/Chicago:20250708T090000
DTEND;TZID=America/Chicago:20250708T140000
DTSTAMP:20260419T221102
CREATED:20250222T080118Z
LAST-MODIFIED:20250222T080118Z
UID:22955-1751965200-1751983200@lupinelane.com
SUMMARY:Genre Camp: Entrepreneurship 101 - The Business Fair
DESCRIPTION:
URL:https://lupinelane.com/event/genre-camp-entrepreneurship-101-the-business-fair-2/
CATEGORIES:Camps
END:VEVENT
BEGIN:VEVENT
DTSTART;TZID=America/Chicago:20250708T090000
DTEND;TZID=America/Chicago:20250708T140000
DTSTAMP:20260419T221102
CREATED:20250428T152908Z
LAST-MODIFIED:20250428T152908Z
UID:23434-1751965200-1751983200@lupinelane.com
SUMMARY:A Journey Through Time: Medieval Times - Kings and Queens of the Castle
DESCRIPTION:
URL:https://lupinelane.com/event/a-journey-through-time-medieval-times-kings-and-queens-of-the-castle-2/
CATEGORIES:Camps
END:VEVENT
BEGIN:VEVENT
DTSTART;TZID=America/Chicago:20250708T090000
DTEND;TZID=America/Chicago:20250708T140000
DTSTAMP:20260419T221102
CREATED:20250707T070118Z
LAST-MODIFIED:20250707T070118Z
UID:24896-1751965200-1751983200@lupinelane.com
SUMMARY:A Journey Through Time: Medieval Times - Kings and Queens of the Castle
DESCRIPTION:
URL:https://lupinelane.com/event/a-journey-through-time-medieval-times-kings-and-queens-of-the-castle-7/
CATEGORIES:Camps
END:VEVENT
BEGIN:VEVENT
DTSTART;TZID=America/Chicago:20250709T090000
DTEND;TZID=America/Chicago:20250709T140000
DTSTAMP:20260419T221102
CREATED:20250222T080119Z
LAST-MODIFIED:20250222T080119Z
UID:22956-1752051600-1752069600@lupinelane.com
SUMMARY:Genre Camp: Entrepreneurship 101 - The Business Fair
DESCRIPTION:
URL:https://lupinelane.com/event/genre-camp-entrepreneurship-101-the-business-fair-3/
CATEGORIES:Camps
END:VEVENT
BEGIN:VEVENT
DTSTART;TZID=America/Chicago:20250709T090000
DTEND;TZID=America/Chicago:20250709T140000
DTSTAMP:20260419T221102
CREATED:20250428T152909Z
LAST-MODIFIED:20250428T152909Z
UID:23435-1752051600-1752069600@lupinelane.com
SUMMARY:A Journey Through Time: Medieval Times - Kings and Queens of the Castle
DESCRIPTION:
URL:https://lupinelane.com/event/a-journey-through-time-medieval-times-kings-and-queens-of-the-castle-3/
CATEGORIES:Camps
END:VEVENT
BEGIN:VEVENT
DTSTART;TZID=America/Chicago:20250709T090000
DTEND;TZID=America/Chicago:20250709T140000
DTSTAMP:20260419T221102
CREATED:20250707T070119Z
LAST-MODIFIED:20250707T070119Z
UID:24897-1752051600-1752069600@lupinelane.com
SUMMARY:A Journey Through Time: Medieval Times - Kings and Queens of the Castle
DESCRIPTION:
URL:https://lupinelane.com/event/a-journey-through-time-medieval-times-kings-and-queens-of-the-castle-8/
CATEGORIES:Camps
END:VEVENT
BEGIN:VEVENT
DTSTART;TZID=America/Chicago:20250710T090000
DTEND;TZID=America/Chicago:20250710T140000
DTSTAMP:20260419T221103
CREATED:20250222T080119Z
LAST-MODIFIED:20250222T080119Z
UID:22957-1752138000-1752156000@lupinelane.com
SUMMARY:Genre Camp: Entrepreneurship 101 - The Business Fair
DESCRIPTION:
URL:https://lupinelane.com/event/genre-camp-entrepreneurship-101-the-business-fair-4/
CATEGORIES:Camps
END:VEVENT
BEGIN:VEVENT
DTSTART;TZID=America/Chicago:20250710T090000
DTEND;TZID=America/Chicago:20250710T140000
DTSTAMP:20260419T221103
CREATED:20250428T152911Z
LAST-MODIFIED:20250428T152911Z
UID:23436-1752138000-1752156000@lupinelane.com
SUMMARY:A Journey Through Time: Medieval Times - Kings and Queens of the Castle
DESCRIPTION:
URL:https://lupinelane.com/event/a-journey-through-time-medieval-times-kings-and-queens-of-the-castle-4/
CATEGORIES:Camps
END:VEVENT
BEGIN:VEVENT
DTSTART;TZID=America/Chicago:20250710T090000
DTEND;TZID=America/Chicago:20250710T140000
DTSTAMP:20260419T221103
CREATED:20250707T070123Z
LAST-MODIFIED:20250707T070123Z
UID:24898-1752138000-1752156000@lupinelane.com
SUMMARY:A Journey Through Time: Medieval Times - Kings and Queens of the Castle
DESCRIPTION:
URL:https://lupinelane.com/event/a-journey-through-time-medieval-times-kings-and-queens-of-the-castle-9/
CATEGORIES:Camps
END:VEVENT
BEGIN:VEVENT
DTSTART;TZID=America/Chicago:20250711T090000
DTEND;TZID=America/Chicago:20250711T140000
DTSTAMP:20260419T221103
CREATED:20250222T080121Z
LAST-MODIFIED:20250222T080121Z
UID:22958-1752224400-1752242400@lupinelane.com
SUMMARY:Genre Camp: Entrepreneurship 101 - The Business Fair
DESCRIPTION:
URL:https://lupinelane.com/event/genre-camp-entrepreneurship-101-the-business-fair-5/
CATEGORIES:Camps
END:VEVENT
BEGIN:VEVENT
DTSTART;TZID=America/Chicago:20250711T090000
DTEND;TZID=America/Chicago:20250711T140000
DTSTAMP:20260419T221103
CREATED:20250428T152911Z
LAST-MODIFIED:20250428T152911Z
UID:23437-1752224400-1752242400@lupinelane.com
SUMMARY:A Journey Through Time: Medieval Times - Kings and Queens of the Castle
DESCRIPTION:
URL:https://lupinelane.com/event/a-journey-through-time-medieval-times-kings-and-queens-of-the-castle-5/
CATEGORIES:Camps
END:VEVENT
BEGIN:VEVENT
DTSTART;TZID=America/Chicago:20250711T090000
DTEND;TZID=America/Chicago:20250711T140000
DTSTAMP:20260419T221103
CREATED:20250707T070125Z
LAST-MODIFIED:20250707T070125Z
UID:24899-1752224400-1752242400@lupinelane.com
SUMMARY:A Journey Through Time: Medieval Times - Kings and Queens of the Castle
DESCRIPTION:
URL:https://lupinelane.com/event/a-journey-through-time-medieval-times-kings-and-queens-of-the-castle-10/
CATEGORIES:Camps
END:VEVENT
BEGIN:VEVENT
DTSTART;TZID=America/Chicago:20250714T090000
DTEND;TZID=America/Chicago:20250714T140000
DTSTAMP:20260419T221103
CREATED:20250220T080307Z
LAST-MODIFIED:20250220T080307Z
UID:22858-1752483600-1752501600@lupinelane.com
SUMMARY:Genre Camp: Lego Jedi Engineering
DESCRIPTION:
URL:https://lupinelane.com/event/genre-camp-lego-jedi-engineering-6/
CATEGORIES:Camps
END:VEVENT
BEGIN:VEVENT
DTSTART;TZID=America/Chicago:20250714T090000
DTEND;TZID=America/Chicago:20250714T140000
DTSTAMP:20260419T221103
CREATED:20250222T080122Z
LAST-MODIFIED:20250222T080122Z
UID:22959-1752483600-1752501600@lupinelane.com
SUMMARY:Genre Camp: Fashion and Jewelry Design
DESCRIPTION:
URL:https://lupinelane.com/event/genre-camp-fashion-and-jewelry-design/
CATEGORIES:Camps
END:VEVENT
BEGIN:VEVENT
DTSTART;TZID=America/Chicago:20250714T090000
DTEND;TZID=America/Chicago:20250714T140000
DTSTAMP:20260419T221103
CREATED:20250428T152912Z
LAST-MODIFIED:20250428T152912Z
UID:23438-1752483600-1752501600@lupinelane.com
SUMMARY:A Journey Though Time: Artists and Inventors of the Renaissance
DESCRIPTION:
URL:https://lupinelane.com/event/a-journey-though-time-artists-and-inventors-of-the-renaissance/
CATEGORIES:Camps
END:VEVENT
BEGIN:VEVENT
DTSTART;TZID=America/Chicago:20250714T090000
DTEND;TZID=America/Chicago:20250714T140000
DTSTAMP:20260419T221103
CREATED:20250523T154233Z
LAST-MODIFIED:20250523T154233Z
UID:23513-1752483600-1752501600@lupinelane.com
SUMMARY:A Journey Though Time: Artists and Inventors of the Renaissance
DESCRIPTION:
URL:https://lupinelane.com/event/a-journey-though-time-artists-and-inventors-of-the-renaissance-6/
CATEGORIES:Camps
END:VEVENT
BEGIN:VEVENT
DTSTART;TZID=America/Chicago:20250714T090000
DTEND;TZID=America/Chicago:20250714T140000
DTSTAMP:20260419T221103
CREATED:20250709T070112Z
LAST-MODIFIED:20250709T070112Z
UID:24925-1752483600-1752501600@lupinelane.com
SUMMARY:A Journey Though Time: Artists and Inventors of the Renaissance
DESCRIPTION:
URL:https://lupinelane.com/event/a-journey-though-time-artists-and-inventors-of-the-renaissance-11/
CATEGORIES:Camps
END:VEVENT
BEGIN:VEVENT
DTSTART;TZID=America/Chicago:20250714T090000
DTEND;TZID=America/Chicago:20250714T140000
DTSTAMP:20260419T221103
CREATED:20250715T070110Z
LAST-MODIFIED:20250715T070110Z
UID:24986-1752483600-1752501600@lupinelane.com
SUMMARY:Genre Camp: Lego Jedi Engineering
DESCRIPTION:
URL:https://lupinelane.com/event/genre-camp-lego-jedi-engineering-11/
CATEGORIES:Camps
END:VEVENT
BEGIN:VEVENT
DTSTART;TZID=America/Chicago:20250715T090000
DTEND;TZID=America/Chicago:20250715T140000
DTSTAMP:20260419T221103
CREATED:20250220T080308Z
LAST-MODIFIED:20250220T080308Z
UID:22859-1752570000-1752588000@lupinelane.com
SUMMARY:Genre Camp: Lego Jedi Engineering
DESCRIPTION:
URL:https://lupinelane.com/event/genre-camp-lego-jedi-engineering-7/
CATEGORIES:Camps
END:VEVENT
BEGIN:VEVENT
DTSTART;TZID=America/Chicago:20250715T090000
DTEND;TZID=America/Chicago:20250715T140000
DTSTAMP:20260419T221103
CREATED:20250222T080123Z
LAST-MODIFIED:20250222T080123Z
UID:22960-1752570000-1752588000@lupinelane.com
SUMMARY:Genre Camp: Fashion and Jewelry Design
DESCRIPTION:
URL:https://lupinelane.com/event/genre-camp-fashion-and-jewelry-design-2/
CATEGORIES:Camps
END:VEVENT
BEGIN:VEVENT
DTSTART;TZID=America/Chicago:20250715T090000
DTEND;TZID=America/Chicago:20250715T140000
DTSTAMP:20260419T221103
CREATED:20250428T152914Z
LAST-MODIFIED:20250428T152914Z
UID:23439-1752570000-1752588000@lupinelane.com
SUMMARY:A Journey Though Time: Artists and Inventors of the Renaissance
DESCRIPTION:
URL:https://lupinelane.com/event/a-journey-though-time-artists-and-inventors-of-the-renaissance-2/
CATEGORIES:Camps
END:VEVENT
BEGIN:VEVENT
DTSTART;TZID=America/Chicago:20250715T090000
DTEND;TZID=America/Chicago:20250715T140000
DTSTAMP:20260419T221103
CREATED:20250523T154235Z
LAST-MODIFIED:20250523T154235Z
UID:23514-1752570000-1752588000@lupinelane.com
SUMMARY:A Journey Though Time: Artists and Inventors of the Renaissance
DESCRIPTION:
URL:https://lupinelane.com/event/a-journey-though-time-artists-and-inventors-of-the-renaissance-7/
CATEGORIES:Camps
END:VEVENT
BEGIN:VEVENT
DTSTART;TZID=America/Chicago:20250715T090000
DTEND;TZID=America/Chicago:20250715T140000
DTSTAMP:20260419T221103
CREATED:20250709T070115Z
LAST-MODIFIED:20250709T070115Z
UID:24926-1752570000-1752588000@lupinelane.com
SUMMARY:A Journey Though Time: Artists and Inventors of the Renaissance
DESCRIPTION:
URL:https://lupinelane.com/event/a-journey-though-time-artists-and-inventors-of-the-renaissance-12/
CATEGORIES:Camps
END:VEVENT
BEGIN:VEVENT
DTSTART;TZID=America/Chicago:20250715T090000
DTEND;TZID=America/Chicago:20250715T140000
DTSTAMP:20260419T221103
CREATED:20250715T070111Z
LAST-MODIFIED:20250715T070111Z
UID:24987-1752570000-1752588000@lupinelane.com
SUMMARY:Genre Camp: Lego Jedi Engineering
DESCRIPTION:
URL:https://lupinelane.com/event/genre-camp-lego-jedi-engineering-12/
CATEGORIES:Camps
END:VEVENT
BEGIN:VEVENT
DTSTART;TZID=America/Chicago:20250716T090000
DTEND;TZID=America/Chicago:20250716T140000
DTSTAMP:20260419T221103
CREATED:20250220T080310Z
LAST-MODIFIED:20250220T080310Z
UID:22860-1752656400-1752674400@lupinelane.com
SUMMARY:Genre Camp: Lego Jedi Engineering
DESCRIPTION:
URL:https://lupinelane.com/event/genre-camp-lego-jedi-engineering-8/
CATEGORIES:Camps
END:VEVENT
BEGIN:VEVENT
DTSTART;TZID=America/Chicago:20250716T090000
DTEND;TZID=America/Chicago:20250716T140000
DTSTAMP:20260419T221103
CREATED:20250222T080124Z
LAST-MODIFIED:20250222T080124Z
UID:22961-1752656400-1752674400@lupinelane.com
SUMMARY:Genre Camp: Fashion and Jewelry Design
DESCRIPTION:
URL:https://lupinelane.com/event/genre-camp-fashion-and-jewelry-design-3/
CATEGORIES:Camps
END:VEVENT
BEGIN:VEVENT
DTSTART;TZID=America/Chicago:20250716T090000
DTEND;TZID=America/Chicago:20250716T140000
DTSTAMP:20260419T221103
CREATED:20250428T152915Z
LAST-MODIFIED:20250428T152915Z
UID:23440-1752656400-1752674400@lupinelane.com
SUMMARY:A Journey Though Time: Artists and Inventors of the Renaissance
DESCRIPTION:
URL:https://lupinelane.com/event/a-journey-though-time-artists-and-inventors-of-the-renaissance-3/
CATEGORIES:Camps
END:VEVENT
END:VCALENDAR