BEGIN:VCALENDAR
VERSION:2.0
PRODID:-//Lupine Lane - ECPv6.15.20//NONSGML v1.0//EN
CALSCALE:GREGORIAN
METHOD:PUBLISH
X-ORIGINAL-URL:https://lupinelane.com
X-WR-CALDESC:Events for Lupine Lane
REFRESH-INTERVAL;VALUE=DURATION:PT1H
X-Robots-Tag:noindex
X-PUBLISHED-TTL:PT1H
BEGIN:VTIMEZONE
TZID:America/Chicago
BEGIN:DAYLIGHT
TZOFFSETFROM:-0600
TZOFFSETTO:-0500
TZNAME:CDT
DTSTART:20230312T080000
END:DAYLIGHT
BEGIN:STANDARD
TZOFFSETFROM:-0500
TZOFFSETTO:-0600
TZNAME:CST
DTSTART:20231105T070000
END:STANDARD
BEGIN:DAYLIGHT
TZOFFSETFROM:-0600
TZOFFSETTO:-0500
TZNAME:CDT
DTSTART:20240310T080000
END:DAYLIGHT
BEGIN:STANDARD
TZOFFSETFROM:-0500
TZOFFSETTO:-0600
TZNAME:CST
DTSTART:20241103T070000
END:STANDARD
BEGIN:DAYLIGHT
TZOFFSETFROM:-0600
TZOFFSETTO:-0500
TZNAME:CDT
DTSTART:20250309T080000
END:DAYLIGHT
BEGIN:STANDARD
TZOFFSETFROM:-0500
TZOFFSETTO:-0600
TZNAME:CST
DTSTART:20251102T070000
END:STANDARD
END:VTIMEZONE
BEGIN:VEVENT
DTSTART;TZID=America/Chicago:20240717T090000
DTEND;TZID=America/Chicago:20240717T140000
DTSTAMP:20260420T202325
CREATED:20240701T070022Z
LAST-MODIFIED:20240701T070022Z
UID:20935-1721206800-1721224800@lupinelane.com
SUMMARY:Genre Camp - Fashion Design
DESCRIPTION:
URL:https://lupinelane.com/event/genre-camp-fashion-design-3/
CATEGORIES:Camps
END:VEVENT
BEGIN:VEVENT
DTSTART;TZID=America/Chicago:20240717T090000
DTEND;TZID=America/Chicago:20240717T140000
DTSTAMP:20260420T202325
CREATED:20240713T070020Z
LAST-MODIFIED:20240713T070020Z
UID:21045-1721206800-1721224800@lupinelane.com
SUMMARY:Genre Camp - Lego Jedi Engineering
DESCRIPTION:
URL:https://lupinelane.com/event/genre-camp-lego-jedi-engineering-3/
CATEGORIES:Camps
END:VEVENT
BEGIN:VEVENT
DTSTART;TZID=America/Chicago:20240717T090000
DTEND;TZID=America/Chicago:20240717T140000
DTSTAMP:20260420T202325
CREATED:20240716T070029Z
LAST-MODIFIED:20240716T070029Z
UID:21060-1721206800-1721224800@lupinelane.com
SUMMARY:Creations & Explorations: Three\, Two\, One\, Blast Off!
DESCRIPTION:
URL:https://lupinelane.com/event/creations-explorations-three-two-one-blast-off-3/
CATEGORIES:Camps
END:VEVENT
END:VCALENDAR