BEGIN:VCALENDAR
VERSION:2.0
PRODID:-//Lupine Lane - ECPv6.15.20//NONSGML v1.0//EN
CALSCALE:GREGORIAN
METHOD:PUBLISH
X-WR-CALNAME:Lupine Lane
X-ORIGINAL-URL:https://lupinelane.com
X-WR-CALDESC:Events for Lupine Lane
REFRESH-INTERVAL;VALUE=DURATION:PT1H
X-Robots-Tag:noindex
X-PUBLISHED-TTL:PT1H
BEGIN:VTIMEZONE
TZID:America/Chicago
BEGIN:DAYLIGHT
TZOFFSETFROM:-0600
TZOFFSETTO:-0500
TZNAME:CDT
DTSTART:20240310T080000
END:DAYLIGHT
BEGIN:STANDARD
TZOFFSETFROM:-0500
TZOFFSETTO:-0600
TZNAME:CST
DTSTART:20241103T070000
END:STANDARD
BEGIN:DAYLIGHT
TZOFFSETFROM:-0600
TZOFFSETTO:-0500
TZNAME:CDT
DTSTART:20250309T080000
END:DAYLIGHT
BEGIN:STANDARD
TZOFFSETFROM:-0500
TZOFFSETTO:-0600
TZNAME:CST
DTSTART:20251102T070000
END:STANDARD
BEGIN:DAYLIGHT
TZOFFSETFROM:-0600
TZOFFSETTO:-0500
TZNAME:CDT
DTSTART:20260308T080000
END:DAYLIGHT
BEGIN:STANDARD
TZOFFSETFROM:-0500
TZOFFSETTO:-0600
TZNAME:CST
DTSTART:20261101T070000
END:STANDARD
END:VTIMEZONE
BEGIN:VEVENT
DTSTART;TZID=America/Chicago:20250620T090000
DTEND;TZID=America/Chicago:20250620T140000
DTSTAMP:20260420T012707
CREATED:20250222T080111Z
LAST-MODIFIED:20250222T080111Z
UID:22948-1750410000-1750428000@lupinelane.com
SUMMARY:Genre Camp: Cooking Around the World
DESCRIPTION:
URL:https://lupinelane.com/event/genre-camp-cooking-around-the-world-5/
CATEGORIES:Camps
END:VEVENT
BEGIN:VEVENT
DTSTART;TZID=America/Chicago:20250620T090000
DTEND;TZID=America/Chicago:20250620T140000
DTSTAMP:20260420T012707
CREATED:20250428T152901Z
LAST-MODIFIED:20250428T152901Z
UID:23427-1750410000-1750428000@lupinelane.com
SUMMARY:A Journey Through Time: Walk Like an Egyptian! - Exploring Ancient Egypt
DESCRIPTION:
URL:https://lupinelane.com/event/a-journey-through-time-walk-like-an-egyptian-exploring-ancient-egypt-5/
CATEGORIES:Camps
END:VEVENT
BEGIN:VEVENT
DTSTART;TZID=America/Chicago:20250620T090000
DTEND;TZID=America/Chicago:20250620T140000
DTSTAMP:20260420T012707
CREATED:20250617T070218Z
LAST-MODIFIED:20250617T070218Z
UID:24687-1750410000-1750428000@lupinelane.com
SUMMARY:A Journey Through Time: Walk Like an Egyptian! - Exploring Ancient Egypt
DESCRIPTION:
URL:https://lupinelane.com/event/a-journey-through-time-walk-like-an-egyptian-exploring-ancient-egypt-10/
CATEGORIES:Camps
END:VEVENT
END:VCALENDAR