BEGIN:VCALENDAR
VERSION:2.0
PRODID:-//Lupine Lane - ECPv6.15.20//NONSGML v1.0//EN
CALSCALE:GREGORIAN
METHOD:PUBLISH
X-ORIGINAL-URL:https://lupinelane.com
X-WR-CALDESC:Events for Lupine Lane
REFRESH-INTERVAL;VALUE=DURATION:PT1H
X-Robots-Tag:noindex
X-PUBLISHED-TTL:PT1H
BEGIN:VTIMEZONE
TZID:America/Chicago
BEGIN:DAYLIGHT
TZOFFSETFROM:-0600
TZOFFSETTO:-0500
TZNAME:CDT
DTSTART:20240310T080000
END:DAYLIGHT
BEGIN:STANDARD
TZOFFSETFROM:-0500
TZOFFSETTO:-0600
TZNAME:CST
DTSTART:20241103T070000
END:STANDARD
BEGIN:DAYLIGHT
TZOFFSETFROM:-0600
TZOFFSETTO:-0500
TZNAME:CDT
DTSTART:20250309T080000
END:DAYLIGHT
BEGIN:STANDARD
TZOFFSETFROM:-0500
TZOFFSETTO:-0600
TZNAME:CST
DTSTART:20251102T070000
END:STANDARD
BEGIN:DAYLIGHT
TZOFFSETFROM:-0600
TZOFFSETTO:-0500
TZNAME:CDT
DTSTART:20260308T080000
END:DAYLIGHT
BEGIN:STANDARD
TZOFFSETFROM:-0500
TZOFFSETTO:-0600
TZNAME:CST
DTSTART:20261101T070000
END:STANDARD
END:VTIMEZONE
BEGIN:VEVENT
DTSTART;TZID=America/Chicago:20250813T080000
DTEND;TZID=America/Chicago:20250813T120000
DTSTAMP:20260419T221117
CREATED:20250220T080337Z
LAST-MODIFIED:20250220T080337Z
UID:22885-1755072000-1755086400@lupinelane.com
SUMMARY:teset
DESCRIPTION:
URL:https://lupinelane.com/event/teset-3/
CATEGORIES:Camps
END:VEVENT
BEGIN:VEVENT
DTSTART;TZID=America/Chicago:20250813T090000
DTEND;TZID=America/Chicago:20250813T140000
DTSTAMP:20260419T221117
CREATED:20250428T152936Z
LAST-MODIFIED:20250428T152936Z
UID:23460-1755075600-1755093600@lupinelane.com
SUMMARY:A Journey Through Time: The Future is Ours! - Space and Beyond
DESCRIPTION:
URL:https://lupinelane.com/event/a-journey-through-time-the-future-is-ours-space-and-beyond-3/
CATEGORIES:Camps
END:VEVENT
BEGIN:VEVENT
DTSTART;TZID=America/Chicago:20250813T090000
DTEND;TZID=America/Chicago:20250813T140000
DTSTAMP:20260419T221117
CREATED:20250809T070103Z
LAST-MODIFIED:20250809T070103Z
UID:25703-1755075600-1755093600@lupinelane.com
SUMMARY:A Journey Through Time: The Future is Ours! - Space and Beyond
DESCRIPTION:
URL:https://lupinelane.com/event/a-journey-through-time-the-future-is-ours-space-and-beyond-8/
CATEGORIES:Camps
END:VEVENT
END:VCALENDAR