BEGIN:VCALENDAR
VERSION:2.0
PRODID:-//Lupine Lane - ECPv6.15.20//NONSGML v1.0//EN
CALSCALE:GREGORIAN
METHOD:PUBLISH
X-WR-CALNAME:Lupine Lane
X-ORIGINAL-URL:https://lupinelane.com
X-WR-CALDESC:Events for Lupine Lane
REFRESH-INTERVAL;VALUE=DURATION:PT1H
X-Robots-Tag:noindex
X-PUBLISHED-TTL:PT1H
BEGIN:VTIMEZONE
TZID:America/Chicago
BEGIN:DAYLIGHT
TZOFFSETFROM:-0600
TZOFFSETTO:-0500
TZNAME:CDT
DTSTART:20250309T080000
END:DAYLIGHT
BEGIN:STANDARD
TZOFFSETFROM:-0500
TZOFFSETTO:-0600
TZNAME:CST
DTSTART:20251102T070000
END:STANDARD
BEGIN:DAYLIGHT
TZOFFSETFROM:-0600
TZOFFSETTO:-0500
TZNAME:CDT
DTSTART:20260308T080000
END:DAYLIGHT
BEGIN:STANDARD
TZOFFSETFROM:-0500
TZOFFSETTO:-0600
TZNAME:CST
DTSTART:20261101T070000
END:STANDARD
BEGIN:DAYLIGHT
TZOFFSETFROM:-0600
TZOFFSETTO:-0500
TZNAME:CDT
DTSTART:20270314T080000
END:DAYLIGHT
BEGIN:STANDARD
TZOFFSETFROM:-0500
TZOFFSETTO:-0600
TZNAME:CST
DTSTART:20271107T070000
END:STANDARD
END:VTIMEZONE
BEGIN:VEVENT
DTSTART;TZID=America/Chicago:20260715T090000
DTEND;TZID=America/Chicago:20260715T140000
DTSTAMP:20260419T142717
CREATED:20260126T080908Z
LAST-MODIFIED:20260126T080908Z
UID:26563-1784106000-1784124000@lupinelane.com
SUMMARY:Where is Water in Your Body?
DESCRIPTION:
URL:https://lupinelane.com/event/where-is-water-in-your-body-3/
CATEGORIES:Camps
END:VEVENT
BEGIN:VEVENT
DTSTART;TZID=America/Chicago:20260715T090000
DTEND;TZID=America/Chicago:20260715T140000
DTSTAMP:20260419T142717
CREATED:20260131T080442Z
LAST-MODIFIED:20260131T080442Z
UID:26784-1784106000-1784124000@lupinelane.com
SUMMARY:Elemental Explorations: Where is Water in Your Body?
DESCRIPTION:
URL:https://lupinelane.com/event/elemental-explorations-where-is-water-in-your-body-3/
CATEGORIES:Camps
END:VEVENT
BEGIN:VEVENT
DTSTART;TZID=America/Chicago:20260715T090000
DTEND;TZID=America/Chicago:20260715T140000
DTSTAMP:20260419T142717
CREATED:20260220T080518Z
LAST-MODIFIED:20260220T080518Z
UID:27330-1784106000-1784124000@lupinelane.com
SUMMARY:Genre Camp: Lego Jedi Engineering
DESCRIPTION:
URL:https://lupinelane.com/event/genre-camp-lego-jedi-engineering-18/
CATEGORIES:Camps
END:VEVENT
BEGIN:VEVENT
DTSTART;TZID=America/Chicago:20260715T090000
DTEND;TZID=America/Chicago:20260715T140000
DTSTAMP:20260419T142717
CREATED:20260220T080524Z
LAST-MODIFIED:20260220T080524Z
UID:27335-1784106000-1784124000@lupinelane.com
SUMMARY:Genre Camp: Fashion Design
DESCRIPTION:
URL:https://lupinelane.com/event/genre-camp-fashion-design-8/
CATEGORIES:Camps
END:VEVENT
END:VCALENDAR