BEGIN:VCALENDAR
VERSION:2.0
PRODID:-//Lupine Lane - ECPv6.15.20//NONSGML v1.0//EN
CALSCALE:GREGORIAN
METHOD:PUBLISH
X-ORIGINAL-URL:https://lupinelane.com
X-WR-CALDESC:Events for Lupine Lane
REFRESH-INTERVAL;VALUE=DURATION:PT1H
X-Robots-Tag:noindex
X-PUBLISHED-TTL:PT1H
BEGIN:VTIMEZONE
TZID:America/Chicago
BEGIN:DAYLIGHT
TZOFFSETFROM:-0600
TZOFFSETTO:-0500
TZNAME:CDT
DTSTART:20250309T080000
END:DAYLIGHT
BEGIN:STANDARD
TZOFFSETFROM:-0500
TZOFFSETTO:-0600
TZNAME:CST
DTSTART:20251102T070000
END:STANDARD
BEGIN:DAYLIGHT
TZOFFSETFROM:-0600
TZOFFSETTO:-0500
TZNAME:CDT
DTSTART:20260308T080000
END:DAYLIGHT
BEGIN:STANDARD
TZOFFSETFROM:-0500
TZOFFSETTO:-0600
TZNAME:CST
DTSTART:20261101T070000
END:STANDARD
BEGIN:DAYLIGHT
TZOFFSETFROM:-0600
TZOFFSETTO:-0500
TZNAME:CDT
DTSTART:20270314T080000
END:DAYLIGHT
BEGIN:STANDARD
TZOFFSETFROM:-0500
TZOFFSETTO:-0600
TZNAME:CST
DTSTART:20271107T070000
END:STANDARD
END:VTIMEZONE
BEGIN:VEVENT
DTSTART;TZID=America/Chicago:20260730T090000
DTEND;TZID=America/Chicago:20260730T140000
DTSTAMP:20260419T142815
CREATED:20260214T080256Z
LAST-MODIFIED:20260214T080256Z
UID:27183-1785402000-1785420000@lupinelane.com
SUMMARY:Elemental Explorations: Skate\, Swim\, Float! The Three Phases of Water
DESCRIPTION:
URL:https://lupinelane.com/event/elemental-explorations-skate-swim-float-the-three-phases-of-water-4/
CATEGORIES:Camps
END:VEVENT
BEGIN:VEVENT
DTSTART;TZID=America/Chicago:20260730T090000
DTEND;TZID=America/Chicago:20260730T140000
DTSTAMP:20260419T142815
CREATED:20260220T080455Z
LAST-MODIFIED:20260220T080455Z
UID:27311-1785402000-1785420000@lupinelane.com
SUMMARY:Genre Camp: Entrepreneurship 101 - The Business Fair
DESCRIPTION:
URL:https://lupinelane.com/event/genre-camp-entrepreneurship-101-the-business-fair-9/
CATEGORIES:Camps
END:VEVENT
BEGIN:VEVENT
DTSTART;TZID=America/Chicago:20260730T090000
DTEND;TZID=America/Chicago:20260730T140000
DTSTAMP:20260419T142815
CREATED:20260220T080501Z
LAST-MODIFIED:20260220T080501Z
UID:27316-1785402000-1785420000@lupinelane.com
SUMMARY:Genre Camp: Dollars and Sense - Financial Foundations
DESCRIPTION:
URL:https://lupinelane.com/event/genre-camp-dollars-and-sense-financial-foundations-4/
CATEGORIES:Camps
END:VEVENT
END:VCALENDAR