BEGIN:VCALENDAR
VERSION:2.0
PRODID:-//Lupine Lane - ECPv6.15.20//NONSGML v1.0//EN
CALSCALE:GREGORIAN
METHOD:PUBLISH
X-WR-CALNAME:Lupine Lane
X-ORIGINAL-URL:https://lupinelane.com
X-WR-CALDESC:Events for Lupine Lane
REFRESH-INTERVAL;VALUE=DURATION:PT1H
X-Robots-Tag:noindex
X-PUBLISHED-TTL:PT1H
BEGIN:VTIMEZONE
TZID:America/Chicago
BEGIN:DAYLIGHT
TZOFFSETFROM:-0600
TZOFFSETTO:-0500
TZNAME:CDT
DTSTART:20240310T080000
END:DAYLIGHT
BEGIN:STANDARD
TZOFFSETFROM:-0500
TZOFFSETTO:-0600
TZNAME:CST
DTSTART:20241103T070000
END:STANDARD
BEGIN:DAYLIGHT
TZOFFSETFROM:-0600
TZOFFSETTO:-0500
TZNAME:CDT
DTSTART:20250309T080000
END:DAYLIGHT
BEGIN:STANDARD
TZOFFSETFROM:-0500
TZOFFSETTO:-0600
TZNAME:CST
DTSTART:20251102T070000
END:STANDARD
BEGIN:DAYLIGHT
TZOFFSETFROM:-0600
TZOFFSETTO:-0500
TZNAME:CDT
DTSTART:20260308T080000
END:DAYLIGHT
BEGIN:STANDARD
TZOFFSETFROM:-0500
TZOFFSETTO:-0600
TZNAME:CST
DTSTART:20261101T070000
END:STANDARD
BEGIN:DAYLIGHT
TZOFFSETFROM:-0600
TZOFFSETTO:-0500
TZNAME:CDT
DTSTART:20270314T080000
END:DAYLIGHT
BEGIN:STANDARD
TZOFFSETFROM:-0500
TZOFFSETTO:-0600
TZNAME:CST
DTSTART:20271107T070000
END:STANDARD
END:VTIMEZONE
BEGIN:VEVENT
DTSTART;TZID=America/Chicago:20250815T080000
DTEND;TZID=America/Chicago:20250815T120000
DTSTAMP:20260420T014907
CREATED:20250220T080339Z
LAST-MODIFIED:20250220T080339Z
UID:22887-1755244800-1755259200@lupinelane.com
SUMMARY:teset
DESCRIPTION:
URL:https://lupinelane.com/event/teset-5/
CATEGORIES:Camps
END:VEVENT
BEGIN:VEVENT
DTSTART;TZID=America/Chicago:20250815T090000
DTEND;TZID=America/Chicago:20250815T140000
DTSTAMP:20260420T014907
CREATED:20250428T152938Z
LAST-MODIFIED:20250428T152938Z
UID:23462-1755248400-1755266400@lupinelane.com
SUMMARY:A Journey Through Time: The Future is Ours! - Space and Beyond
DESCRIPTION:
URL:https://lupinelane.com/event/a-journey-through-time-the-future-is-ours-space-and-beyond-5/
CATEGORIES:Camps
END:VEVENT
BEGIN:VEVENT
DTSTART;TZID=America/Chicago:20250815T090000
DTEND;TZID=America/Chicago:20250815T140000
DTSTAMP:20260420T014907
CREATED:20250809T070105Z
LAST-MODIFIED:20250809T070105Z
UID:25705-1755248400-1755266400@lupinelane.com
SUMMARY:A Journey Through Time: The Future is Ours! - Space and Beyond
DESCRIPTION:
URL:https://lupinelane.com/event/a-journey-through-time-the-future-is-ours-space-and-beyond-10/
CATEGORIES:Camps
END:VEVENT
BEGIN:VEVENT
DTSTART;TZID=America/Chicago:20250818T090000
DTEND;TZID=America/Chicago:20250818T140000
DTSTAMP:20260420T014907
CREATED:20250619T070304Z
LAST-MODIFIED:20250619T070304Z
UID:24778-1755507600-1755525600@lupinelane.com
SUMMARY:Sport Camp: August Staff Development Week
DESCRIPTION:
URL:https://lupinelane.com/event/sport-camp-august-staff-development-week/
CATEGORIES:Camps
END:VEVENT
BEGIN:VEVENT
DTSTART;TZID=America/Chicago:20250819T090000
DTEND;TZID=America/Chicago:20250819T140000
DTSTAMP:20260420T014907
CREATED:20250619T070305Z
LAST-MODIFIED:20250619T070305Z
UID:24779-1755594000-1755612000@lupinelane.com
SUMMARY:Sport Camp: August Staff Development Week
DESCRIPTION:
URL:https://lupinelane.com/event/sport-camp-august-staff-development-week-2/
CATEGORIES:Camps
END:VEVENT
BEGIN:VEVENT
DTSTART;TZID=America/Chicago:20250820T090000
DTEND;TZID=America/Chicago:20250820T140000
DTSTAMP:20260420T014907
CREATED:20250619T070307Z
LAST-MODIFIED:20250619T070307Z
UID:24780-1755680400-1755698400@lupinelane.com
SUMMARY:Sport Camp: August Staff Development Week
DESCRIPTION:
URL:https://lupinelane.com/event/sport-camp-august-staff-development-week-3/
CATEGORIES:Camps
END:VEVENT
BEGIN:VEVENT
DTSTART;TZID=America/Chicago:20250821T090000
DTEND;TZID=America/Chicago:20250821T140000
DTSTAMP:20260420T014907
CREATED:20250619T070308Z
LAST-MODIFIED:20250619T070308Z
UID:24781-1755766800-1755784800@lupinelane.com
SUMMARY:Sport Camp: August Staff Development Week
DESCRIPTION:
URL:https://lupinelane.com/event/sport-camp-august-staff-development-week-4/
CATEGORIES:Camps
END:VEVENT
BEGIN:VEVENT
DTSTART;TZID=America/Chicago:20250822T090000
DTEND;TZID=America/Chicago:20250822T140000
DTSTAMP:20260420T014907
CREATED:20250619T070309Z
LAST-MODIFIED:20250619T070309Z
UID:24782-1755853200-1755871200@lupinelane.com
SUMMARY:Sport Camp: August Staff Development Week
DESCRIPTION:
URL:https://lupinelane.com/event/sport-camp-august-staff-development-week-5/
CATEGORIES:Camps
END:VEVENT
BEGIN:VEVENT
DTSTART;TZID=America/Chicago:20260526T090000
DTEND;TZID=America/Chicago:20260526T140000
DTSTAMP:20260420T014907
CREATED:20260126T081026Z
LAST-MODIFIED:20260126T081026Z
UID:26616-1779786000-1779804000@lupinelane.com
SUMMARY:Sport Camp: May Staff Development Week
DESCRIPTION:
URL:https://lupinelane.com/event/sport-camp-may-staff-development-week-5/
CATEGORIES:Camps
END:VEVENT
BEGIN:VEVENT
DTSTART;TZID=America/Chicago:20260527T090000
DTEND;TZID=America/Chicago:20260527T140000
DTSTAMP:20260420T014907
CREATED:20260126T081027Z
LAST-MODIFIED:20260126T081027Z
UID:26617-1779872400-1779890400@lupinelane.com
SUMMARY:Sport Camp: May Staff Development Week
DESCRIPTION:
URL:https://lupinelane.com/event/sport-camp-may-staff-development-week-6/
CATEGORIES:Camps
END:VEVENT
BEGIN:VEVENT
DTSTART;TZID=America/Chicago:20260528T090000
DTEND;TZID=America/Chicago:20260528T140000
DTSTAMP:20260420T014907
CREATED:20260126T081028Z
LAST-MODIFIED:20260126T081028Z
UID:26618-1779958800-1779976800@lupinelane.com
SUMMARY:Sport Camp: May Staff Development Week
DESCRIPTION:
URL:https://lupinelane.com/event/sport-camp-may-staff-development-week-7/
CATEGORIES:Camps
END:VEVENT
BEGIN:VEVENT
DTSTART;TZID=America/Chicago:20260529T090000
DTEND;TZID=America/Chicago:20260529T140000
DTSTAMP:20260420T014907
CREATED:20260126T081030Z
LAST-MODIFIED:20260126T081030Z
UID:26619-1780045200-1780063200@lupinelane.com
SUMMARY:Sport Camp: May Staff Development Week
DESCRIPTION:
URL:https://lupinelane.com/event/sport-camp-may-staff-development-week-8/
CATEGORIES:Camps
END:VEVENT
BEGIN:VEVENT
DTSTART;TZID=America/Chicago:20260601T090000
DTEND;TZID=America/Chicago:20260601T140000
DTSTAMP:20260420T014907
CREATED:20260131T080426Z
LAST-MODIFIED:20260131T080426Z
UID:26772-1780304400-1780322400@lupinelane.com
SUMMARY:Elemental Explorations: Where is Earth in Your Body?
DESCRIPTION:
URL:https://lupinelane.com/event/elemental-explorations-where-is-earth-in-your-body/
CATEGORIES:Camps
END:VEVENT
BEGIN:VEVENT
DTSTART;TZID=America/Chicago:20260601T090000
DTEND;TZID=America/Chicago:20260601T140000
DTSTAMP:20260420T014907
CREATED:20260220T080558Z
LAST-MODIFIED:20260220T080558Z
UID:27363-1780304400-1780322400@lupinelane.com
SUMMARY:Genre Camp: The Heart of Art - 2D
DESCRIPTION:
URL:https://lupinelane.com/event/genre-camp-the-heart-of-art-2d/
CATEGORIES:Camps
END:VEVENT
BEGIN:VEVENT
DTSTART;TZID=America/Chicago:20260602T090000
DTEND;TZID=America/Chicago:20260602T140000
DTSTAMP:20260420T014907
CREATED:20260131T080427Z
LAST-MODIFIED:20260131T080427Z
UID:26773-1780390800-1780408800@lupinelane.com
SUMMARY:Elemental Explorations: Where is Earth in Your Body?
DESCRIPTION:
URL:https://lupinelane.com/event/elemental-explorations-where-is-earth-in-your-body-2/
CATEGORIES:Camps
END:VEVENT
BEGIN:VEVENT
DTSTART;TZID=America/Chicago:20260602T090000
DTEND;TZID=America/Chicago:20260602T140000
DTSTAMP:20260420T014907
CREATED:20260220T080559Z
LAST-MODIFIED:20260220T080559Z
UID:27364-1780390800-1780408800@lupinelane.com
SUMMARY:Genre Camp: The Heart of Art - 2D
DESCRIPTION:
URL:https://lupinelane.com/event/genre-camp-the-heart-of-art-2d-2/
CATEGORIES:Camps
END:VEVENT
BEGIN:VEVENT
DTSTART;TZID=America/Chicago:20260603T090000
DTEND;TZID=America/Chicago:20260603T140000
DTSTAMP:20260420T014907
CREATED:20260131T080429Z
LAST-MODIFIED:20260131T080429Z
UID:26774-1780477200-1780495200@lupinelane.com
SUMMARY:Elemental Explorations: Where is Earth in Your Body?
DESCRIPTION:
URL:https://lupinelane.com/event/elemental-explorations-where-is-earth-in-your-body-3/
CATEGORIES:Camps
END:VEVENT
BEGIN:VEVENT
DTSTART;TZID=America/Chicago:20260603T090000
DTEND;TZID=America/Chicago:20260603T140000
DTSTAMP:20260420T014907
CREATED:20260220T080600Z
LAST-MODIFIED:20260220T080600Z
UID:27365-1780477200-1780495200@lupinelane.com
SUMMARY:Genre Camp: The Heart of Art - 2D
DESCRIPTION:
URL:https://lupinelane.com/event/genre-camp-the-heart-of-art-2d-3/
CATEGORIES:Camps
END:VEVENT
BEGIN:VEVENT
DTSTART;TZID=America/Chicago:20260604T090000
DTEND;TZID=America/Chicago:20260604T140000
DTSTAMP:20260420T014907
CREATED:20260131T080430Z
LAST-MODIFIED:20260131T080430Z
UID:26775-1780563600-1780581600@lupinelane.com
SUMMARY:Elemental Explorations: Where is Earth in Your Body?
DESCRIPTION:
URL:https://lupinelane.com/event/elemental-explorations-where-is-earth-in-your-body-4/
CATEGORIES:Camps
END:VEVENT
BEGIN:VEVENT
DTSTART;TZID=America/Chicago:20260604T090000
DTEND;TZID=America/Chicago:20260604T140000
DTSTAMP:20260420T014907
CREATED:20260220T080602Z
LAST-MODIFIED:20260220T080602Z
UID:27366-1780563600-1780581600@lupinelane.com
SUMMARY:Genre Camp: The Heart of Art - 2D
DESCRIPTION:
URL:https://lupinelane.com/event/genre-camp-the-heart-of-art-2d-4/
CATEGORIES:Camps
END:VEVENT
BEGIN:VEVENT
DTSTART;TZID=America/Chicago:20260605T090000
DTEND;TZID=America/Chicago:20260605T140000
DTSTAMP:20260420T014907
CREATED:20260131T080431Z
LAST-MODIFIED:20260131T080431Z
UID:26776-1780650000-1780668000@lupinelane.com
SUMMARY:Elemental Explorations: Where is Earth in Your Body?
DESCRIPTION:
URL:https://lupinelane.com/event/elemental-explorations-where-is-earth-in-your-body-5/
CATEGORIES:Camps
END:VEVENT
BEGIN:VEVENT
DTSTART;TZID=America/Chicago:20260605T090000
DTEND;TZID=America/Chicago:20260605T140000
DTSTAMP:20260420T014907
CREATED:20260220T080603Z
LAST-MODIFIED:20260220T080603Z
UID:27367-1780650000-1780668000@lupinelane.com
SUMMARY:Genre Camp: The Heart of Art - 2D
DESCRIPTION:
URL:https://lupinelane.com/event/genre-camp-the-heart-of-art-2d-5/
CATEGORIES:Camps
END:VEVENT
BEGIN:VEVENT
DTSTART;TZID=America/Chicago:20260608T090000
DTEND;TZID=America/Chicago:20260608T140000
DTSTAMP:20260420T014907
CREATED:20260131T080406Z
LAST-MODIFIED:20260131T080406Z
UID:26757-1780909200-1780927200@lupinelane.com
SUMMARY:Elemental Explorations: Planet Earth and the Solar System
DESCRIPTION:
URL:https://lupinelane.com/event/elemental-explorations-planet-earth-and-the-solar-system/
CATEGORIES:Camps
END:VEVENT
BEGIN:VEVENT
DTSTART;TZID=America/Chicago:20260608T090000
DTEND;TZID=America/Chicago:20260608T140000
DTSTAMP:20260420T014907
CREATED:20260220T080551Z
LAST-MODIFIED:20260220T080551Z
UID:27358-1780909200-1780927200@lupinelane.com
SUMMARY:Genre Camp: The Heart of Art - 3D
DESCRIPTION:
URL:https://lupinelane.com/event/genre-camp-the-heart-of-art-3d/
CATEGORIES:Camps
END:VEVENT
BEGIN:VEVENT
DTSTART;TZID=America/Chicago:20260609T090000
DTEND;TZID=America/Chicago:20260609T140000
DTSTAMP:20260420T014907
CREATED:20260131T080407Z
LAST-MODIFIED:20260131T080407Z
UID:26758-1780995600-1781013600@lupinelane.com
SUMMARY:Elemental Explorations: Planet Earth and the Solar System
DESCRIPTION:
URL:https://lupinelane.com/event/elemental-explorations-planet-earth-and-the-solar-system-2/
CATEGORIES:Camps
END:VEVENT
BEGIN:VEVENT
DTSTART;TZID=America/Chicago:20260609T090000
DTEND;TZID=America/Chicago:20260609T140000
DTSTAMP:20260420T014907
CREATED:20260220T080553Z
LAST-MODIFIED:20260220T080553Z
UID:27359-1780995600-1781013600@lupinelane.com
SUMMARY:Genre Camp: The Heart of Art - 3D
DESCRIPTION:
URL:https://lupinelane.com/event/genre-camp-the-heart-of-art-3d-2/
CATEGORIES:Camps
END:VEVENT
BEGIN:VEVENT
DTSTART;TZID=America/Chicago:20260610T090000
DTEND;TZID=America/Chicago:20260610T140000
DTSTAMP:20260420T014907
CREATED:20260131T080409Z
LAST-MODIFIED:20260131T080409Z
UID:26759-1781082000-1781100000@lupinelane.com
SUMMARY:Elemental Explorations: Planet Earth and the Solar System
DESCRIPTION:
URL:https://lupinelane.com/event/elemental-explorations-planet-earth-and-the-solar-system-3/
CATEGORIES:Camps
END:VEVENT
BEGIN:VEVENT
DTSTART;TZID=America/Chicago:20260610T090000
DTEND;TZID=America/Chicago:20260610T140000
DTSTAMP:20260420T014907
CREATED:20260220T080554Z
LAST-MODIFIED:20260220T080554Z
UID:27360-1781082000-1781100000@lupinelane.com
SUMMARY:Genre Camp: The Heart of Art - 3D
DESCRIPTION:
URL:https://lupinelane.com/event/genre-camp-the-heart-of-art-3d-3/
CATEGORIES:Camps
END:VEVENT
BEGIN:VEVENT
DTSTART;TZID=America/Chicago:20260611T090000
DTEND;TZID=America/Chicago:20260611T140000
DTSTAMP:20260420T014907
CREATED:20260131T080410Z
LAST-MODIFIED:20260131T080410Z
UID:26760-1781168400-1781186400@lupinelane.com
SUMMARY:Elemental Explorations: Planet Earth and the Solar System
DESCRIPTION:
URL:https://lupinelane.com/event/elemental-explorations-planet-earth-and-the-solar-system-4/
CATEGORIES:Camps
END:VEVENT
BEGIN:VEVENT
DTSTART;TZID=America/Chicago:20260611T090000
DTEND;TZID=America/Chicago:20260611T140000
DTSTAMP:20260420T014907
CREATED:20260220T080556Z
LAST-MODIFIED:20260220T080556Z
UID:27361-1781168400-1781186400@lupinelane.com
SUMMARY:Genre Camp: The Heart of Art - 3D
DESCRIPTION:
URL:https://lupinelane.com/event/genre-camp-the-heart-of-art-3d-4/
CATEGORIES:Camps
END:VEVENT
END:VCALENDAR