BEGIN:VCALENDAR
VERSION:2.0
PRODID:-//Lupine Lane - ECPv6.15.20//NONSGML v1.0//EN
CALSCALE:GREGORIAN
METHOD:PUBLISH
X-ORIGINAL-URL:https://lupinelane.com
X-WR-CALDESC:Events for Lupine Lane
REFRESH-INTERVAL;VALUE=DURATION:PT1H
X-Robots-Tag:noindex
X-PUBLISHED-TTL:PT1H
BEGIN:VTIMEZONE
TZID:America/Chicago
BEGIN:DAYLIGHT
TZOFFSETFROM:-0600
TZOFFSETTO:-0500
TZNAME:CDT
DTSTART:20230312T080000
END:DAYLIGHT
BEGIN:STANDARD
TZOFFSETFROM:-0500
TZOFFSETTO:-0600
TZNAME:CST
DTSTART:20231105T070000
END:STANDARD
BEGIN:DAYLIGHT
TZOFFSETFROM:-0600
TZOFFSETTO:-0500
TZNAME:CDT
DTSTART:20240310T080000
END:DAYLIGHT
BEGIN:STANDARD
TZOFFSETFROM:-0500
TZOFFSETTO:-0600
TZNAME:CST
DTSTART:20241103T070000
END:STANDARD
BEGIN:DAYLIGHT
TZOFFSETFROM:-0600
TZOFFSETTO:-0500
TZNAME:CDT
DTSTART:20250309T080000
END:DAYLIGHT
BEGIN:STANDARD
TZOFFSETFROM:-0500
TZOFFSETTO:-0600
TZNAME:CST
DTSTART:20251102T070000
END:STANDARD
END:VTIMEZONE
BEGIN:VEVENT
DTSTART;TZID=America/Chicago:20240723T090000
DTEND;TZID=America/Chicago:20240723T140000
DTSTAMP:20260421T001453
CREATED:20240722T070021Z
LAST-MODIFIED:20240722T070021Z
UID:21109-1721725200-1721743200@lupinelane.com
SUMMARY:Creations & Explorations: Bubble\, Bubble\, Pop! Do the Science Bop!
DESCRIPTION:
URL:https://lupinelane.com/event/creations-explorations-bubble-bubble-pop-do-the-science-bop-2/
CATEGORIES:Camps
END:VEVENT
BEGIN:VEVENT
DTSTART;TZID=America/Chicago:20240724T090000
DTEND;TZID=America/Chicago:20240724T140000
DTSTAMP:20260421T001453
CREATED:20240711T070020Z
LAST-MODIFIED:20240711T070020Z
UID:21025-1721811600-1721829600@lupinelane.com
SUMMARY:Genre Camp - A Story\, A Story! Folktales\, Storytelling and Dance
DESCRIPTION:
URL:https://lupinelane.com/event/genre-camp-a-story-a-story-folktales-storytelling-and-dance-3/
CATEGORIES:Camps
END:VEVENT
BEGIN:VEVENT
DTSTART;TZID=America/Chicago:20240724T090000
DTEND;TZID=America/Chicago:20240724T140000
DTSTAMP:20260421T001453
CREATED:20240722T070023Z
LAST-MODIFIED:20240722T070023Z
UID:21110-1721811600-1721829600@lupinelane.com
SUMMARY:Creations & Explorations: Bubble\, Bubble\, Pop! Do the Science Bop!
DESCRIPTION:
URL:https://lupinelane.com/event/creations-explorations-bubble-bubble-pop-do-the-science-bop-3/
CATEGORIES:Camps
END:VEVENT
BEGIN:VEVENT
DTSTART;TZID=America/Chicago:20240725T090000
DTEND;TZID=America/Chicago:20240725T140000
DTSTAMP:20260421T001453
CREATED:20240711T070022Z
LAST-MODIFIED:20240711T070022Z
UID:21026-1721898000-1721916000@lupinelane.com
SUMMARY:Genre Camp - A Story\, A Story! Folktales\, Storytelling and Dance
DESCRIPTION:
URL:https://lupinelane.com/event/genre-camp-a-story-a-story-folktales-storytelling-and-dance-4/
CATEGORIES:Camps
END:VEVENT
BEGIN:VEVENT
DTSTART;TZID=America/Chicago:20240725T090000
DTEND;TZID=America/Chicago:20240725T140000
DTSTAMP:20260421T001453
CREATED:20240722T070026Z
LAST-MODIFIED:20240722T070026Z
UID:21111-1721898000-1721916000@lupinelane.com
SUMMARY:Creations & Explorations: Bubble\, Bubble\, Pop! Do the Science Bop!
DESCRIPTION:
URL:https://lupinelane.com/event/creations-explorations-bubble-bubble-pop-do-the-science-bop-4/
CATEGORIES:Camps
END:VEVENT
BEGIN:VEVENT
DTSTART;TZID=America/Chicago:20240726T090000
DTEND;TZID=America/Chicago:20240726T140000
DTSTAMP:20260421T001453
CREATED:20240711T070023Z
LAST-MODIFIED:20240711T070023Z
UID:21027-1721984400-1722002400@lupinelane.com
SUMMARY:Genre Camp - A Story\, A Story! Folktales\, Storytelling and Dance
DESCRIPTION:
URL:https://lupinelane.com/event/genre-camp-a-story-a-story-folktales-storytelling-and-dance-5/
CATEGORIES:Camps
END:VEVENT
BEGIN:VEVENT
DTSTART;TZID=America/Chicago:20240726T090000
DTEND;TZID=America/Chicago:20240726T140000
DTSTAMP:20260421T001453
CREATED:20240722T070027Z
LAST-MODIFIED:20240722T070027Z
UID:21112-1721984400-1722002400@lupinelane.com
SUMMARY:Creations & Explorations: Bubble\, Bubble\, Pop! Do the Science Bop!
DESCRIPTION:
URL:https://lupinelane.com/event/creations-explorations-bubble-bubble-pop-do-the-science-bop-5/
CATEGORIES:Camps
END:VEVENT
BEGIN:VEVENT
DTSTART;TZID=America/Chicago:20240729T090000
DTEND;TZID=America/Chicago:20240729T140000
DTSTAMP:20260421T001453
CREATED:20240504T070123Z
LAST-MODIFIED:20240504T070123Z
UID:20245-1722243600-1722261600@lupinelane.com
SUMMARY:Genre Camp - The Invention Convention
DESCRIPTION:
URL:https://lupinelane.com/event/genre-camp-the-invention-convention/
CATEGORIES:Camps
END:VEVENT
BEGIN:VEVENT
DTSTART;TZID=America/Chicago:20240729T090000
DTEND;TZID=America/Chicago:20240729T140000
DTSTAMP:20260421T001453
CREATED:20240729T070020Z
LAST-MODIFIED:20240729T070020Z
UID:21247-1722243600-1722261600@lupinelane.com
SUMMARY:Creations & Explorations: Flight Discovery
DESCRIPTION:
URL:https://lupinelane.com/event/creations-explorations-flight-discovery/
CATEGORIES:Camps
END:VEVENT
BEGIN:VEVENT
DTSTART;TZID=America/Chicago:20240730T090000
DTEND;TZID=America/Chicago:20240730T140000
DTSTAMP:20260421T001453
CREATED:20240504T070124Z
LAST-MODIFIED:20240504T070124Z
UID:20246-1722330000-1722348000@lupinelane.com
SUMMARY:Genre Camp - The Invention Convention
DESCRIPTION:
URL:https://lupinelane.com/event/genre-camp-the-invention-convention-2/
CATEGORIES:Camps
END:VEVENT
BEGIN:VEVENT
DTSTART;TZID=America/Chicago:20240730T090000
DTEND;TZID=America/Chicago:20240730T140000
DTSTAMP:20260421T001453
CREATED:20240729T070023Z
LAST-MODIFIED:20240729T070023Z
UID:21248-1722330000-1722348000@lupinelane.com
SUMMARY:Creations & Explorations: Flight Discovery
DESCRIPTION:
URL:https://lupinelane.com/event/creations-explorations-flight-discovery-2/
CATEGORIES:Camps
END:VEVENT
BEGIN:VEVENT
DTSTART;TZID=America/Chicago:20240731T090000
DTEND;TZID=America/Chicago:20240731T140000
DTSTAMP:20260421T001453
CREATED:20240504T070124Z
LAST-MODIFIED:20240504T070124Z
UID:20247-1722416400-1722434400@lupinelane.com
SUMMARY:Genre Camp - The Invention Convention
DESCRIPTION:
URL:https://lupinelane.com/event/genre-camp-the-invention-convention-3/
CATEGORIES:Camps
END:VEVENT
BEGIN:VEVENT
DTSTART;TZID=America/Chicago:20240731T090000
DTEND;TZID=America/Chicago:20240731T140000
DTSTAMP:20260421T001453
CREATED:20240729T070026Z
LAST-MODIFIED:20240729T070026Z
UID:21249-1722416400-1722434400@lupinelane.com
SUMMARY:Creations & Explorations: Flight Discovery
DESCRIPTION:
URL:https://lupinelane.com/event/creations-explorations-flight-discovery-3/
CATEGORIES:Camps
END:VEVENT
BEGIN:VEVENT
DTSTART;TZID=America/Chicago:20240801T090000
DTEND;TZID=America/Chicago:20240801T140000
DTSTAMP:20260421T001453
CREATED:20240504T070126Z
LAST-MODIFIED:20240504T070126Z
UID:20248-1722502800-1722520800@lupinelane.com
SUMMARY:Genre Camp - The Invention Convention
DESCRIPTION:
URL:https://lupinelane.com/event/genre-camp-the-invention-convention-4/
CATEGORIES:Camps
END:VEVENT
BEGIN:VEVENT
DTSTART;TZID=America/Chicago:20240801T090000
DTEND;TZID=America/Chicago:20240801T140000
DTSTAMP:20260421T001453
CREATED:20240729T070028Z
LAST-MODIFIED:20240729T070028Z
UID:21250-1722502800-1722520800@lupinelane.com
SUMMARY:Creations & Explorations: Flight Discovery
DESCRIPTION:
URL:https://lupinelane.com/event/creations-explorations-flight-discovery-4/
CATEGORIES:Camps
END:VEVENT
BEGIN:VEVENT
DTSTART;TZID=America/Chicago:20240802T090000
DTEND;TZID=America/Chicago:20240802T140000
DTSTAMP:20260421T001453
CREATED:20240504T070127Z
LAST-MODIFIED:20240504T070127Z
UID:20249-1722589200-1722607200@lupinelane.com
SUMMARY:Genre Camp - The Invention Convention
DESCRIPTION:
URL:https://lupinelane.com/event/genre-camp-the-invention-convention-5/
CATEGORIES:Camps
END:VEVENT
BEGIN:VEVENT
DTSTART;TZID=America/Chicago:20240802T090000
DTEND;TZID=America/Chicago:20240802T140000
DTSTAMP:20260421T001453
CREATED:20240729T070030Z
LAST-MODIFIED:20240729T070030Z
UID:21251-1722589200-1722607200@lupinelane.com
SUMMARY:Creations & Explorations: Flight Discovery
DESCRIPTION:
URL:https://lupinelane.com/event/creations-explorations-flight-discovery-5/
CATEGORIES:Camps
END:VEVENT
BEGIN:VEVENT
DTSTART;TZID=America/Chicago:20240805T090000
DTEND;TZID=America/Chicago:20240805T140000
DTSTAMP:20260421T001453
CREATED:20240521T070015Z
LAST-MODIFIED:20240521T070015Z
UID:20469-1722848400-1722866400@lupinelane.com
SUMMARY:Genre Camp - Elementary School 101
DESCRIPTION:
URL:https://lupinelane.com/event/genre-camp-elementary-school-101/
CATEGORIES:Camps
END:VEVENT
BEGIN:VEVENT
DTSTART;TZID=America/Chicago:20240805T090000
DTEND;TZID=America/Chicago:20240805T140000
DTSTAMP:20260421T001453
CREATED:20240806T070038Z
LAST-MODIFIED:20240806T070038Z
UID:21471-1722848400-1722866400@lupinelane.com
SUMMARY:Creations & Explorations: Exploring the Human Body
DESCRIPTION:
URL:https://lupinelane.com/event/creations-explorations-exploring-the-human-body/
CATEGORIES:Camps
END:VEVENT
BEGIN:VEVENT
DTSTART;TZID=America/Chicago:20240806T090000
DTEND;TZID=America/Chicago:20240806T140000
DTSTAMP:20260421T001453
CREATED:20240521T070017Z
LAST-MODIFIED:20240521T070017Z
UID:20470-1722934800-1722952800@lupinelane.com
SUMMARY:Genre Camp - Elementary School 101
DESCRIPTION:
URL:https://lupinelane.com/event/genre-camp-elementary-school-101-2/
CATEGORIES:Camps
END:VEVENT
BEGIN:VEVENT
DTSTART;TZID=America/Chicago:20240806T090000
DTEND;TZID=America/Chicago:20240806T140000
DTSTAMP:20260421T001453
CREATED:20240806T070040Z
LAST-MODIFIED:20240806T070040Z
UID:21472-1722934800-1722952800@lupinelane.com
SUMMARY:Creations & Explorations: Exploring the Human Body
DESCRIPTION:
URL:https://lupinelane.com/event/creations-explorations-exploring-the-human-body-2/
CATEGORIES:Camps
END:VEVENT
BEGIN:VEVENT
DTSTART;TZID=America/Chicago:20240807T090000
DTEND;TZID=America/Chicago:20240807T140000
DTSTAMP:20260421T001453
CREATED:20240521T070019Z
LAST-MODIFIED:20240521T070019Z
UID:20471-1723021200-1723039200@lupinelane.com
SUMMARY:Genre Camp - Elementary School 101
DESCRIPTION:
URL:https://lupinelane.com/event/genre-camp-elementary-school-101-3/
CATEGORIES:Camps
END:VEVENT
BEGIN:VEVENT
DTSTART;TZID=America/Chicago:20240807T090000
DTEND;TZID=America/Chicago:20240807T140000
DTSTAMP:20260421T001453
CREATED:20240806T070041Z
LAST-MODIFIED:20240806T070041Z
UID:21473-1723021200-1723039200@lupinelane.com
SUMMARY:Creations & Explorations: Exploring the Human Body
DESCRIPTION:
URL:https://lupinelane.com/event/creations-explorations-exploring-the-human-body-3/
CATEGORIES:Camps
END:VEVENT
BEGIN:VEVENT
DTSTART;TZID=America/Chicago:20240808T090000
DTEND;TZID=America/Chicago:20240808T140000
DTSTAMP:20260421T001453
CREATED:20240521T070021Z
LAST-MODIFIED:20240521T070021Z
UID:20472-1723107600-1723125600@lupinelane.com
SUMMARY:Genre Camp - Elementary School 101
DESCRIPTION:
URL:https://lupinelane.com/event/genre-camp-elementary-school-101-4/
CATEGORIES:Camps
END:VEVENT
BEGIN:VEVENT
DTSTART;TZID=America/Chicago:20240808T090000
DTEND;TZID=America/Chicago:20240808T140000
DTSTAMP:20260421T001453
CREATED:20240806T070042Z
LAST-MODIFIED:20240806T070042Z
UID:21474-1723107600-1723125600@lupinelane.com
SUMMARY:Creations & Explorations: Exploring the Human Body
DESCRIPTION:
URL:https://lupinelane.com/event/creations-explorations-exploring-the-human-body-4/
CATEGORIES:Camps
END:VEVENT
BEGIN:VEVENT
DTSTART;TZID=America/Chicago:20240809T090000
DTEND;TZID=America/Chicago:20240809T140000
DTSTAMP:20260421T001453
CREATED:20240521T070022Z
LAST-MODIFIED:20240521T070022Z
UID:20473-1723194000-1723212000@lupinelane.com
SUMMARY:Genre Camp - Elementary School 101
DESCRIPTION:
URL:https://lupinelane.com/event/genre-camp-elementary-school-101-5/
CATEGORIES:Camps
END:VEVENT
BEGIN:VEVENT
DTSTART;TZID=America/Chicago:20240809T090000
DTEND;TZID=America/Chicago:20240809T140000
DTSTAMP:20260421T001453
CREATED:20240806T070044Z
LAST-MODIFIED:20240806T070044Z
UID:21475-1723194000-1723212000@lupinelane.com
SUMMARY:Creations & Explorations: Exploring the Human Body
DESCRIPTION:
URL:https://lupinelane.com/event/creations-explorations-exploring-the-human-body-5/
CATEGORIES:Camps
END:VEVENT
BEGIN:VEVENT
DTSTART;TZID=America/Chicago:20240812T090000
DTEND;TZID=America/Chicago:20240812T140000
DTSTAMP:20260421T001453
CREATED:20240810T070031Z
LAST-MODIFIED:20240810T070031Z
UID:21516-1723453200-1723471200@lupinelane.com
SUMMARY:Creations & Explorations: Wonderful Water Works
DESCRIPTION:
URL:https://lupinelane.com/event/creations-explorations-wonderful-water-works/
CATEGORIES:Camps
END:VEVENT
BEGIN:VEVENT
DTSTART;TZID=America/Chicago:20240813T090000
DTEND;TZID=America/Chicago:20240813T140000
DTSTAMP:20260421T001453
CREATED:20240810T070032Z
LAST-MODIFIED:20240810T070032Z
UID:21517-1723539600-1723557600@lupinelane.com
SUMMARY:Creations & Explorations: Wonderful Water Works
DESCRIPTION:
URL:https://lupinelane.com/event/creations-explorations-wonderful-water-works-2/
CATEGORIES:Camps
END:VEVENT
BEGIN:VEVENT
DTSTART;TZID=America/Chicago:20240814T090000
DTEND;TZID=America/Chicago:20240814T140000
DTSTAMP:20260421T001453
CREATED:20240810T070033Z
LAST-MODIFIED:20240810T070033Z
UID:21518-1723626000-1723644000@lupinelane.com
SUMMARY:Creations & Explorations: Wonderful Water Works
DESCRIPTION:
URL:https://lupinelane.com/event/creations-explorations-wonderful-water-works-3/
CATEGORIES:Camps
END:VEVENT
END:VCALENDAR