BEGIN:VCALENDAR
VERSION:2.0
PRODID:-//Lupine Lane - ECPv6.15.20//NONSGML v1.0//EN
CALSCALE:GREGORIAN
METHOD:PUBLISH
X-ORIGINAL-URL:https://lupinelane.com
X-WR-CALDESC:Events for Lupine Lane
REFRESH-INTERVAL;VALUE=DURATION:PT1H
X-Robots-Tag:noindex
X-PUBLISHED-TTL:PT1H
BEGIN:VTIMEZONE
TZID:America/Chicago
BEGIN:DAYLIGHT
TZOFFSETFROM:-0600
TZOFFSETTO:-0500
TZNAME:CDT
DTSTART:20240310T080000
END:DAYLIGHT
BEGIN:STANDARD
TZOFFSETFROM:-0500
TZOFFSETTO:-0600
TZNAME:CST
DTSTART:20241103T070000
END:STANDARD
BEGIN:DAYLIGHT
TZOFFSETFROM:-0600
TZOFFSETTO:-0500
TZNAME:CDT
DTSTART:20250309T080000
END:DAYLIGHT
BEGIN:STANDARD
TZOFFSETFROM:-0500
TZOFFSETTO:-0600
TZNAME:CST
DTSTART:20251102T070000
END:STANDARD
BEGIN:DAYLIGHT
TZOFFSETFROM:-0600
TZOFFSETTO:-0500
TZNAME:CDT
DTSTART:20260308T080000
END:DAYLIGHT
BEGIN:STANDARD
TZOFFSETFROM:-0500
TZOFFSETTO:-0600
TZNAME:CST
DTSTART:20261101T070000
END:STANDARD
END:VTIMEZONE
BEGIN:VEVENT
DTSTART;TZID=America/Chicago:20250725T090000
DTEND;TZID=America/Chicago:20250725T140000
DTSTAMP:20260420T025235
CREATED:20250222T080131Z
LAST-MODIFIED:20250222T080131Z
UID:22968-1753434000-1753452000@lupinelane.com
SUMMARY:Genre Camp: Dancing Across the Globe
DESCRIPTION:
URL:https://lupinelane.com/event/genre-camp-dancing-across-the-globe-5/
CATEGORIES:Camps
END:VEVENT
BEGIN:VEVENT
DTSTART;TZID=America/Chicago:20250725T090000
DTEND;TZID=America/Chicago:20250725T140000
DTSTAMP:20260420T025235
CREATED:20250428T152922Z
LAST-MODIFIED:20250428T152922Z
UID:23447-1753434000-1753452000@lupinelane.com
SUMMARY:A Journey Through Time: Colonial to Pioneer Times - Blazing the Oregon Trail
DESCRIPTION:
URL:https://lupinelane.com/event/a-journey-through-time-colonial-to-pioneer-times-blazing-the-oregon-trail-5/
CATEGORIES:Camps
END:VEVENT
BEGIN:VEVENT
DTSTART;TZID=America/Chicago:20250725T090000
DTEND;TZID=America/Chicago:20250725T140000
DTSTAMP:20260420T025235
CREATED:20250722T070141Z
LAST-MODIFIED:20250722T070141Z
UID:25074-1753434000-1753452000@lupinelane.com
SUMMARY:A Journey Through Time: Colonial to Pioneer Times - Blazing the Oregon Trail
DESCRIPTION:
URL:https://lupinelane.com/event/a-journey-through-time-colonial-to-pioneer-times-blazing-the-oregon-trail-10/
CATEGORIES:Camps
END:VEVENT
BEGIN:VEVENT
DTSTART;TZID=America/Chicago:20250728T090000
DTEND;TZID=America/Chicago:20250728T140000
DTSTAMP:20260420T025235
CREATED:20250302T080127Z
LAST-MODIFIED:20250302T080127Z
UID:23080-1753693200-1753711200@lupinelane.com
SUMMARY:Genre Camp: The Invention Convention
DESCRIPTION:
URL:https://lupinelane.com/event/genre-camp-the-invention-convention-6/
CATEGORIES:Camps
END:VEVENT
BEGIN:VEVENT
DTSTART;TZID=America/Chicago:20250728T090000
DTEND;TZID=America/Chicago:20250728T140000
DTSTAMP:20260420T025235
CREATED:20250428T152923Z
LAST-MODIFIED:20250428T152923Z
UID:23448-1753693200-1753711200@lupinelane.com
SUMMARY:A Journey Through Time: The Industrial Revolution - Making Machines and Automobiles
DESCRIPTION:
URL:https://lupinelane.com/event/a-journey-through-time-the-industrial-revolution-making-machines-and-automobiles/
CATEGORIES:Camps
END:VEVENT
BEGIN:VEVENT
DTSTART;TZID=America/Chicago:20250728T090000
DTEND;TZID=America/Chicago:20250728T140000
DTSTAMP:20260420T025235
CREATED:20250726T070115Z
LAST-MODIFIED:20250726T070115Z
UID:25378-1753693200-1753711200@lupinelane.com
SUMMARY:A Journey Through Time: The Industrial Revolution - Making Machines and Automobiles
DESCRIPTION:
URL:https://lupinelane.com/event/a-journey-through-time-the-industrial-revolution-making-machines-and-automobiles-6/
CATEGORIES:Camps
END:VEVENT
BEGIN:VEVENT
DTSTART;TZID=America/Chicago:20250729T090000
DTEND;TZID=America/Chicago:20250729T140000
DTSTAMP:20260420T025235
CREATED:20250302T080128Z
LAST-MODIFIED:20250302T080128Z
UID:23081-1753779600-1753797600@lupinelane.com
SUMMARY:Genre Camp: The Invention Convention
DESCRIPTION:
URL:https://lupinelane.com/event/genre-camp-the-invention-convention-7/
CATEGORIES:Camps
END:VEVENT
BEGIN:VEVENT
DTSTART;TZID=America/Chicago:20250729T090000
DTEND;TZID=America/Chicago:20250729T140000
DTSTAMP:20260420T025235
CREATED:20250428T152924Z
LAST-MODIFIED:20250428T152924Z
UID:23449-1753779600-1753797600@lupinelane.com
SUMMARY:A Journey Through Time: The Industrial Revolution - Making Machines and Automobiles
DESCRIPTION:
URL:https://lupinelane.com/event/a-journey-through-time-the-industrial-revolution-making-machines-and-automobiles-2/
CATEGORIES:Camps
END:VEVENT
BEGIN:VEVENT
DTSTART;TZID=America/Chicago:20250729T090000
DTEND;TZID=America/Chicago:20250729T140000
DTSTAMP:20260420T025235
CREATED:20250726T070116Z
LAST-MODIFIED:20250726T070116Z
UID:25379-1753779600-1753797600@lupinelane.com
SUMMARY:A Journey Through Time: The Industrial Revolution - Making Machines and Automobiles
DESCRIPTION:
URL:https://lupinelane.com/event/a-journey-through-time-the-industrial-revolution-making-machines-and-automobiles-7/
CATEGORIES:Camps
END:VEVENT
BEGIN:VEVENT
DTSTART;TZID=America/Chicago:20250730T090000
DTEND;TZID=America/Chicago:20250730T140000
DTSTAMP:20260420T025235
CREATED:20250302T080130Z
LAST-MODIFIED:20250302T080130Z
UID:23082-1753866000-1753884000@lupinelane.com
SUMMARY:Genre Camp: The Invention Convention
DESCRIPTION:
URL:https://lupinelane.com/event/genre-camp-the-invention-convention-8/
CATEGORIES:Camps
END:VEVENT
BEGIN:VEVENT
DTSTART;TZID=America/Chicago:20250730T090000
DTEND;TZID=America/Chicago:20250730T140000
DTSTAMP:20260420T025235
CREATED:20250428T152926Z
LAST-MODIFIED:20250428T152926Z
UID:23450-1753866000-1753884000@lupinelane.com
SUMMARY:A Journey Through Time: The Industrial Revolution - Making Machines and Automobiles
DESCRIPTION:
URL:https://lupinelane.com/event/a-journey-through-time-the-industrial-revolution-making-machines-and-automobiles-3/
CATEGORIES:Camps
END:VEVENT
BEGIN:VEVENT
DTSTART;TZID=America/Chicago:20250730T090000
DTEND;TZID=America/Chicago:20250730T140000
DTSTAMP:20260420T025235
CREATED:20250726T070117Z
LAST-MODIFIED:20250726T070117Z
UID:25380-1753866000-1753884000@lupinelane.com
SUMMARY:A Journey Through Time: The Industrial Revolution - Making Machines and Automobiles
DESCRIPTION:
URL:https://lupinelane.com/event/a-journey-through-time-the-industrial-revolution-making-machines-and-automobiles-8/
CATEGORIES:Camps
END:VEVENT
BEGIN:VEVENT
DTSTART;TZID=America/Chicago:20250731T090000
DTEND;TZID=America/Chicago:20250731T140000
DTSTAMP:20260420T025235
CREATED:20250302T080131Z
LAST-MODIFIED:20250302T080131Z
UID:23083-1753952400-1753970400@lupinelane.com
SUMMARY:Genre Camp: The Invention Convention
DESCRIPTION:
URL:https://lupinelane.com/event/genre-camp-the-invention-convention-9/
CATEGORIES:Camps
END:VEVENT
BEGIN:VEVENT
DTSTART;TZID=America/Chicago:20250731T090000
DTEND;TZID=America/Chicago:20250731T140000
DTSTAMP:20260420T025235
CREATED:20250428T152927Z
LAST-MODIFIED:20250428T152927Z
UID:23451-1753952400-1753970400@lupinelane.com
SUMMARY:A Journey Through Time: The Industrial Revolution - Making Machines and Automobiles
DESCRIPTION:
URL:https://lupinelane.com/event/a-journey-through-time-the-industrial-revolution-making-machines-and-automobiles-4/
CATEGORIES:Camps
END:VEVENT
BEGIN:VEVENT
DTSTART;TZID=America/Chicago:20250731T090000
DTEND;TZID=America/Chicago:20250731T140000
DTSTAMP:20260420T025235
CREATED:20250726T070119Z
LAST-MODIFIED:20250726T070119Z
UID:25381-1753952400-1753970400@lupinelane.com
SUMMARY:A Journey Through Time: The Industrial Revolution - Making Machines and Automobiles
DESCRIPTION:
URL:https://lupinelane.com/event/a-journey-through-time-the-industrial-revolution-making-machines-and-automobiles-9/
CATEGORIES:Camps
END:VEVENT
BEGIN:VEVENT
DTSTART;TZID=America/Chicago:20250801T090000
DTEND;TZID=America/Chicago:20250801T140000
DTSTAMP:20260420T025235
CREATED:20250302T080133Z
LAST-MODIFIED:20250302T080133Z
UID:23084-1754038800-1754056800@lupinelane.com
SUMMARY:Genre Camp: The Invention Convention
DESCRIPTION:
URL:https://lupinelane.com/event/genre-camp-the-invention-convention-10/
CATEGORIES:Camps
END:VEVENT
BEGIN:VEVENT
DTSTART;TZID=America/Chicago:20250801T090000
DTEND;TZID=America/Chicago:20250801T140000
DTSTAMP:20260420T025235
CREATED:20250428T152928Z
LAST-MODIFIED:20250428T152928Z
UID:23452-1754038800-1754056800@lupinelane.com
SUMMARY:A Journey Through Time: The Industrial Revolution - Making Machines and Automobiles
DESCRIPTION:
URL:https://lupinelane.com/event/a-journey-through-time-the-industrial-revolution-making-machines-and-automobiles-5/
CATEGORIES:Camps
END:VEVENT
BEGIN:VEVENT
DTSTART;TZID=America/Chicago:20250801T090000
DTEND;TZID=America/Chicago:20250801T140000
DTSTAMP:20260420T025235
CREATED:20250726T070121Z
LAST-MODIFIED:20250726T070121Z
UID:25382-1754038800-1754056800@lupinelane.com
SUMMARY:A Journey Through Time: The Industrial Revolution - Making Machines and Automobiles
DESCRIPTION:
URL:https://lupinelane.com/event/a-journey-through-time-the-industrial-revolution-making-machines-and-automobiles-10/
CATEGORIES:Camps
END:VEVENT
BEGIN:VEVENT
DTSTART;TZID=America/Chicago:20250804T090000
DTEND;TZID=America/Chicago:20250804T140000
DTSTAMP:20260420T025235
CREATED:20250306T080026Z
LAST-MODIFIED:20250306T080026Z
UID:23180-1754298000-1754316000@lupinelane.com
SUMMARY:Genre Camp: Elementary 101
DESCRIPTION:
URL:https://lupinelane.com/event/genre-camp-elementary-101/
CATEGORIES:Camps
END:VEVENT
BEGIN:VEVENT
DTSTART;TZID=America/Chicago:20250804T090000
DTEND;TZID=America/Chicago:20250804T140000
DTSTAMP:20260420T025235
CREATED:20250428T152929Z
LAST-MODIFIED:20250428T152929Z
UID:23453-1754298000-1754316000@lupinelane.com
SUMMARY:A Journey Through Time: Through the Decades - Flappers to Flower Power
DESCRIPTION:
URL:https://lupinelane.com/event/a-journey-through-time-through-the-decades-flappers-to-flower-power/
CATEGORIES:Camps
END:VEVENT
BEGIN:VEVENT
DTSTART;TZID=America/Chicago:20250804T090000
DTEND;TZID=America/Chicago:20250804T140000
DTSTAMP:20260420T025235
CREATED:20250801T070136Z
LAST-MODIFIED:20250801T070136Z
UID:25662-1754298000-1754316000@lupinelane.com
SUMMARY:Genre Camp: Elementary 101
DESCRIPTION:
URL:https://lupinelane.com/event/genre-camp-elementary-101-15/
CATEGORIES:Camps
END:VEVENT
BEGIN:VEVENT
DTSTART;TZID=America/Chicago:20250804T090000
DTEND;TZID=America/Chicago:20250804T140000
DTSTAMP:20260420T025235
CREATED:20250803T070059Z
LAST-MODIFIED:20250803T070059Z
UID:25681-1754298000-1754316000@lupinelane.com
SUMMARY:A Journey Through Time: Through the Decades - Flappers to Flower Power
DESCRIPTION:
URL:https://lupinelane.com/event/a-journey-through-time-through-the-decades-flappers-to-flower-power-6/
CATEGORIES:Camps
END:VEVENT
BEGIN:VEVENT
DTSTART;TZID=America/Chicago:20250805T090000
DTEND;TZID=America/Chicago:20250805T140000
DTSTAMP:20260420T025235
CREATED:20250306T080028Z
LAST-MODIFIED:20250306T080028Z
UID:23181-1754384400-1754402400@lupinelane.com
SUMMARY:Genre Camp: Elementary 101
DESCRIPTION:
URL:https://lupinelane.com/event/genre-camp-elementary-101-2/
CATEGORIES:Camps
END:VEVENT
BEGIN:VEVENT
DTSTART;TZID=America/Chicago:20250805T090000
DTEND;TZID=America/Chicago:20250805T140000
DTSTAMP:20260420T025235
CREATED:20250428T152930Z
LAST-MODIFIED:20250428T152930Z
UID:23454-1754384400-1754402400@lupinelane.com
SUMMARY:A Journey Through Time: Through the Decades - Flappers to Flower Power
DESCRIPTION:
URL:https://lupinelane.com/event/a-journey-through-time-through-the-decades-flappers-to-flower-power-2/
CATEGORIES:Camps
END:VEVENT
BEGIN:VEVENT
DTSTART;TZID=America/Chicago:20250805T090000
DTEND;TZID=America/Chicago:20250805T140000
DTSTAMP:20260420T025235
CREATED:20250801T070137Z
LAST-MODIFIED:20250801T070137Z
UID:25663-1754384400-1754402400@lupinelane.com
SUMMARY:Genre Camp: Elementary 101
DESCRIPTION:
URL:https://lupinelane.com/event/genre-camp-elementary-101-16/
CATEGORIES:Camps
END:VEVENT
BEGIN:VEVENT
DTSTART;TZID=America/Chicago:20250805T090000
DTEND;TZID=America/Chicago:20250805T140000
DTSTAMP:20260420T025235
CREATED:20250803T070103Z
LAST-MODIFIED:20250803T070103Z
UID:25682-1754384400-1754402400@lupinelane.com
SUMMARY:A Journey Through Time: Through the Decades - Flappers to Flower Power
DESCRIPTION:
URL:https://lupinelane.com/event/a-journey-through-time-through-the-decades-flappers-to-flower-power-7/
CATEGORIES:Camps
END:VEVENT
BEGIN:VEVENT
DTSTART;TZID=America/Chicago:20250806T090000
DTEND;TZID=America/Chicago:20250806T140000
DTSTAMP:20260420T025235
CREATED:20250306T080030Z
LAST-MODIFIED:20250306T080030Z
UID:23182-1754470800-1754488800@lupinelane.com
SUMMARY:Genre Camp: Elementary 101
DESCRIPTION:
URL:https://lupinelane.com/event/genre-camp-elementary-101-3/
CATEGORIES:Camps
END:VEVENT
BEGIN:VEVENT
DTSTART;TZID=America/Chicago:20250806T090000
DTEND;TZID=America/Chicago:20250806T140000
DTSTAMP:20260420T025235
CREATED:20250428T152931Z
LAST-MODIFIED:20250428T152931Z
UID:23455-1754470800-1754488800@lupinelane.com
SUMMARY:A Journey Through Time: Through the Decades - Flappers to Flower Power
DESCRIPTION:
URL:https://lupinelane.com/event/a-journey-through-time-through-the-decades-flappers-to-flower-power-3/
CATEGORIES:Camps
END:VEVENT
BEGIN:VEVENT
DTSTART;TZID=America/Chicago:20250806T090000
DTEND;TZID=America/Chicago:20250806T140000
DTSTAMP:20260420T025235
CREATED:20250801T070138Z
LAST-MODIFIED:20250801T070138Z
UID:25664-1754470800-1754488800@lupinelane.com
SUMMARY:Genre Camp: Elementary 101
DESCRIPTION:
URL:https://lupinelane.com/event/genre-camp-elementary-101-17/
CATEGORIES:Camps
END:VEVENT
BEGIN:VEVENT
DTSTART;TZID=America/Chicago:20250806T090000
DTEND;TZID=America/Chicago:20250806T140000
DTSTAMP:20260420T025235
CREATED:20250803T070105Z
LAST-MODIFIED:20250803T070105Z
UID:25683-1754470800-1754488800@lupinelane.com
SUMMARY:A Journey Through Time: Through the Decades - Flappers to Flower Power
DESCRIPTION:
URL:https://lupinelane.com/event/a-journey-through-time-through-the-decades-flappers-to-flower-power-8/
CATEGORIES:Camps
END:VEVENT
END:VCALENDAR