BEGIN:VCALENDAR
VERSION:2.0
PRODID:-//Lupine Lane - ECPv6.15.20//NONSGML v1.0//EN
CALSCALE:GREGORIAN
METHOD:PUBLISH
X-WR-CALNAME:Lupine Lane
X-ORIGINAL-URL:https://lupinelane.com
X-WR-CALDESC:Events for Lupine Lane
REFRESH-INTERVAL;VALUE=DURATION:PT1H
X-Robots-Tag:noindex
X-PUBLISHED-TTL:PT1H
BEGIN:VTIMEZONE
TZID:America/Chicago
BEGIN:DAYLIGHT
TZOFFSETFROM:-0600
TZOFFSETTO:-0500
TZNAME:CDT
DTSTART:20240310T080000
END:DAYLIGHT
BEGIN:STANDARD
TZOFFSETFROM:-0500
TZOFFSETTO:-0600
TZNAME:CST
DTSTART:20241103T070000
END:STANDARD
BEGIN:DAYLIGHT
TZOFFSETFROM:-0600
TZOFFSETTO:-0500
TZNAME:CDT
DTSTART:20250309T080000
END:DAYLIGHT
BEGIN:STANDARD
TZOFFSETFROM:-0500
TZOFFSETTO:-0600
TZNAME:CST
DTSTART:20251102T070000
END:STANDARD
BEGIN:DAYLIGHT
TZOFFSETFROM:-0600
TZOFFSETTO:-0500
TZNAME:CDT
DTSTART:20260308T080000
END:DAYLIGHT
BEGIN:STANDARD
TZOFFSETFROM:-0500
TZOFFSETTO:-0600
TZNAME:CST
DTSTART:20261101T070000
END:STANDARD
END:VTIMEZONE
BEGIN:VEVENT
DTSTART;TZID=America/Chicago:20250610T090000
DTEND;TZID=America/Chicago:20250610T140000
DTSTAMP:20260420T220441
CREATED:20250612T070256Z
LAST-MODIFIED:20250612T070256Z
UID:24504-1749546000-1749564000@lupinelane.com
SUMMARY:A Journey Through Time: Skating Through the Ice Age
DESCRIPTION:
URL:https://lupinelane.com/event/a-journey-through-time-skating-through-the-ice-age-7/
CATEGORIES:Camps
END:VEVENT
BEGIN:VEVENT
DTSTART;TZID=America/Chicago:20250611T090000
DTEND;TZID=America/Chicago:20250611T140000
DTSTAMP:20260420T220441
CREATED:20250304T080040Z
LAST-MODIFIED:20250304T080040Z
UID:23150-1749632400-1749650400@lupinelane.com
SUMMARY:Genre Camp: The Heart of Art
DESCRIPTION:
URL:https://lupinelane.com/event/genre-camp-the-heart-of-art-8/
CATEGORIES:Camps
END:VEVENT
BEGIN:VEVENT
DTSTART;TZID=America/Chicago:20250611T090000
DTEND;TZID=America/Chicago:20250611T140000
DTSTAMP:20260420T220441
CREATED:20250428T152852Z
LAST-MODIFIED:20250428T152852Z
UID:23420-1749632400-1749650400@lupinelane.com
SUMMARY:A Journey Through Time: Skating Through the Ice Age
DESCRIPTION:
URL:https://lupinelane.com/event/a-journey-through-time-skating-through-the-ice-age-3/
CATEGORIES:Camps
END:VEVENT
BEGIN:VEVENT
DTSTART;TZID=America/Chicago:20250611T090000
DTEND;TZID=America/Chicago:20250611T140000
DTSTAMP:20260420T220441
CREATED:20250612T070257Z
LAST-MODIFIED:20250612T070257Z
UID:24505-1749632400-1749650400@lupinelane.com
SUMMARY:A Journey Through Time: Skating Through the Ice Age
DESCRIPTION:
URL:https://lupinelane.com/event/a-journey-through-time-skating-through-the-ice-age-8/
CATEGORIES:Camps
END:VEVENT
BEGIN:VEVENT
DTSTART;TZID=America/Chicago:20250612T090000
DTEND;TZID=America/Chicago:20250612T140000
DTSTAMP:20260420T220441
CREATED:20250304T080041Z
LAST-MODIFIED:20250304T080041Z
UID:23151-1749718800-1749736800@lupinelane.com
SUMMARY:Genre Camp: The Heart of Art
DESCRIPTION:
URL:https://lupinelane.com/event/genre-camp-the-heart-of-art-9/
CATEGORIES:Camps
END:VEVENT
BEGIN:VEVENT
DTSTART;TZID=America/Chicago:20250612T090000
DTEND;TZID=America/Chicago:20250612T140000
DTSTAMP:20260420T220441
CREATED:20250428T152854Z
LAST-MODIFIED:20250428T152854Z
UID:23421-1749718800-1749736800@lupinelane.com
SUMMARY:A Journey Through Time: Skating Through the Ice Age
DESCRIPTION:
URL:https://lupinelane.com/event/a-journey-through-time-skating-through-the-ice-age-4/
CATEGORIES:Camps
END:VEVENT
BEGIN:VEVENT
DTSTART;TZID=America/Chicago:20250612T090000
DTEND;TZID=America/Chicago:20250612T140000
DTSTAMP:20260420T220441
CREATED:20250612T070259Z
LAST-MODIFIED:20250612T070259Z
UID:24506-1749718800-1749736800@lupinelane.com
SUMMARY:A Journey Through Time: Skating Through the Ice Age
DESCRIPTION:
URL:https://lupinelane.com/event/a-journey-through-time-skating-through-the-ice-age-9/
CATEGORIES:Camps
END:VEVENT
BEGIN:VEVENT
DTSTART;TZID=America/Chicago:20250613T090000
DTEND;TZID=America/Chicago:20250613T140000
DTSTAMP:20260420T220441
CREATED:20250304T080042Z
LAST-MODIFIED:20250304T080042Z
UID:23152-1749805200-1749823200@lupinelane.com
SUMMARY:Genre Camp: The Heart of Art
DESCRIPTION:
URL:https://lupinelane.com/event/genre-camp-the-heart-of-art-10/
CATEGORIES:Camps
END:VEVENT
BEGIN:VEVENT
DTSTART;TZID=America/Chicago:20250613T090000
DTEND;TZID=America/Chicago:20250613T140000
DTSTAMP:20260420T220441
CREATED:20250428T152855Z
LAST-MODIFIED:20250428T152855Z
UID:23422-1749805200-1749823200@lupinelane.com
SUMMARY:A Journey Through Time: Skating Through the Ice Age
DESCRIPTION:
URL:https://lupinelane.com/event/a-journey-through-time-skating-through-the-ice-age-5/
CATEGORIES:Camps
END:VEVENT
BEGIN:VEVENT
DTSTART;TZID=America/Chicago:20250613T090000
DTEND;TZID=America/Chicago:20250613T140000
DTSTAMP:20260420T220441
CREATED:20250612T070300Z
LAST-MODIFIED:20250612T070300Z
UID:24507-1749805200-1749823200@lupinelane.com
SUMMARY:A Journey Through Time: Skating Through the Ice Age
DESCRIPTION:
URL:https://lupinelane.com/event/a-journey-through-time-skating-through-the-ice-age-10/
CATEGORIES:Camps
END:VEVENT
BEGIN:VEVENT
DTSTART;TZID=America/Chicago:20250616T090000
DTEND;TZID=America/Chicago:20250616T140000
DTSTAMP:20260420T220441
CREATED:20250222T080106Z
LAST-MODIFIED:20250222T080106Z
UID:22944-1750064400-1750082400@lupinelane.com
SUMMARY:Genre Camp: Cooking Around the World
DESCRIPTION:
URL:https://lupinelane.com/event/genre-camp-cooking-around-the-world/
CATEGORIES:Camps
END:VEVENT
BEGIN:VEVENT
DTSTART;TZID=America/Chicago:20250616T090000
DTEND;TZID=America/Chicago:20250616T140000
DTSTAMP:20260420T220441
CREATED:20250428T152856Z
LAST-MODIFIED:20250428T152856Z
UID:23423-1750064400-1750082400@lupinelane.com
SUMMARY:A Journey Through Time: Walk Like an Egyptian! - Exploring Ancient Egypt
DESCRIPTION:
URL:https://lupinelane.com/event/a-journey-through-time-walk-like-an-egyptian-exploring-ancient-egypt/
CATEGORIES:Camps
END:VEVENT
BEGIN:VEVENT
DTSTART;TZID=America/Chicago:20250616T090000
DTEND;TZID=America/Chicago:20250616T140000
DTSTAMP:20260420T220441
CREATED:20250617T070213Z
LAST-MODIFIED:20250617T070213Z
UID:24683-1750064400-1750082400@lupinelane.com
SUMMARY:A Journey Through Time: Walk Like an Egyptian! - Exploring Ancient Egypt
DESCRIPTION:
URL:https://lupinelane.com/event/a-journey-through-time-walk-like-an-egyptian-exploring-ancient-egypt-6/
CATEGORIES:Camps
END:VEVENT
BEGIN:VEVENT
DTSTART;TZID=America/Chicago:20250617T090000
DTEND;TZID=America/Chicago:20250617T140000
DTSTAMP:20260420T220441
CREATED:20250222T080107Z
LAST-MODIFIED:20250222T080107Z
UID:22945-1750150800-1750168800@lupinelane.com
SUMMARY:Genre Camp: Cooking Around the World
DESCRIPTION:
URL:https://lupinelane.com/event/genre-camp-cooking-around-the-world-2/
CATEGORIES:Camps
END:VEVENT
BEGIN:VEVENT
DTSTART;TZID=America/Chicago:20250617T090000
DTEND;TZID=America/Chicago:20250617T140000
DTSTAMP:20260420T220441
CREATED:20250428T152857Z
LAST-MODIFIED:20250428T152857Z
UID:23424-1750150800-1750168800@lupinelane.com
SUMMARY:A Journey Through Time: Walk Like an Egyptian! - Exploring Ancient Egypt
DESCRIPTION:
URL:https://lupinelane.com/event/a-journey-through-time-walk-like-an-egyptian-exploring-ancient-egypt-2/
CATEGORIES:Camps
END:VEVENT
BEGIN:VEVENT
DTSTART;TZID=America/Chicago:20250617T090000
DTEND;TZID=America/Chicago:20250617T140000
DTSTAMP:20260420T220441
CREATED:20250617T070214Z
LAST-MODIFIED:20250617T070214Z
UID:24684-1750150800-1750168800@lupinelane.com
SUMMARY:A Journey Through Time: Walk Like an Egyptian! - Exploring Ancient Egypt
DESCRIPTION:
URL:https://lupinelane.com/event/a-journey-through-time-walk-like-an-egyptian-exploring-ancient-egypt-7/
CATEGORIES:Camps
END:VEVENT
BEGIN:VEVENT
DTSTART;TZID=America/Chicago:20250618T090000
DTEND;TZID=America/Chicago:20250618T140000
DTSTAMP:20260420T220441
CREATED:20250222T080108Z
LAST-MODIFIED:20250222T080108Z
UID:22946-1750237200-1750255200@lupinelane.com
SUMMARY:Genre Camp: Cooking Around the World
DESCRIPTION:
URL:https://lupinelane.com/event/genre-camp-cooking-around-the-world-3/
CATEGORIES:Camps
END:VEVENT
BEGIN:VEVENT
DTSTART;TZID=America/Chicago:20250618T090000
DTEND;TZID=America/Chicago:20250618T140000
DTSTAMP:20260420T220441
CREATED:20250428T152858Z
LAST-MODIFIED:20250428T152858Z
UID:23425-1750237200-1750255200@lupinelane.com
SUMMARY:A Journey Through Time: Walk Like an Egyptian! - Exploring Ancient Egypt
DESCRIPTION:
URL:https://lupinelane.com/event/a-journey-through-time-walk-like-an-egyptian-exploring-ancient-egypt-3/
CATEGORIES:Camps
END:VEVENT
BEGIN:VEVENT
DTSTART;TZID=America/Chicago:20250618T090000
DTEND;TZID=America/Chicago:20250618T140000
DTSTAMP:20260420T220441
CREATED:20250617T070216Z
LAST-MODIFIED:20250617T070216Z
UID:24685-1750237200-1750255200@lupinelane.com
SUMMARY:A Journey Through Time: Walk Like an Egyptian! - Exploring Ancient Egypt
DESCRIPTION:
URL:https://lupinelane.com/event/a-journey-through-time-walk-like-an-egyptian-exploring-ancient-egypt-8/
CATEGORIES:Camps
END:VEVENT
BEGIN:VEVENT
DTSTART;TZID=America/Chicago:20250619T090000
DTEND;TZID=America/Chicago:20250619T140000
DTSTAMP:20260420T220441
CREATED:20250222T080109Z
LAST-MODIFIED:20250222T080109Z
UID:22947-1750323600-1750341600@lupinelane.com
SUMMARY:Genre Camp: Cooking Around the World
DESCRIPTION:
URL:https://lupinelane.com/event/genre-camp-cooking-around-the-world-4/
CATEGORIES:Camps
END:VEVENT
BEGIN:VEVENT
DTSTART;TZID=America/Chicago:20250619T090000
DTEND;TZID=America/Chicago:20250619T140000
DTSTAMP:20260420T220441
CREATED:20250428T152859Z
LAST-MODIFIED:20250428T152859Z
UID:23426-1750323600-1750341600@lupinelane.com
SUMMARY:A Journey Through Time: Walk Like an Egyptian! - Exploring Ancient Egypt
DESCRIPTION:
URL:https://lupinelane.com/event/a-journey-through-time-walk-like-an-egyptian-exploring-ancient-egypt-4/
CATEGORIES:Camps
END:VEVENT
BEGIN:VEVENT
DTSTART;TZID=America/Chicago:20250619T090000
DTEND;TZID=America/Chicago:20250619T140000
DTSTAMP:20260420T220441
CREATED:20250617T070217Z
LAST-MODIFIED:20250617T070217Z
UID:24686-1750323600-1750341600@lupinelane.com
SUMMARY:A Journey Through Time: Walk Like an Egyptian! - Exploring Ancient Egypt
DESCRIPTION:
URL:https://lupinelane.com/event/a-journey-through-time-walk-like-an-egyptian-exploring-ancient-egypt-9/
CATEGORIES:Camps
END:VEVENT
BEGIN:VEVENT
DTSTART;TZID=America/Chicago:20250620T090000
DTEND;TZID=America/Chicago:20250620T140000
DTSTAMP:20260420T220441
CREATED:20250222T080111Z
LAST-MODIFIED:20250222T080111Z
UID:22948-1750410000-1750428000@lupinelane.com
SUMMARY:Genre Camp: Cooking Around the World
DESCRIPTION:
URL:https://lupinelane.com/event/genre-camp-cooking-around-the-world-5/
CATEGORIES:Camps
END:VEVENT
BEGIN:VEVENT
DTSTART;TZID=America/Chicago:20250620T090000
DTEND;TZID=America/Chicago:20250620T140000
DTSTAMP:20260420T220441
CREATED:20250428T152901Z
LAST-MODIFIED:20250428T152901Z
UID:23427-1750410000-1750428000@lupinelane.com
SUMMARY:A Journey Through Time: Walk Like an Egyptian! - Exploring Ancient Egypt
DESCRIPTION:
URL:https://lupinelane.com/event/a-journey-through-time-walk-like-an-egyptian-exploring-ancient-egypt-5/
CATEGORIES:Camps
END:VEVENT
BEGIN:VEVENT
DTSTART;TZID=America/Chicago:20250620T090000
DTEND;TZID=America/Chicago:20250620T140000
DTSTAMP:20260420T220441
CREATED:20250617T070218Z
LAST-MODIFIED:20250617T070218Z
UID:24687-1750410000-1750428000@lupinelane.com
SUMMARY:A Journey Through Time: Walk Like an Egyptian! - Exploring Ancient Egypt
DESCRIPTION:
URL:https://lupinelane.com/event/a-journey-through-time-walk-like-an-egyptian-exploring-ancient-egypt-10/
CATEGORIES:Camps
END:VEVENT
BEGIN:VEVENT
DTSTART;TZID=America/Chicago:20250623T090000
DTEND;TZID=America/Chicago:20250623T140000
DTSTAMP:20260420T220441
CREATED:20250222T080111Z
LAST-MODIFIED:20250222T080111Z
UID:22949-1750669200-1750687200@lupinelane.com
SUMMARY:Genre Camp: Baking Around the World
DESCRIPTION:
URL:https://lupinelane.com/event/genre-camp-baking-around-the-world/
CATEGORIES:Camps
END:VEVENT
BEGIN:VEVENT
DTSTART;TZID=America/Chicago:20250623T090000
DTEND;TZID=America/Chicago:20250623T140000
DTSTAMP:20260420T220441
CREATED:20250428T152902Z
LAST-MODIFIED:20250428T152902Z
UID:23428-1750669200-1750687200@lupinelane.com
SUMMARY:A Journey Through Time: Ancient Greece and Rome - The Gods\, Goddesses and Olympics
DESCRIPTION:
URL:https://lupinelane.com/event/a-journey-through-time-ancient-greece-and-rome-the-gods-goddesses-and-olympics/
CATEGORIES:Camps
END:VEVENT
BEGIN:VEVENT
DTSTART;TZID=America/Chicago:20250623T090000
DTEND;TZID=America/Chicago:20250623T140000
DTSTAMP:20260420T220441
CREATED:20250621T070119Z
LAST-MODIFIED:20250621T070119Z
UID:24798-1750669200-1750687200@lupinelane.com
SUMMARY:A Journey Through Time: Ancient Greece and Rome - The Gods\, Goddesses and Olympics
DESCRIPTION:
URL:https://lupinelane.com/event/a-journey-through-time-ancient-greece-and-rome-the-gods-goddesses-and-olympics-6/
CATEGORIES:Camps
END:VEVENT
BEGIN:VEVENT
DTSTART;TZID=America/Chicago:20250624T090000
DTEND;TZID=America/Chicago:20250624T140000
DTSTAMP:20260420T220441
CREATED:20250222T080112Z
LAST-MODIFIED:20250222T080112Z
UID:22950-1750755600-1750773600@lupinelane.com
SUMMARY:Genre Camp: Baking Around the World
DESCRIPTION:
URL:https://lupinelane.com/event/genre-camp-baking-around-the-world-2/
CATEGORIES:Camps
END:VEVENT
BEGIN:VEVENT
DTSTART;TZID=America/Chicago:20250624T090000
DTEND;TZID=America/Chicago:20250624T140000
DTSTAMP:20260420T220441
CREATED:20250428T152903Z
LAST-MODIFIED:20250428T152903Z
UID:23429-1750755600-1750773600@lupinelane.com
SUMMARY:A Journey Through Time: Ancient Greece and Rome - The Gods\, Goddesses and Olympics
DESCRIPTION:
URL:https://lupinelane.com/event/a-journey-through-time-ancient-greece-and-rome-the-gods-goddesses-and-olympics-2/
CATEGORIES:Camps
END:VEVENT
END:VCALENDAR