BEGIN:VCALENDAR
VERSION:2.0
PRODID:-//Lupine Lane - ECPv6.15.20//NONSGML v1.0//EN
CALSCALE:GREGORIAN
METHOD:PUBLISH
X-WR-CALNAME:Lupine Lane
X-ORIGINAL-URL:https://lupinelane.com
X-WR-CALDESC:Events for Lupine Lane
REFRESH-INTERVAL;VALUE=DURATION:PT1H
X-Robots-Tag:noindex
X-PUBLISHED-TTL:PT1H
BEGIN:VTIMEZONE
TZID:America/Chicago
BEGIN:DAYLIGHT
TZOFFSETFROM:-0600
TZOFFSETTO:-0500
TZNAME:CDT
DTSTART:20250309T080000
END:DAYLIGHT
BEGIN:STANDARD
TZOFFSETFROM:-0500
TZOFFSETTO:-0600
TZNAME:CST
DTSTART:20251102T070000
END:STANDARD
BEGIN:DAYLIGHT
TZOFFSETFROM:-0600
TZOFFSETTO:-0500
TZNAME:CDT
DTSTART:20260308T080000
END:DAYLIGHT
BEGIN:STANDARD
TZOFFSETFROM:-0500
TZOFFSETTO:-0600
TZNAME:CST
DTSTART:20261101T070000
END:STANDARD
BEGIN:DAYLIGHT
TZOFFSETFROM:-0600
TZOFFSETTO:-0500
TZNAME:CDT
DTSTART:20270314T080000
END:DAYLIGHT
BEGIN:STANDARD
TZOFFSETFROM:-0500
TZOFFSETTO:-0600
TZNAME:CST
DTSTART:20271107T070000
END:STANDARD
END:VTIMEZONE
BEGIN:VEVENT
DTSTART;TZID=America/Chicago:20260813T090000
DTEND;TZID=America/Chicago:20260813T140000
DTSTAMP:20260419T185421
CREATED:20260131T080403Z
LAST-MODIFIED:20260131T080403Z
UID:26755-1786611600-1786629600@lupinelane.com
SUMMARY:Elemental Explorations: Great Ball of Fire! Fun in the Summer Sun
DESCRIPTION:
URL:https://lupinelane.com/event/elemental-explorations-great-ball-of-fire-fun-in-the-summer-sun-4/
CATEGORIES:Camps
END:VEVENT
BEGIN:VEVENT
DTSTART;TZID=America/Chicago:20260814T090000
DTEND;TZID=America/Chicago:20260814T140000
DTSTAMP:20260419T185421
CREATED:20260131T080405Z
LAST-MODIFIED:20260131T080405Z
UID:26756-1786698000-1786716000@lupinelane.com
SUMMARY:Elemental Explorations: Great Ball of Fire! Fun in the Summer Sun
DESCRIPTION:
URL:https://lupinelane.com/event/elemental-explorations-great-ball-of-fire-fun-in-the-summer-sun-5/
CATEGORIES:Camps
END:VEVENT
BEGIN:VEVENT
DTSTART;TZID=America/Chicago:20260817T090000
DTEND;TZID=America/Chicago:20260817T140000
DTSTAMP:20260419T185421
CREATED:20260126T081031Z
LAST-MODIFIED:20260126T081031Z
UID:26620-1786957200-1786975200@lupinelane.com
SUMMARY:Sport Camp: August Staff Development Week
DESCRIPTION:
URL:https://lupinelane.com/event/sport-camp-august-staff-development-week-6/
CATEGORIES:Camps
END:VEVENT
BEGIN:VEVENT
DTSTART;TZID=America/Chicago:20260818T090000
DTEND;TZID=America/Chicago:20260818T140000
DTSTAMP:20260419T185421
CREATED:20260126T081033Z
LAST-MODIFIED:20260126T081033Z
UID:26621-1787043600-1787061600@lupinelane.com
SUMMARY:Sport Camp: August Staff Development Week
DESCRIPTION:
URL:https://lupinelane.com/event/sport-camp-august-staff-development-week-7/
CATEGORIES:Camps
END:VEVENT
BEGIN:VEVENT
DTSTART;TZID=America/Chicago:20260819T090000
DTEND;TZID=America/Chicago:20260819T140000
DTSTAMP:20260419T185421
CREATED:20260126T081034Z
LAST-MODIFIED:20260126T081034Z
UID:26622-1787130000-1787148000@lupinelane.com
SUMMARY:Sport Camp: August Staff Development Week
DESCRIPTION:
URL:https://lupinelane.com/event/sport-camp-august-staff-development-week-8/
CATEGORIES:Camps
END:VEVENT
BEGIN:VEVENT
DTSTART;TZID=America/Chicago:20260820T090000
DTEND;TZID=America/Chicago:20260820T140000
DTSTAMP:20260419T185421
CREATED:20260126T081036Z
LAST-MODIFIED:20260126T081036Z
UID:26623-1787216400-1787234400@lupinelane.com
SUMMARY:Sport Camp: August Staff Development Week
DESCRIPTION:
URL:https://lupinelane.com/event/sport-camp-august-staff-development-week-9/
CATEGORIES:Camps
END:VEVENT
BEGIN:VEVENT
DTSTART;TZID=America/Chicago:20260821T090000
DTEND;TZID=America/Chicago:20260821T140000
DTSTAMP:20260419T185421
CREATED:20260126T081037Z
LAST-MODIFIED:20260126T081037Z
UID:26624-1787302800-1787320800@lupinelane.com
SUMMARY:Sport Camp: August Staff Development Week
DESCRIPTION:
URL:https://lupinelane.com/event/sport-camp-august-staff-development-week-10/
CATEGORIES:Camps
END:VEVENT
END:VCALENDAR