BEGIN:VCALENDAR
VERSION:2.0
PRODID:-//Lupine Lane - ECPv6.15.20//NONSGML v1.0//EN
CALSCALE:GREGORIAN
METHOD:PUBLISH
X-ORIGINAL-URL:https://lupinelane.com
X-WR-CALDESC:Events for Lupine Lane
REFRESH-INTERVAL;VALUE=DURATION:PT1H
X-Robots-Tag:noindex
X-PUBLISHED-TTL:PT1H
BEGIN:VTIMEZONE
TZID:America/Chicago
BEGIN:DAYLIGHT
TZOFFSETFROM:-0600
TZOFFSETTO:-0500
TZNAME:CDT
DTSTART:20250309T080000
END:DAYLIGHT
BEGIN:STANDARD
TZOFFSETFROM:-0500
TZOFFSETTO:-0600
TZNAME:CST
DTSTART:20251102T070000
END:STANDARD
BEGIN:DAYLIGHT
TZOFFSETFROM:-0600
TZOFFSETTO:-0500
TZNAME:CDT
DTSTART:20260308T080000
END:DAYLIGHT
BEGIN:STANDARD
TZOFFSETFROM:-0500
TZOFFSETTO:-0600
TZNAME:CST
DTSTART:20261101T070000
END:STANDARD
BEGIN:DAYLIGHT
TZOFFSETFROM:-0600
TZOFFSETTO:-0500
TZNAME:CDT
DTSTART:20270314T080000
END:DAYLIGHT
BEGIN:STANDARD
TZOFFSETFROM:-0500
TZOFFSETTO:-0600
TZNAME:CST
DTSTART:20271107T070000
END:STANDARD
END:VTIMEZONE
BEGIN:VEVENT
DTSTART;TZID=America/Chicago:20260615T090000
DTEND;TZID=America/Chicago:20260615T140000
DTSTAMP:20260419T202420
CREATED:20260131T080353Z
LAST-MODIFIED:20260131T080353Z
UID:26747-1781514000-1781532000@lupinelane.com
SUMMARY:Elemental Explorations: Going Green - Recycle\, Reduce\, Reuse!
DESCRIPTION:
URL:https://lupinelane.com/event/elemental-explorations-going-green-recycle-reduce-reuse/
CATEGORIES:Camps
END:VEVENT
BEGIN:VEVENT
DTSTART;TZID=America/Chicago:20260615T090000
DTEND;TZID=America/Chicago:20260615T140000
DTSTAMP:20260419T202420
CREATED:20260220T080546Z
LAST-MODIFIED:20260220T080546Z
UID:27353-1781514000-1781532000@lupinelane.com
SUMMARY:Genre Camp: Cooking Around the World
DESCRIPTION:
URL:https://lupinelane.com/event/genre-camp-cooking-around-the-world-6/
CATEGORIES:Camps
END:VEVENT
BEGIN:VEVENT
DTSTART;TZID=America/Chicago:20260616T090000
DTEND;TZID=America/Chicago:20260616T140000
DTSTAMP:20260419T202420
CREATED:20260131T080354Z
LAST-MODIFIED:20260131T080354Z
UID:26748-1781600400-1781618400@lupinelane.com
SUMMARY:Elemental Explorations: Going Green - Recycle\, Reduce\, Reuse!
DESCRIPTION:
URL:https://lupinelane.com/event/elemental-explorations-going-green-recycle-reduce-reuse-2/
CATEGORIES:Camps
END:VEVENT
BEGIN:VEVENT
DTSTART;TZID=America/Chicago:20260616T090000
DTEND;TZID=America/Chicago:20260616T140000
DTSTAMP:20260419T202420
CREATED:20260220T080547Z
LAST-MODIFIED:20260220T080547Z
UID:27354-1781600400-1781618400@lupinelane.com
SUMMARY:Genre Camp: Cooking Around the World
DESCRIPTION:
URL:https://lupinelane.com/event/genre-camp-cooking-around-the-world-7/
CATEGORIES:Camps
END:VEVENT
BEGIN:VEVENT
DTSTART;TZID=America/Chicago:20260617T090000
DTEND;TZID=America/Chicago:20260617T140000
DTSTAMP:20260419T202420
CREATED:20260131T080355Z
LAST-MODIFIED:20260131T080355Z
UID:26749-1781686800-1781704800@lupinelane.com
SUMMARY:Elemental Explorations: Going Green - Recycle\, Reduce\, Reuse!
DESCRIPTION:
URL:https://lupinelane.com/event/elemental-explorations-going-green-recycle-reduce-reuse-3/
CATEGORIES:Camps
END:VEVENT
BEGIN:VEVENT
DTSTART;TZID=America/Chicago:20260617T090000
DTEND;TZID=America/Chicago:20260617T140000
DTSTAMP:20260419T202420
CREATED:20260220T080548Z
LAST-MODIFIED:20260220T080548Z
UID:27355-1781686800-1781704800@lupinelane.com
SUMMARY:Genre Camp: Cooking Around the World
DESCRIPTION:
URL:https://lupinelane.com/event/genre-camp-cooking-around-the-world-8/
CATEGORIES:Camps
END:VEVENT
BEGIN:VEVENT
DTSTART;TZID=America/Chicago:20260618T090000
DTEND;TZID=America/Chicago:20260618T140000
DTSTAMP:20260419T202420
CREATED:20260131T080357Z
LAST-MODIFIED:20260131T080357Z
UID:26750-1781773200-1781791200@lupinelane.com
SUMMARY:Elemental Explorations: Going Green - Recycle\, Reduce\, Reuse!
DESCRIPTION:
URL:https://lupinelane.com/event/elemental-explorations-going-green-recycle-reduce-reuse-4/
CATEGORIES:Camps
END:VEVENT
BEGIN:VEVENT
DTSTART;TZID=America/Chicago:20260618T090000
DTEND;TZID=America/Chicago:20260618T140000
DTSTAMP:20260419T202420
CREATED:20260220T080549Z
LAST-MODIFIED:20260220T080549Z
UID:27356-1781773200-1781791200@lupinelane.com
SUMMARY:Genre Camp: Cooking Around the World
DESCRIPTION:
URL:https://lupinelane.com/event/genre-camp-cooking-around-the-world-9/
CATEGORIES:Camps
END:VEVENT
BEGIN:VEVENT
DTSTART;TZID=America/Chicago:20260619T090000
DTEND;TZID=America/Chicago:20260619T140000
DTSTAMP:20260419T202420
CREATED:20260131T080358Z
LAST-MODIFIED:20260131T080358Z
UID:26751-1781859600-1781877600@lupinelane.com
SUMMARY:Elemental Explorations: Going Green - Recycle\, Reduce\, Reuse!
DESCRIPTION:
URL:https://lupinelane.com/event/elemental-explorations-going-green-recycle-reduce-reuse-5/
CATEGORIES:Camps
END:VEVENT
BEGIN:VEVENT
DTSTART;TZID=America/Chicago:20260619T090000
DTEND;TZID=America/Chicago:20260619T140000
DTSTAMP:20260419T202420
CREATED:20260220T080550Z
LAST-MODIFIED:20260220T080550Z
UID:27357-1781859600-1781877600@lupinelane.com
SUMMARY:Genre Camp: Cooking Around the World
DESCRIPTION:
URL:https://lupinelane.com/event/genre-camp-cooking-around-the-world-10/
CATEGORIES:Camps
END:VEVENT
BEGIN:VEVENT
DTSTART;TZID=America/Chicago:20260622T090000
DTEND;TZID=America/Chicago:20260622T140000
DTSTAMP:20260419T202420
CREATED:20260131T080419Z
LAST-MODIFIED:20260131T080419Z
UID:26767-1782118800-1782136800@lupinelane.com
SUMMARY:Elemental Explorations: Where is Air in Your Body?
DESCRIPTION:
URL:https://lupinelane.com/event/elemental-explorations-where-is-air-in-your-body/
CATEGORIES:Camps
END:VEVENT
BEGIN:VEVENT
DTSTART;TZID=America/Chicago:20260622T090000
DTEND;TZID=America/Chicago:20260622T140000
DTSTAMP:20260419T202420
CREATED:20260220T080540Z
LAST-MODIFIED:20260220T080540Z
UID:27348-1782118800-1782136800@lupinelane.com
SUMMARY:Genre Camp: Baking Around the World
DESCRIPTION:
URL:https://lupinelane.com/event/genre-camp-baking-around-the-world-6/
CATEGORIES:Camps
END:VEVENT
BEGIN:VEVENT
DTSTART;TZID=America/Chicago:20260623T090000
DTEND;TZID=America/Chicago:20260623T140000
DTSTAMP:20260419T202420
CREATED:20260131T080420Z
LAST-MODIFIED:20260131T080420Z
UID:26768-1782205200-1782223200@lupinelane.com
SUMMARY:Elemental Explorations: Where is Air in Your Body?
DESCRIPTION:
URL:https://lupinelane.com/event/elemental-explorations-where-is-air-in-your-body-2/
CATEGORIES:Camps
END:VEVENT
BEGIN:VEVENT
DTSTART;TZID=America/Chicago:20260623T090000
DTEND;TZID=America/Chicago:20260623T140000
DTSTAMP:20260419T202420
CREATED:20260220T080541Z
LAST-MODIFIED:20260220T080541Z
UID:27349-1782205200-1782223200@lupinelane.com
SUMMARY:Genre Camp: Baking Around the World
DESCRIPTION:
URL:https://lupinelane.com/event/genre-camp-baking-around-the-world-7/
CATEGORIES:Camps
END:VEVENT
BEGIN:VEVENT
DTSTART;TZID=America/Chicago:20260624T090000
DTEND;TZID=America/Chicago:20260624T140000
DTSTAMP:20260419T202420
CREATED:20260131T080422Z
LAST-MODIFIED:20260131T080422Z
UID:26769-1782291600-1782309600@lupinelane.com
SUMMARY:Elemental Explorations: Where is Air in Your Body?
DESCRIPTION:
URL:https://lupinelane.com/event/elemental-explorations-where-is-air-in-your-body-3/
CATEGORIES:Camps
END:VEVENT
BEGIN:VEVENT
DTSTART;TZID=America/Chicago:20260624T090000
DTEND;TZID=America/Chicago:20260624T140000
DTSTAMP:20260419T202420
CREATED:20260220T080542Z
LAST-MODIFIED:20260220T080542Z
UID:27350-1782291600-1782309600@lupinelane.com
SUMMARY:Genre Camp: Baking Around the World
DESCRIPTION:
URL:https://lupinelane.com/event/genre-camp-baking-around-the-world-8/
CATEGORIES:Camps
END:VEVENT
BEGIN:VEVENT
DTSTART;TZID=America/Chicago:20260625T090000
DTEND;TZID=America/Chicago:20260625T140000
DTSTAMP:20260419T202420
CREATED:20260131T080423Z
LAST-MODIFIED:20260131T080423Z
UID:26770-1782378000-1782396000@lupinelane.com
SUMMARY:Elemental Explorations: Where is Air in Your Body?
DESCRIPTION:
URL:https://lupinelane.com/event/elemental-explorations-where-is-air-in-your-body-4/
CATEGORIES:Camps
END:VEVENT
BEGIN:VEVENT
DTSTART;TZID=America/Chicago:20260625T090000
DTEND;TZID=America/Chicago:20260625T140000
DTSTAMP:20260419T202420
CREATED:20260220T080543Z
LAST-MODIFIED:20260220T080543Z
UID:27351-1782378000-1782396000@lupinelane.com
SUMMARY:Genre Camp: Baking Around the World
DESCRIPTION:
URL:https://lupinelane.com/event/genre-camp-baking-around-the-world-9/
CATEGORIES:Camps
END:VEVENT
BEGIN:VEVENT
DTSTART;TZID=America/Chicago:20260626T090000
DTEND;TZID=America/Chicago:20260626T140000
DTSTAMP:20260419T202420
CREATED:20260131T080425Z
LAST-MODIFIED:20260131T080425Z
UID:26771-1782464400-1782482400@lupinelane.com
SUMMARY:Elemental Explorations: Where is Air in Your Body?
DESCRIPTION:
URL:https://lupinelane.com/event/elemental-explorations-where-is-air-in-your-body-5/
CATEGORIES:Camps
END:VEVENT
BEGIN:VEVENT
DTSTART;TZID=America/Chicago:20260626T090000
DTEND;TZID=America/Chicago:20260626T140000
DTSTAMP:20260419T202420
CREATED:20260220T080544Z
LAST-MODIFIED:20260220T080544Z
UID:27352-1782464400-1782482400@lupinelane.com
SUMMARY:Genre Camp: Baking Around the World
DESCRIPTION:
URL:https://lupinelane.com/event/genre-camp-baking-around-the-world-10/
CATEGORIES:Camps
END:VEVENT
BEGIN:VEVENT
DTSTART;TZID=America/Chicago:20260706T090000
DTEND;TZID=America/Chicago:20260706T140000
DTSTAMP:20260419T202420
CREATED:20260220T080534Z
LAST-MODIFIED:20260220T080534Z
UID:27343-1783328400-1783346400@lupinelane.com
SUMMARY:Genre Camp: Fizzle\, Bubble\, Pop! - The Science Lab
DESCRIPTION:
URL:https://lupinelane.com/event/genre-camp-fizzle-bubble-pop-the-science-lab/
CATEGORIES:Camps
END:VEVENT
BEGIN:VEVENT
DTSTART;TZID=America/Chicago:20260706T090000
DTEND;TZID=America/Chicago:20260706T140000
DTSTAMP:20260419T202420
CREATED:20260410T070253Z
LAST-MODIFIED:20260410T070253Z
UID:27430-1783328400-1783346400@lupinelane.com
SUMMARY:Elemental Explorations: Flying High - Planes\, Kites\, Bubbles\, Balloons!
DESCRIPTION:
URL:https://lupinelane.com/event/elemental-explorations-flying-high-planes-kites-bubbles-balloons/
CATEGORIES:Camps
END:VEVENT
BEGIN:VEVENT
DTSTART;TZID=America/Chicago:20260706T090000
DTEND;TZID=America/Chicago:20260706T140000
DTSTAMP:20260419T202420
CREATED:20260417T070314Z
LAST-MODIFIED:20260417T070314Z
UID:27468-1783328400-1783346400@lupinelane.com
SUMMARY:Genre Camp: The Great Bake Off
DESCRIPTION:
URL:https://lupinelane.com/event/genre-camp-the-great-bake-off/
CATEGORIES:Camps
END:VEVENT
BEGIN:VEVENT
DTSTART;TZID=America/Chicago:20260707T090000
DTEND;TZID=America/Chicago:20260707T140000
DTSTAMP:20260419T202420
CREATED:20260220T080535Z
LAST-MODIFIED:20260220T080535Z
UID:27344-1783414800-1783432800@lupinelane.com
SUMMARY:Genre Camp: Fizzle\, Bubble\, Pop! - The Science Lab
DESCRIPTION:
URL:https://lupinelane.com/event/genre-camp-fizzle-bubble-pop-the-science-lab-2/
CATEGORIES:Camps
END:VEVENT
BEGIN:VEVENT
DTSTART;TZID=America/Chicago:20260707T090000
DTEND;TZID=America/Chicago:20260707T140000
DTSTAMP:20260419T202420
CREATED:20260410T070255Z
LAST-MODIFIED:20260410T070255Z
UID:27431-1783414800-1783432800@lupinelane.com
SUMMARY:Elemental Explorations: Flying High - Planes\, Kites\, Bubbles\, Balloons!
DESCRIPTION:
URL:https://lupinelane.com/event/elemental-explorations-flying-high-planes-kites-bubbles-balloons-2/
CATEGORIES:Camps
END:VEVENT
BEGIN:VEVENT
DTSTART;TZID=America/Chicago:20260707T090000
DTEND;TZID=America/Chicago:20260707T140000
DTSTAMP:20260419T202420
CREATED:20260417T070315Z
LAST-MODIFIED:20260417T070315Z
UID:27469-1783414800-1783432800@lupinelane.com
SUMMARY:Genre Camp: The Great Bake Off
DESCRIPTION:
URL:https://lupinelane.com/event/genre-camp-the-great-bake-off-2/
CATEGORIES:Camps
END:VEVENT
BEGIN:VEVENT
DTSTART;TZID=America/Chicago:20260708T090000
DTEND;TZID=America/Chicago:20260708T140000
DTSTAMP:20260419T202420
CREATED:20260220T080536Z
LAST-MODIFIED:20260220T080536Z
UID:27345-1783501200-1783519200@lupinelane.com
SUMMARY:Genre Camp: Fizzle\, Bubble\, Pop! - The Science Lab
DESCRIPTION:
URL:https://lupinelane.com/event/genre-camp-fizzle-bubble-pop-the-science-lab-3/
CATEGORIES:Camps
END:VEVENT
BEGIN:VEVENT
DTSTART;TZID=America/Chicago:20260708T090000
DTEND;TZID=America/Chicago:20260708T140000
DTSTAMP:20260419T202420
CREATED:20260410T070256Z
LAST-MODIFIED:20260410T070256Z
UID:27432-1783501200-1783519200@lupinelane.com
SUMMARY:Elemental Explorations: Flying High - Planes\, Kites\, Bubbles\, Balloons!
DESCRIPTION:
URL:https://lupinelane.com/event/elemental-explorations-flying-high-planes-kites-bubbles-balloons-3/
CATEGORIES:Camps
END:VEVENT
BEGIN:VEVENT
DTSTART;TZID=America/Chicago:20260708T090000
DTEND;TZID=America/Chicago:20260708T140000
DTSTAMP:20260419T202420
CREATED:20260417T070317Z
LAST-MODIFIED:20260417T070317Z
UID:27470-1783501200-1783519200@lupinelane.com
SUMMARY:Genre Camp: The Great Bake Off
DESCRIPTION:
URL:https://lupinelane.com/event/genre-camp-the-great-bake-off-3/
CATEGORIES:Camps
END:VEVENT
BEGIN:VEVENT
DTSTART;TZID=America/Chicago:20260709T090000
DTEND;TZID=America/Chicago:20260709T140000
DTSTAMP:20260419T202420
CREATED:20260220T080537Z
LAST-MODIFIED:20260220T080537Z
UID:27346-1783587600-1783605600@lupinelane.com
SUMMARY:Genre Camp: Fizzle\, Bubble\, Pop! - The Science Lab
DESCRIPTION:
URL:https://lupinelane.com/event/genre-camp-fizzle-bubble-pop-the-science-lab-4/
CATEGORIES:Camps
END:VEVENT
END:VCALENDAR