BEGIN:VCALENDAR
VERSION:2.0
PRODID:-//Lupine Lane - ECPv6.15.20//NONSGML v1.0//EN
CALSCALE:GREGORIAN
METHOD:PUBLISH
X-ORIGINAL-URL:https://lupinelane.com
X-WR-CALDESC:Events for Lupine Lane
REFRESH-INTERVAL;VALUE=DURATION:PT1H
X-Robots-Tag:noindex
X-PUBLISHED-TTL:PT1H
BEGIN:VTIMEZONE
TZID:America/Chicago
BEGIN:DAYLIGHT
TZOFFSETFROM:-0600
TZOFFSETTO:-0500
TZNAME:CDT
DTSTART:20240310T080000
END:DAYLIGHT
BEGIN:STANDARD
TZOFFSETFROM:-0500
TZOFFSETTO:-0600
TZNAME:CST
DTSTART:20241103T070000
END:STANDARD
BEGIN:DAYLIGHT
TZOFFSETFROM:-0600
TZOFFSETTO:-0500
TZNAME:CDT
DTSTART:20250309T080000
END:DAYLIGHT
BEGIN:STANDARD
TZOFFSETFROM:-0500
TZOFFSETTO:-0600
TZNAME:CST
DTSTART:20251102T070000
END:STANDARD
BEGIN:DAYLIGHT
TZOFFSETFROM:-0600
TZOFFSETTO:-0500
TZNAME:CDT
DTSTART:20260308T080000
END:DAYLIGHT
BEGIN:STANDARD
TZOFFSETFROM:-0500
TZOFFSETTO:-0600
TZNAME:CST
DTSTART:20261101T070000
END:STANDARD
END:VTIMEZONE
BEGIN:VEVENT
DTSTART;TZID=America/Chicago:20250730T090000
DTEND;TZID=America/Chicago:20250730T140000
DTSTAMP:20260419T164845
CREATED:20250302T080130Z
LAST-MODIFIED:20250302T080130Z
UID:23082-1753866000-1753884000@lupinelane.com
SUMMARY:Genre Camp: The Invention Convention
DESCRIPTION:
URL:https://lupinelane.com/event/genre-camp-the-invention-convention-8/
CATEGORIES:Camps
END:VEVENT
BEGIN:VEVENT
DTSTART;TZID=America/Chicago:20250729T090000
DTEND;TZID=America/Chicago:20250729T140000
DTSTAMP:20260419T164845
CREATED:20250726T070116Z
LAST-MODIFIED:20250726T070116Z
UID:25379-1753779600-1753797600@lupinelane.com
SUMMARY:A Journey Through Time: The Industrial Revolution - Making Machines and Automobiles
DESCRIPTION:
URL:https://lupinelane.com/event/a-journey-through-time-the-industrial-revolution-making-machines-and-automobiles-7/
CATEGORIES:Camps
END:VEVENT
BEGIN:VEVENT
DTSTART;TZID=America/Chicago:20250729T090000
DTEND;TZID=America/Chicago:20250729T140000
DTSTAMP:20260419T164845
CREATED:20250428T152924Z
LAST-MODIFIED:20250428T152924Z
UID:23449-1753779600-1753797600@lupinelane.com
SUMMARY:A Journey Through Time: The Industrial Revolution - Making Machines and Automobiles
DESCRIPTION:
URL:https://lupinelane.com/event/a-journey-through-time-the-industrial-revolution-making-machines-and-automobiles-2/
CATEGORIES:Camps
END:VEVENT
BEGIN:VEVENT
DTSTART;TZID=America/Chicago:20250729T090000
DTEND;TZID=America/Chicago:20250729T140000
DTSTAMP:20260419T164845
CREATED:20250302T080128Z
LAST-MODIFIED:20250302T080128Z
UID:23081-1753779600-1753797600@lupinelane.com
SUMMARY:Genre Camp: The Invention Convention
DESCRIPTION:
URL:https://lupinelane.com/event/genre-camp-the-invention-convention-7/
CATEGORIES:Camps
END:VEVENT
BEGIN:VEVENT
DTSTART;TZID=America/Chicago:20250728T090000
DTEND;TZID=America/Chicago:20250728T140000
DTSTAMP:20260419T164845
CREATED:20250726T070115Z
LAST-MODIFIED:20250726T070115Z
UID:25378-1753693200-1753711200@lupinelane.com
SUMMARY:A Journey Through Time: The Industrial Revolution - Making Machines and Automobiles
DESCRIPTION:
URL:https://lupinelane.com/event/a-journey-through-time-the-industrial-revolution-making-machines-and-automobiles-6/
CATEGORIES:Camps
END:VEVENT
BEGIN:VEVENT
DTSTART;TZID=America/Chicago:20250728T090000
DTEND;TZID=America/Chicago:20250728T140000
DTSTAMP:20260419T164845
CREATED:20250428T152923Z
LAST-MODIFIED:20250428T152923Z
UID:23448-1753693200-1753711200@lupinelane.com
SUMMARY:A Journey Through Time: The Industrial Revolution - Making Machines and Automobiles
DESCRIPTION:
URL:https://lupinelane.com/event/a-journey-through-time-the-industrial-revolution-making-machines-and-automobiles/
CATEGORIES:Camps
END:VEVENT
BEGIN:VEVENT
DTSTART;TZID=America/Chicago:20250728T090000
DTEND;TZID=America/Chicago:20250728T140000
DTSTAMP:20260419T164845
CREATED:20250302T080127Z
LAST-MODIFIED:20250302T080127Z
UID:23080-1753693200-1753711200@lupinelane.com
SUMMARY:Genre Camp: The Invention Convention
DESCRIPTION:
URL:https://lupinelane.com/event/genre-camp-the-invention-convention-6/
CATEGORIES:Camps
END:VEVENT
BEGIN:VEVENT
DTSTART;TZID=America/Chicago:20250725T090000
DTEND;TZID=America/Chicago:20250725T140000
DTSTAMP:20260419T164845
CREATED:20250722T070141Z
LAST-MODIFIED:20250722T070141Z
UID:25074-1753434000-1753452000@lupinelane.com
SUMMARY:A Journey Through Time: Colonial to Pioneer Times - Blazing the Oregon Trail
DESCRIPTION:
URL:https://lupinelane.com/event/a-journey-through-time-colonial-to-pioneer-times-blazing-the-oregon-trail-10/
CATEGORIES:Camps
END:VEVENT
BEGIN:VEVENT
DTSTART;TZID=America/Chicago:20250725T090000
DTEND;TZID=America/Chicago:20250725T140000
DTSTAMP:20260419T164845
CREATED:20250428T152922Z
LAST-MODIFIED:20250428T152922Z
UID:23447-1753434000-1753452000@lupinelane.com
SUMMARY:A Journey Through Time: Colonial to Pioneer Times - Blazing the Oregon Trail
DESCRIPTION:
URL:https://lupinelane.com/event/a-journey-through-time-colonial-to-pioneer-times-blazing-the-oregon-trail-5/
CATEGORIES:Camps
END:VEVENT
BEGIN:VEVENT
DTSTART;TZID=America/Chicago:20250725T090000
DTEND;TZID=America/Chicago:20250725T140000
DTSTAMP:20260419T164845
CREATED:20250222T080131Z
LAST-MODIFIED:20250222T080131Z
UID:22968-1753434000-1753452000@lupinelane.com
SUMMARY:Genre Camp: Dancing Across the Globe
DESCRIPTION:
URL:https://lupinelane.com/event/genre-camp-dancing-across-the-globe-5/
CATEGORIES:Camps
END:VEVENT
BEGIN:VEVENT
DTSTART;TZID=America/Chicago:20250724T090000
DTEND;TZID=America/Chicago:20250724T140000
DTSTAMP:20260419T164845
CREATED:20250722T070140Z
LAST-MODIFIED:20250722T070140Z
UID:25073-1753347600-1753365600@lupinelane.com
SUMMARY:A Journey Through Time: Colonial to Pioneer Times - Blazing the Oregon Trail
DESCRIPTION:
URL:https://lupinelane.com/event/a-journey-through-time-colonial-to-pioneer-times-blazing-the-oregon-trail-9/
CATEGORIES:Camps
END:VEVENT
BEGIN:VEVENT
DTSTART;TZID=America/Chicago:20250724T090000
DTEND;TZID=America/Chicago:20250724T140000
DTSTAMP:20260419T164845
CREATED:20250428T152921Z
LAST-MODIFIED:20250428T152921Z
UID:23446-1753347600-1753365600@lupinelane.com
SUMMARY:A Journey Through Time: Colonial to Pioneer Times - Blazing the Oregon Trail
DESCRIPTION:
URL:https://lupinelane.com/event/a-journey-through-time-colonial-to-pioneer-times-blazing-the-oregon-trail-4/
CATEGORIES:Camps
END:VEVENT
BEGIN:VEVENT
DTSTART;TZID=America/Chicago:20250724T090000
DTEND;TZID=America/Chicago:20250724T140000
DTSTAMP:20260419T164845
CREATED:20250222T080130Z
LAST-MODIFIED:20250222T080130Z
UID:22967-1753347600-1753365600@lupinelane.com
SUMMARY:Genre Camp: Dancing Across the Globe
DESCRIPTION:
URL:https://lupinelane.com/event/genre-camp-dancing-across-the-globe-4/
CATEGORIES:Camps
END:VEVENT
BEGIN:VEVENT
DTSTART;TZID=America/Chicago:20250723T090000
DTEND;TZID=America/Chicago:20250723T140000
DTSTAMP:20260419T164845
CREATED:20250722T070139Z
LAST-MODIFIED:20250722T070139Z
UID:25072-1753261200-1753279200@lupinelane.com
SUMMARY:A Journey Through Time: Colonial to Pioneer Times - Blazing the Oregon Trail
DESCRIPTION:
URL:https://lupinelane.com/event/a-journey-through-time-colonial-to-pioneer-times-blazing-the-oregon-trail-8/
CATEGORIES:Camps
END:VEVENT
BEGIN:VEVENT
DTSTART;TZID=America/Chicago:20250723T090000
DTEND;TZID=America/Chicago:20250723T140000
DTSTAMP:20260419T164845
CREATED:20250428T152920Z
LAST-MODIFIED:20250428T152920Z
UID:23445-1753261200-1753279200@lupinelane.com
SUMMARY:A Journey Through Time: Colonial to Pioneer Times - Blazing the Oregon Trail
DESCRIPTION:
URL:https://lupinelane.com/event/a-journey-through-time-colonial-to-pioneer-times-blazing-the-oregon-trail-3/
CATEGORIES:Camps
END:VEVENT
BEGIN:VEVENT
DTSTART;TZID=America/Chicago:20250723T090000
DTEND;TZID=America/Chicago:20250723T140000
DTSTAMP:20260419T164845
CREATED:20250222T080129Z
LAST-MODIFIED:20250222T080129Z
UID:22966-1753261200-1753279200@lupinelane.com
SUMMARY:Genre Camp: Dancing Across the Globe
DESCRIPTION:
URL:https://lupinelane.com/event/genre-camp-dancing-across-the-globe-3/
CATEGORIES:Camps
END:VEVENT
BEGIN:VEVENT
DTSTART;TZID=America/Chicago:20250722T090000
DTEND;TZID=America/Chicago:20250722T140000
DTSTAMP:20260419T164845
CREATED:20250722T070137Z
LAST-MODIFIED:20250722T070137Z
UID:25071-1753174800-1753192800@lupinelane.com
SUMMARY:A Journey Through Time: Colonial to Pioneer Times - Blazing the Oregon Trail
DESCRIPTION:
URL:https://lupinelane.com/event/a-journey-through-time-colonial-to-pioneer-times-blazing-the-oregon-trail-7/
CATEGORIES:Camps
END:VEVENT
BEGIN:VEVENT
DTSTART;TZID=America/Chicago:20250722T090000
DTEND;TZID=America/Chicago:20250722T140000
DTSTAMP:20260419T164845
CREATED:20250428T152919Z
LAST-MODIFIED:20250428T152919Z
UID:23444-1753174800-1753192800@lupinelane.com
SUMMARY:A Journey Through Time: Colonial to Pioneer Times - Blazing the Oregon Trail
DESCRIPTION:
URL:https://lupinelane.com/event/a-journey-through-time-colonial-to-pioneer-times-blazing-the-oregon-trail-2/
CATEGORIES:Camps
END:VEVENT
BEGIN:VEVENT
DTSTART;TZID=America/Chicago:20250722T090000
DTEND;TZID=America/Chicago:20250722T140000
DTSTAMP:20260419T164845
CREATED:20250222T080128Z
LAST-MODIFIED:20250222T080128Z
UID:22965-1753174800-1753192800@lupinelane.com
SUMMARY:Genre Camp: Dancing Across the Globe
DESCRIPTION:
URL:https://lupinelane.com/event/genre-camp-dancing-across-the-globe-2/
CATEGORIES:Camps
END:VEVENT
BEGIN:VEVENT
DTSTART;TZID=America/Chicago:20250721T090000
DTEND;TZID=America/Chicago:20250721T140000
DTSTAMP:20260419T164845
CREATED:20250722T070136Z
LAST-MODIFIED:20250722T070136Z
UID:25070-1753088400-1753106400@lupinelane.com
SUMMARY:A Journey Through Time: Colonial to Pioneer Times - Blazing the Oregon Trail
DESCRIPTION:
URL:https://lupinelane.com/event/a-journey-through-time-colonial-to-pioneer-times-blazing-the-oregon-trail-6/
CATEGORIES:Camps
END:VEVENT
BEGIN:VEVENT
DTSTART;TZID=America/Chicago:20250721T090000
DTEND;TZID=America/Chicago:20250721T140000
DTSTAMP:20260419T164845
CREATED:20250428T152918Z
LAST-MODIFIED:20250428T152918Z
UID:23443-1753088400-1753106400@lupinelane.com
SUMMARY:A Journey Through Time: Colonial to Pioneer Times - Blazing the Oregon Trail
DESCRIPTION:
URL:https://lupinelane.com/event/a-journey-through-time-colonial-to-pioneer-times-blazing-the-oregon-trail/
CATEGORIES:Camps
END:VEVENT
BEGIN:VEVENT
DTSTART;TZID=America/Chicago:20250721T090000
DTEND;TZID=America/Chicago:20250721T140000
DTSTAMP:20260419T164845
CREATED:20250222T080127Z
LAST-MODIFIED:20250222T080127Z
UID:22964-1753088400-1753106400@lupinelane.com
SUMMARY:Genre Camp: Dancing Across the Globe
DESCRIPTION:
URL:https://lupinelane.com/event/genre-camp-dancing-across-the-globe/
CATEGORIES:Camps
END:VEVENT
BEGIN:VEVENT
DTSTART;TZID=America/Chicago:20250718T090000
DTEND;TZID=America/Chicago:20250718T140000
DTSTAMP:20260419T164845
CREATED:20250715T070116Z
LAST-MODIFIED:20250715T070116Z
UID:24990-1752829200-1752847200@lupinelane.com
SUMMARY:Genre Camp: Lego Jedi Engineering
DESCRIPTION:
URL:https://lupinelane.com/event/genre-camp-lego-jedi-engineering-15/
CATEGORIES:Camps
END:VEVENT
BEGIN:VEVENT
DTSTART;TZID=America/Chicago:20250718T090000
DTEND;TZID=America/Chicago:20250718T140000
DTSTAMP:20260419T164845
CREATED:20250709T070119Z
LAST-MODIFIED:20250709T070119Z
UID:24929-1752829200-1752847200@lupinelane.com
SUMMARY:A Journey Though Time: Artists and Inventors of the Renaissance
DESCRIPTION:
URL:https://lupinelane.com/event/a-journey-though-time-artists-and-inventors-of-the-renaissance-15/
CATEGORIES:Camps
END:VEVENT
BEGIN:VEVENT
DTSTART;TZID=America/Chicago:20250718T090000
DTEND;TZID=America/Chicago:20250718T140000
DTSTAMP:20260419T164845
CREATED:20250523T154240Z
LAST-MODIFIED:20250523T154240Z
UID:23517-1752829200-1752847200@lupinelane.com
SUMMARY:A Journey Though Time: Artists and Inventors of the Renaissance
DESCRIPTION:
URL:https://lupinelane.com/event/a-journey-though-time-artists-and-inventors-of-the-renaissance-10/
CATEGORIES:Camps
END:VEVENT
BEGIN:VEVENT
DTSTART;TZID=America/Chicago:20250718T090000
DTEND;TZID=America/Chicago:20250718T140000
DTSTAMP:20260419T164845
CREATED:20250428T152917Z
LAST-MODIFIED:20250428T152917Z
UID:23442-1752829200-1752847200@lupinelane.com
SUMMARY:A Journey Though Time: Artists and Inventors of the Renaissance
DESCRIPTION:
URL:https://lupinelane.com/event/a-journey-though-time-artists-and-inventors-of-the-renaissance-5/
CATEGORIES:Camps
END:VEVENT
BEGIN:VEVENT
DTSTART;TZID=America/Chicago:20250718T090000
DTEND;TZID=America/Chicago:20250718T140000
DTSTAMP:20260419T164845
CREATED:20250222T080126Z
LAST-MODIFIED:20250222T080126Z
UID:22963-1752829200-1752847200@lupinelane.com
SUMMARY:Genre Camp: Fashion and Jewelry Design
DESCRIPTION:
URL:https://lupinelane.com/event/genre-camp-fashion-and-jewelry-design-5/
CATEGORIES:Camps
END:VEVENT
BEGIN:VEVENT
DTSTART;TZID=America/Chicago:20250718T090000
DTEND;TZID=America/Chicago:20250718T140000
DTSTAMP:20260419T164845
CREATED:20250220T080312Z
LAST-MODIFIED:20250220T080312Z
UID:22862-1752829200-1752847200@lupinelane.com
SUMMARY:Genre Camp: Lego Jedi Engineering
DESCRIPTION:
URL:https://lupinelane.com/event/genre-camp-lego-jedi-engineering-10/
CATEGORIES:Camps
END:VEVENT
BEGIN:VEVENT
DTSTART;TZID=America/Chicago:20250717T090000
DTEND;TZID=America/Chicago:20250717T140000
DTSTAMP:20260419T164845
CREATED:20250715T070115Z
LAST-MODIFIED:20250715T070115Z
UID:24989-1752742800-1752760800@lupinelane.com
SUMMARY:Genre Camp: Lego Jedi Engineering
DESCRIPTION:
URL:https://lupinelane.com/event/genre-camp-lego-jedi-engineering-14/
CATEGORIES:Camps
END:VEVENT
BEGIN:VEVENT
DTSTART;TZID=America/Chicago:20250717T090000
DTEND;TZID=America/Chicago:20250717T140000
DTSTAMP:20260419T164845
CREATED:20250709T070117Z
LAST-MODIFIED:20250709T070117Z
UID:24928-1752742800-1752760800@lupinelane.com
SUMMARY:A Journey Though Time: Artists and Inventors of the Renaissance
DESCRIPTION:
URL:https://lupinelane.com/event/a-journey-though-time-artists-and-inventors-of-the-renaissance-14/
CATEGORIES:Camps
END:VEVENT
END:VCALENDAR