BEGIN:VCALENDAR
VERSION:2.0
PRODID:-//Lupine Lane - ECPv6.15.20//NONSGML v1.0//EN
CALSCALE:GREGORIAN
METHOD:PUBLISH
X-ORIGINAL-URL:https://lupinelane.com
X-WR-CALDESC:Events for Lupine Lane
REFRESH-INTERVAL;VALUE=DURATION:PT1H
X-Robots-Tag:noindex
X-PUBLISHED-TTL:PT1H
BEGIN:VTIMEZONE
TZID:America/Chicago
BEGIN:DAYLIGHT
TZOFFSETFROM:-0600
TZOFFSETTO:-0500
TZNAME:CDT
DTSTART:20250309T080000
END:DAYLIGHT
BEGIN:STANDARD
TZOFFSETFROM:-0500
TZOFFSETTO:-0600
TZNAME:CST
DTSTART:20251102T070000
END:STANDARD
BEGIN:DAYLIGHT
TZOFFSETFROM:-0600
TZOFFSETTO:-0500
TZNAME:CDT
DTSTART:20260308T080000
END:DAYLIGHT
BEGIN:STANDARD
TZOFFSETFROM:-0500
TZOFFSETTO:-0600
TZNAME:CST
DTSTART:20261101T070000
END:STANDARD
BEGIN:DAYLIGHT
TZOFFSETFROM:-0600
TZOFFSETTO:-0500
TZNAME:CDT
DTSTART:20270314T080000
END:DAYLIGHT
BEGIN:STANDARD
TZOFFSETFROM:-0500
TZOFFSETTO:-0600
TZNAME:CST
DTSTART:20271107T070000
END:STANDARD
END:VTIMEZONE
BEGIN:VEVENT
DTSTART;TZID=America/Chicago:20260713T090000
DTEND;TZID=America/Chicago:20260713T140000
DTSTAMP:20260419T232234
CREATED:20260131T080439Z
LAST-MODIFIED:20260131T080439Z
UID:26782-1783933200-1783951200@lupinelane.com
SUMMARY:Elemental Explorations: Where is Water in Your Body?
DESCRIPTION:
URL:https://lupinelane.com/event/elemental-explorations-where-is-water-in-your-body/
CATEGORIES:Camps
END:VEVENT
BEGIN:VEVENT
DTSTART;TZID=America/Chicago:20260713T090000
DTEND;TZID=America/Chicago:20260713T140000
DTSTAMP:20260419T232234
CREATED:20260220T080516Z
LAST-MODIFIED:20260220T080516Z
UID:27328-1783933200-1783951200@lupinelane.com
SUMMARY:Genre Camp: Lego Jedi Engineering
DESCRIPTION:
URL:https://lupinelane.com/event/genre-camp-lego-jedi-engineering-16/
CATEGORIES:Camps
END:VEVENT
BEGIN:VEVENT
DTSTART;TZID=America/Chicago:20260713T090000
DTEND;TZID=America/Chicago:20260713T140000
DTSTAMP:20260419T232234
CREATED:20260220T080522Z
LAST-MODIFIED:20260220T080522Z
UID:27333-1783933200-1783951200@lupinelane.com
SUMMARY:Genre Camp: Fashion Design
DESCRIPTION:
URL:https://lupinelane.com/event/genre-camp-fashion-design-6/
CATEGORIES:Camps
END:VEVENT
BEGIN:VEVENT
DTSTART;TZID=America/Chicago:20260714T090000
DTEND;TZID=America/Chicago:20260714T140000
DTSTAMP:20260419T232234
CREATED:20260126T080906Z
LAST-MODIFIED:20260126T080906Z
UID:26562-1784019600-1784037600@lupinelane.com
SUMMARY:Where is Water in Your Body?
DESCRIPTION:
URL:https://lupinelane.com/event/where-is-water-in-your-body-2/
CATEGORIES:Camps
END:VEVENT
BEGIN:VEVENT
DTSTART;TZID=America/Chicago:20260714T090000
DTEND;TZID=America/Chicago:20260714T140000
DTSTAMP:20260419T232234
CREATED:20260131T080441Z
LAST-MODIFIED:20260131T080441Z
UID:26783-1784019600-1784037600@lupinelane.com
SUMMARY:Elemental Explorations: Where is Water in Your Body?
DESCRIPTION:
URL:https://lupinelane.com/event/elemental-explorations-where-is-water-in-your-body-2/
CATEGORIES:Camps
END:VEVENT
BEGIN:VEVENT
DTSTART;TZID=America/Chicago:20260714T090000
DTEND;TZID=America/Chicago:20260714T140000
DTSTAMP:20260419T232234
CREATED:20260220T080517Z
LAST-MODIFIED:20260220T080517Z
UID:27329-1784019600-1784037600@lupinelane.com
SUMMARY:Genre Camp: Lego Jedi Engineering
DESCRIPTION:
URL:https://lupinelane.com/event/genre-camp-lego-jedi-engineering-17/
CATEGORIES:Camps
END:VEVENT
BEGIN:VEVENT
DTSTART;TZID=America/Chicago:20260714T090000
DTEND;TZID=America/Chicago:20260714T140000
DTSTAMP:20260419T232234
CREATED:20260220T080523Z
LAST-MODIFIED:20260220T080523Z
UID:27334-1784019600-1784037600@lupinelane.com
SUMMARY:Genre Camp: Fashion Design
DESCRIPTION:
URL:https://lupinelane.com/event/genre-camp-fashion-design-7/
CATEGORIES:Camps
END:VEVENT
BEGIN:VEVENT
DTSTART;TZID=America/Chicago:20260715T090000
DTEND;TZID=America/Chicago:20260715T140000
DTSTAMP:20260419T232234
CREATED:20260126T080908Z
LAST-MODIFIED:20260126T080908Z
UID:26563-1784106000-1784124000@lupinelane.com
SUMMARY:Where is Water in Your Body?
DESCRIPTION:
URL:https://lupinelane.com/event/where-is-water-in-your-body-3/
CATEGORIES:Camps
END:VEVENT
BEGIN:VEVENT
DTSTART;TZID=America/Chicago:20260715T090000
DTEND;TZID=America/Chicago:20260715T140000
DTSTAMP:20260419T232234
CREATED:20260131T080442Z
LAST-MODIFIED:20260131T080442Z
UID:26784-1784106000-1784124000@lupinelane.com
SUMMARY:Elemental Explorations: Where is Water in Your Body?
DESCRIPTION:
URL:https://lupinelane.com/event/elemental-explorations-where-is-water-in-your-body-3/
CATEGORIES:Camps
END:VEVENT
BEGIN:VEVENT
DTSTART;TZID=America/Chicago:20260715T090000
DTEND;TZID=America/Chicago:20260715T140000
DTSTAMP:20260419T232234
CREATED:20260220T080518Z
LAST-MODIFIED:20260220T080518Z
UID:27330-1784106000-1784124000@lupinelane.com
SUMMARY:Genre Camp: Lego Jedi Engineering
DESCRIPTION:
URL:https://lupinelane.com/event/genre-camp-lego-jedi-engineering-18/
CATEGORIES:Camps
END:VEVENT
BEGIN:VEVENT
DTSTART;TZID=America/Chicago:20260715T090000
DTEND;TZID=America/Chicago:20260715T140000
DTSTAMP:20260419T232234
CREATED:20260220T080524Z
LAST-MODIFIED:20260220T080524Z
UID:27335-1784106000-1784124000@lupinelane.com
SUMMARY:Genre Camp: Fashion Design
DESCRIPTION:
URL:https://lupinelane.com/event/genre-camp-fashion-design-8/
CATEGORIES:Camps
END:VEVENT
BEGIN:VEVENT
DTSTART;TZID=America/Chicago:20260716T090000
DTEND;TZID=America/Chicago:20260716T140000
DTSTAMP:20260419T232234
CREATED:20260126T080910Z
LAST-MODIFIED:20260126T080910Z
UID:26564-1784192400-1784210400@lupinelane.com
SUMMARY:Where is Water in Your Body?
DESCRIPTION:
URL:https://lupinelane.com/event/where-is-water-in-your-body-4/
CATEGORIES:Camps
END:VEVENT
BEGIN:VEVENT
DTSTART;TZID=America/Chicago:20260716T090000
DTEND;TZID=America/Chicago:20260716T140000
DTSTAMP:20260419T232234
CREATED:20260131T080443Z
LAST-MODIFIED:20260131T080443Z
UID:26785-1784192400-1784210400@lupinelane.com
SUMMARY:Elemental Explorations: Where is Water in Your Body?
DESCRIPTION:
URL:https://lupinelane.com/event/elemental-explorations-where-is-water-in-your-body-4/
CATEGORIES:Camps
END:VEVENT
BEGIN:VEVENT
DTSTART;TZID=America/Chicago:20260716T090000
DTEND;TZID=America/Chicago:20260716T140000
DTSTAMP:20260419T232234
CREATED:20260220T080520Z
LAST-MODIFIED:20260220T080520Z
UID:27331-1784192400-1784210400@lupinelane.com
SUMMARY:Genre Camp: Lego Jedi Engineering
DESCRIPTION:
URL:https://lupinelane.com/event/genre-camp-lego-jedi-engineering-19/
CATEGORIES:Camps
END:VEVENT
BEGIN:VEVENT
DTSTART;TZID=America/Chicago:20260716T090000
DTEND;TZID=America/Chicago:20260716T140000
DTSTAMP:20260419T232234
CREATED:20260220T080525Z
LAST-MODIFIED:20260220T080525Z
UID:27336-1784192400-1784210400@lupinelane.com
SUMMARY:Genre Camp: Fashion Design
DESCRIPTION:
URL:https://lupinelane.com/event/genre-camp-fashion-design-9/
CATEGORIES:Camps
END:VEVENT
BEGIN:VEVENT
DTSTART;TZID=America/Chicago:20260717T090000
DTEND;TZID=America/Chicago:20260717T140000
DTSTAMP:20260419T232234
CREATED:20260126T080912Z
LAST-MODIFIED:20260126T080912Z
UID:26565-1784278800-1784296800@lupinelane.com
SUMMARY:Where is Water in Your Body?
DESCRIPTION:
URL:https://lupinelane.com/event/where-is-water-in-your-body-5/
CATEGORIES:Camps
END:VEVENT
BEGIN:VEVENT
DTSTART;TZID=America/Chicago:20260717T090000
DTEND;TZID=America/Chicago:20260717T140000
DTSTAMP:20260419T232234
CREATED:20260131T080445Z
LAST-MODIFIED:20260131T080445Z
UID:26786-1784278800-1784296800@lupinelane.com
SUMMARY:Elemental Explorations: Where is Water in Your Body?
DESCRIPTION:
URL:https://lupinelane.com/event/elemental-explorations-where-is-water-in-your-body-5/
CATEGORIES:Camps
END:VEVENT
BEGIN:VEVENT
DTSTART;TZID=America/Chicago:20260717T090000
DTEND;TZID=America/Chicago:20260717T140000
DTSTAMP:20260419T232234
CREATED:20260220T080521Z
LAST-MODIFIED:20260220T080521Z
UID:27332-1784278800-1784296800@lupinelane.com
SUMMARY:Genre Camp: Lego Jedi Engineering
DESCRIPTION:
URL:https://lupinelane.com/event/genre-camp-lego-jedi-engineering-20/
CATEGORIES:Camps
END:VEVENT
BEGIN:VEVENT
DTSTART;TZID=America/Chicago:20260717T090000
DTEND;TZID=America/Chicago:20260717T140000
DTSTAMP:20260419T232234
CREATED:20260220T080527Z
LAST-MODIFIED:20260220T080527Z
UID:27337-1784278800-1784296800@lupinelane.com
SUMMARY:Genre Camp: Fashion Design
DESCRIPTION:
URL:https://lupinelane.com/event/genre-camp-fashion-design-10/
CATEGORIES:Camps
END:VEVENT
BEGIN:VEVENT
DTSTART;TZID=America/Chicago:20260720T090000
DTEND;TZID=America/Chicago:20260720T140000
DTSTAMP:20260419T232234
CREATED:20260214T080304Z
LAST-MODIFIED:20260214T080304Z
UID:27190-1784538000-1784556000@lupinelane.com
SUMMARY:Elemental Explorations: Go With the Flow! Oceans\, Lakes\, Rivers\, Streams
DESCRIPTION:
URL:https://lupinelane.com/event/elemental-explorations-go-with-the-flow-oceans-lakes-rivers-streams/
CATEGORIES:Camps
END:VEVENT
BEGIN:VEVENT
DTSTART;TZID=America/Chicago:20260720T090000
DTEND;TZID=America/Chicago:20260720T140000
DTSTAMP:20260419T232234
CREATED:20260220T080504Z
LAST-MODIFIED:20260220T080504Z
UID:27318-1784538000-1784556000@lupinelane.com
SUMMARY:Genre Camp: The Invention Convention
DESCRIPTION:
URL:https://lupinelane.com/event/genre-camp-the-invention-convention-11/
CATEGORIES:Camps
END:VEVENT
BEGIN:VEVENT
DTSTART;TZID=America/Chicago:20260720T090000
DTEND;TZID=America/Chicago:20260720T140000
DTSTAMP:20260419T232234
CREATED:20260220T080510Z
LAST-MODIFIED:20260220T080510Z
UID:27323-1784538000-1784556000@lupinelane.com
SUMMARY:Genre Camp: Full STEAM Ahead! - Exploring Science\, Engineering\, Art and Mathematics
DESCRIPTION:
URL:https://lupinelane.com/event/genre-camp-full-steam-ahead-exploring-science-engineering-art-and-mathematics/
CATEGORIES:Camps
END:VEVENT
BEGIN:VEVENT
DTSTART;TZID=America/Chicago:20260721T090000
DTEND;TZID=America/Chicago:20260721T140000
DTSTAMP:20260419T232234
CREATED:20260214T080305Z
LAST-MODIFIED:20260214T080305Z
UID:27191-1784624400-1784642400@lupinelane.com
SUMMARY:Elemental Explorations: Go With the Flow! Oceans\, Lakes\, Rivers\, Streams
DESCRIPTION:
URL:https://lupinelane.com/event/elemental-explorations-go-with-the-flow-oceans-lakes-rivers-streams-2/
CATEGORIES:Camps
END:VEVENT
BEGIN:VEVENT
DTSTART;TZID=America/Chicago:20260721T090000
DTEND;TZID=America/Chicago:20260721T140000
DTSTAMP:20260419T232234
CREATED:20260220T080505Z
LAST-MODIFIED:20260220T080505Z
UID:27319-1784624400-1784642400@lupinelane.com
SUMMARY:Genre Camp: The Invention Convention
DESCRIPTION:
URL:https://lupinelane.com/event/genre-camp-the-invention-convention-12/
CATEGORIES:Camps
END:VEVENT
BEGIN:VEVENT
DTSTART;TZID=America/Chicago:20260721T090000
DTEND;TZID=America/Chicago:20260721T140000
DTSTAMP:20260419T232234
CREATED:20260220T080511Z
LAST-MODIFIED:20260220T080511Z
UID:27324-1784624400-1784642400@lupinelane.com
SUMMARY:Genre Camp: Full STEAM Ahead! - Exploring Science\, Engineering\, Art and Mathematics
DESCRIPTION:
URL:https://lupinelane.com/event/genre-camp-full-steam-ahead-exploring-science-engineering-art-and-mathematics-2/
CATEGORIES:Camps
END:VEVENT
BEGIN:VEVENT
DTSTART;TZID=America/Chicago:20260722T090000
DTEND;TZID=America/Chicago:20260722T140000
DTSTAMP:20260419T232234
CREATED:20260214T080306Z
LAST-MODIFIED:20260214T080306Z
UID:27192-1784710800-1784728800@lupinelane.com
SUMMARY:Elemental Explorations: Go With the Flow! Oceans\, Lakes\, Rivers\, Streams
DESCRIPTION:
URL:https://lupinelane.com/event/elemental-explorations-go-with-the-flow-oceans-lakes-rivers-streams-3/
CATEGORIES:Camps
END:VEVENT
BEGIN:VEVENT
DTSTART;TZID=America/Chicago:20260722T090000
DTEND;TZID=America/Chicago:20260722T140000
DTSTAMP:20260419T232234
CREATED:20260220T080506Z
LAST-MODIFIED:20260220T080506Z
UID:27320-1784710800-1784728800@lupinelane.com
SUMMARY:Genre Camp: The Invention Convention
DESCRIPTION:
URL:https://lupinelane.com/event/genre-camp-the-invention-convention-13/
CATEGORIES:Camps
END:VEVENT
BEGIN:VEVENT
DTSTART;TZID=America/Chicago:20260722T090000
DTEND;TZID=America/Chicago:20260722T140000
DTSTAMP:20260419T232234
CREATED:20260220T080512Z
LAST-MODIFIED:20260220T080512Z
UID:27325-1784710800-1784728800@lupinelane.com
SUMMARY:Genre Camp: Full STEAM Ahead! - Exploring Science\, Engineering\, Art and Mathematics
DESCRIPTION:
URL:https://lupinelane.com/event/genre-camp-full-steam-ahead-exploring-science-engineering-art-and-mathematics-3/
CATEGORIES:Camps
END:VEVENT
BEGIN:VEVENT
DTSTART;TZID=America/Chicago:20260723T090000
DTEND;TZID=America/Chicago:20260723T140000
DTSTAMP:20260419T232234
CREATED:20260214T080308Z
LAST-MODIFIED:20260214T080308Z
UID:27193-1784797200-1784815200@lupinelane.com
SUMMARY:Elemental Explorations: Go With the Flow! Oceans\, Lakes\, Rivers\, Streams
DESCRIPTION:
URL:https://lupinelane.com/event/elemental-explorations-go-with-the-flow-oceans-lakes-rivers-streams-4/
CATEGORIES:Camps
END:VEVENT
BEGIN:VEVENT
DTSTART;TZID=America/Chicago:20260723T090000
DTEND;TZID=America/Chicago:20260723T140000
DTSTAMP:20260419T232234
CREATED:20260220T080508Z
LAST-MODIFIED:20260220T080508Z
UID:27321-1784797200-1784815200@lupinelane.com
SUMMARY:Genre Camp: The Invention Convention
DESCRIPTION:
URL:https://lupinelane.com/event/genre-camp-the-invention-convention-14/
CATEGORIES:Camps
END:VEVENT
END:VCALENDAR