BEGIN:VCALENDAR
VERSION:2.0
PRODID:-//Lupine Lane - ECPv6.15.20//NONSGML v1.0//EN
CALSCALE:GREGORIAN
METHOD:PUBLISH
X-WR-CALNAME:Lupine Lane
X-ORIGINAL-URL:https://lupinelane.com
X-WR-CALDESC:Events for Lupine Lane
REFRESH-INTERVAL;VALUE=DURATION:PT1H
X-Robots-Tag:noindex
X-PUBLISHED-TTL:PT1H
BEGIN:VTIMEZONE
TZID:America/Chicago
BEGIN:DAYLIGHT
TZOFFSETFROM:-0600
TZOFFSETTO:-0500
TZNAME:CDT
DTSTART:20250309T080000
END:DAYLIGHT
BEGIN:STANDARD
TZOFFSETFROM:-0500
TZOFFSETTO:-0600
TZNAME:CST
DTSTART:20251102T070000
END:STANDARD
BEGIN:DAYLIGHT
TZOFFSETFROM:-0600
TZOFFSETTO:-0500
TZNAME:CDT
DTSTART:20260308T080000
END:DAYLIGHT
BEGIN:STANDARD
TZOFFSETFROM:-0500
TZOFFSETTO:-0600
TZNAME:CST
DTSTART:20261101T070000
END:STANDARD
BEGIN:DAYLIGHT
TZOFFSETFROM:-0600
TZOFFSETTO:-0500
TZNAME:CDT
DTSTART:20270314T080000
END:DAYLIGHT
BEGIN:STANDARD
TZOFFSETFROM:-0500
TZOFFSETTO:-0600
TZNAME:CST
DTSTART:20271107T070000
END:STANDARD
END:VTIMEZONE
BEGIN:VEVENT
DTSTART;TZID=America/Chicago:20260728T090000
DTEND;TZID=America/Chicago:20260728T140000
DTSTAMP:20260420T023424
CREATED:20260220T080453Z
LAST-MODIFIED:20260220T080453Z
UID:27309-1785229200-1785247200@lupinelane.com
SUMMARY:Genre Camp: Entrepreneurship 101 - The Business Fair
DESCRIPTION:
URL:https://lupinelane.com/event/genre-camp-entrepreneurship-101-the-business-fair-7/
CATEGORIES:Camps
END:VEVENT
BEGIN:VEVENT
DTSTART;TZID=America/Chicago:20260728T090000
DTEND;TZID=America/Chicago:20260728T140000
DTSTAMP:20260420T023424
CREATED:20260220T080459Z
LAST-MODIFIED:20260220T080459Z
UID:27314-1785229200-1785247200@lupinelane.com
SUMMARY:Genre Camp: Dollars and Sense - Financial Foundations
DESCRIPTION:
URL:https://lupinelane.com/event/genre-camp-dollars-and-sense-financial-foundations-2/
CATEGORIES:Camps
END:VEVENT
BEGIN:VEVENT
DTSTART;TZID=America/Chicago:20260729T090000
DTEND;TZID=America/Chicago:20260729T140000
DTSTAMP:20260420T023424
CREATED:20260214T080255Z
LAST-MODIFIED:20260214T080255Z
UID:27182-1785315600-1785333600@lupinelane.com
SUMMARY:Elemental Explorations: Skate\, Swim\, Float! The Three Phases of Water
DESCRIPTION:
URL:https://lupinelane.com/event/elemental-explorations-skate-swim-float-the-three-phases-of-water-3/
CATEGORIES:Camps
END:VEVENT
BEGIN:VEVENT
DTSTART;TZID=America/Chicago:20260729T090000
DTEND;TZID=America/Chicago:20260729T140000
DTSTAMP:20260420T023424
CREATED:20260220T080454Z
LAST-MODIFIED:20260220T080454Z
UID:27310-1785315600-1785333600@lupinelane.com
SUMMARY:Genre Camp: Entrepreneurship 101 - The Business Fair
DESCRIPTION:
URL:https://lupinelane.com/event/genre-camp-entrepreneurship-101-the-business-fair-8/
CATEGORIES:Camps
END:VEVENT
BEGIN:VEVENT
DTSTART;TZID=America/Chicago:20260729T090000
DTEND;TZID=America/Chicago:20260729T140000
DTSTAMP:20260420T023424
CREATED:20260220T080500Z
LAST-MODIFIED:20260220T080500Z
UID:27315-1785315600-1785333600@lupinelane.com
SUMMARY:Genre Camp: Dollars and Sense - Financial Foundations
DESCRIPTION:
URL:https://lupinelane.com/event/genre-camp-dollars-and-sense-financial-foundations-3/
CATEGORIES:Camps
END:VEVENT
BEGIN:VEVENT
DTSTART;TZID=America/Chicago:20260730T090000
DTEND;TZID=America/Chicago:20260730T140000
DTSTAMP:20260420T023424
CREATED:20260214T080256Z
LAST-MODIFIED:20260214T080256Z
UID:27183-1785402000-1785420000@lupinelane.com
SUMMARY:Elemental Explorations: Skate\, Swim\, Float! The Three Phases of Water
DESCRIPTION:
URL:https://lupinelane.com/event/elemental-explorations-skate-swim-float-the-three-phases-of-water-4/
CATEGORIES:Camps
END:VEVENT
BEGIN:VEVENT
DTSTART;TZID=America/Chicago:20260730T090000
DTEND;TZID=America/Chicago:20260730T140000
DTSTAMP:20260420T023424
CREATED:20260220T080455Z
LAST-MODIFIED:20260220T080455Z
UID:27311-1785402000-1785420000@lupinelane.com
SUMMARY:Genre Camp: Entrepreneurship 101 - The Business Fair
DESCRIPTION:
URL:https://lupinelane.com/event/genre-camp-entrepreneurship-101-the-business-fair-9/
CATEGORIES:Camps
END:VEVENT
BEGIN:VEVENT
DTSTART;TZID=America/Chicago:20260730T090000
DTEND;TZID=America/Chicago:20260730T140000
DTSTAMP:20260420T023424
CREATED:20260220T080501Z
LAST-MODIFIED:20260220T080501Z
UID:27316-1785402000-1785420000@lupinelane.com
SUMMARY:Genre Camp: Dollars and Sense - Financial Foundations
DESCRIPTION:
URL:https://lupinelane.com/event/genre-camp-dollars-and-sense-financial-foundations-4/
CATEGORIES:Camps
END:VEVENT
BEGIN:VEVENT
DTSTART;TZID=America/Chicago:20260731T090000
DTEND;TZID=America/Chicago:20260731T140000
DTSTAMP:20260420T023424
CREATED:20260214T080257Z
LAST-MODIFIED:20260214T080257Z
UID:27184-1785488400-1785506400@lupinelane.com
SUMMARY:Elemental Explorations: Skate\, Swim\, Float! The Three Phases of Water
DESCRIPTION:
URL:https://lupinelane.com/event/elemental-explorations-skate-swim-float-the-three-phases-of-water-5/
CATEGORIES:Camps
END:VEVENT
BEGIN:VEVENT
DTSTART;TZID=America/Chicago:20260731T090000
DTEND;TZID=America/Chicago:20260731T140000
DTSTAMP:20260420T023424
CREATED:20260220T080456Z
LAST-MODIFIED:20260220T080456Z
UID:27312-1785488400-1785506400@lupinelane.com
SUMMARY:Genre Camp: Entrepreneurship 101 - The Business Fair
DESCRIPTION:
URL:https://lupinelane.com/event/genre-camp-entrepreneurship-101-the-business-fair-10/
CATEGORIES:Camps
END:VEVENT
BEGIN:VEVENT
DTSTART;TZID=America/Chicago:20260731T090000
DTEND;TZID=America/Chicago:20260731T140000
DTSTAMP:20260420T023424
CREATED:20260220T080503Z
LAST-MODIFIED:20260220T080503Z
UID:27317-1785488400-1785506400@lupinelane.com
SUMMARY:Genre Camp: Dollars and Sense - Financial Foundations
DESCRIPTION:
URL:https://lupinelane.com/event/genre-camp-dollars-and-sense-financial-foundations-5/
CATEGORIES:Camps
END:VEVENT
BEGIN:VEVENT
DTSTART;TZID=America/Chicago:20260803T090000
DTEND;TZID=America/Chicago:20260803T140000
DTSTAMP:20260420T023424
CREATED:20260220T080440Z
LAST-MODIFIED:20260220T080440Z
UID:27298-1785747600-1785765600@lupinelane.com
SUMMARY:Genre Camp: Writer's Workshop
DESCRIPTION:
URL:https://lupinelane.com/event/genre-camp-writers-workshop/
CATEGORIES:Camps
END:VEVENT
BEGIN:VEVENT
DTSTART;TZID=America/Chicago:20260803T090000
DTEND;TZID=America/Chicago:20260803T140000
DTSTAMP:20260420T023424
CREATED:20260220T080446Z
LAST-MODIFIED:20260220T080446Z
UID:27303-1785747600-1785765600@lupinelane.com
SUMMARY:Genre Camp: Elementary 101
DESCRIPTION:
URL:https://lupinelane.com/event/genre-camp-elementary-101-6/
CATEGORIES:Camps
END:VEVENT
BEGIN:VEVENT
DTSTART;TZID=America/Chicago:20260803T090000
DTEND;TZID=America/Chicago:20260803T140000
DTSTAMP:20260420T023424
CREATED:20260417T070320Z
LAST-MODIFIED:20260417T070320Z
UID:27473-1785747600-1785765600@lupinelane.com
SUMMARY:Elemental Explorations: Where is Fire in Your Body?
DESCRIPTION:
URL:https://lupinelane.com/event/elemental-explorations-where-is-fire-in-your-body/
CATEGORIES:Camps
END:VEVENT
BEGIN:VEVENT
DTSTART;TZID=America/Chicago:20260804T090000
DTEND;TZID=America/Chicago:20260804T140000
DTSTAMP:20260420T023424
CREATED:20260220T080441Z
LAST-MODIFIED:20260220T080441Z
UID:27299-1785834000-1785852000@lupinelane.com
SUMMARY:Genre Camp: Writer's Workshop
DESCRIPTION:
URL:https://lupinelane.com/event/genre-camp-writers-workshop-2/
CATEGORIES:Camps
END:VEVENT
BEGIN:VEVENT
DTSTART;TZID=America/Chicago:20260804T090000
DTEND;TZID=America/Chicago:20260804T140000
DTSTAMP:20260420T023424
CREATED:20260220T080447Z
LAST-MODIFIED:20260220T080447Z
UID:27304-1785834000-1785852000@lupinelane.com
SUMMARY:Genre Camp: Elementary 101
DESCRIPTION:
URL:https://lupinelane.com/event/genre-camp-elementary-101-7/
CATEGORIES:Camps
END:VEVENT
BEGIN:VEVENT
DTSTART;TZID=America/Chicago:20260804T090000
DTEND;TZID=America/Chicago:20260804T140000
DTSTAMP:20260420T023424
CREATED:20260417T070322Z
LAST-MODIFIED:20260417T070322Z
UID:27474-1785834000-1785852000@lupinelane.com
SUMMARY:Elemental Explorations: Where is Fire in Your Body?
DESCRIPTION:
URL:https://lupinelane.com/event/elemental-explorations-where-is-fire-in-your-body-2/
CATEGORIES:Camps
END:VEVENT
BEGIN:VEVENT
DTSTART;TZID=America/Chicago:20260805T090000
DTEND;TZID=America/Chicago:20260805T140000
DTSTAMP:20260420T023424
CREATED:20260220T080442Z
LAST-MODIFIED:20260220T080442Z
UID:27300-1785920400-1785938400@lupinelane.com
SUMMARY:Genre Camp: Writer's Workshop
DESCRIPTION:
URL:https://lupinelane.com/event/genre-camp-writers-workshop-3/
CATEGORIES:Camps
END:VEVENT
BEGIN:VEVENT
DTSTART;TZID=America/Chicago:20260805T090000
DTEND;TZID=America/Chicago:20260805T140000
DTSTAMP:20260420T023424
CREATED:20260220T080448Z
LAST-MODIFIED:20260220T080448Z
UID:27305-1785920400-1785938400@lupinelane.com
SUMMARY:Genre Camp: Elementary 101
DESCRIPTION:
URL:https://lupinelane.com/event/genre-camp-elementary-101-8/
CATEGORIES:Camps
END:VEVENT
BEGIN:VEVENT
DTSTART;TZID=America/Chicago:20260805T090000
DTEND;TZID=America/Chicago:20260805T140000
DTSTAMP:20260420T023424
CREATED:20260417T070323Z
LAST-MODIFIED:20260417T070323Z
UID:27475-1785920400-1785938400@lupinelane.com
SUMMARY:Elemental Explorations: Where is Fire in Your Body?
DESCRIPTION:
URL:https://lupinelane.com/event/elemental-explorations-where-is-fire-in-your-body-3/
CATEGORIES:Camps
END:VEVENT
BEGIN:VEVENT
DTSTART;TZID=America/Chicago:20260806T090000
DTEND;TZID=America/Chicago:20260806T140000
DTSTAMP:20260420T023424
CREATED:20260220T080443Z
LAST-MODIFIED:20260220T080443Z
UID:27301-1786006800-1786024800@lupinelane.com
SUMMARY:Genre Camp: Writer's Workshop
DESCRIPTION:
URL:https://lupinelane.com/event/genre-camp-writers-workshop-4/
CATEGORIES:Camps
END:VEVENT
BEGIN:VEVENT
DTSTART;TZID=America/Chicago:20260806T090000
DTEND;TZID=America/Chicago:20260806T140000
DTSTAMP:20260420T023424
CREATED:20260220T080450Z
LAST-MODIFIED:20260220T080450Z
UID:27306-1786006800-1786024800@lupinelane.com
SUMMARY:Genre Camp: Elementary 101
DESCRIPTION:
URL:https://lupinelane.com/event/genre-camp-elementary-101-9/
CATEGORIES:Camps
END:VEVENT
BEGIN:VEVENT
DTSTART;TZID=America/Chicago:20260806T090000
DTEND;TZID=America/Chicago:20260806T140000
DTSTAMP:20260420T023424
CREATED:20260417T070324Z
LAST-MODIFIED:20260417T070324Z
UID:27476-1786006800-1786024800@lupinelane.com
SUMMARY:Elemental Explorations: Where is Fire in Your Body?
DESCRIPTION:
URL:https://lupinelane.com/event/elemental-explorations-where-is-fire-in-your-body-4/
CATEGORIES:Camps
END:VEVENT
BEGIN:VEVENT
DTSTART;TZID=America/Chicago:20260807T090000
DTEND;TZID=America/Chicago:20260807T140000
DTSTAMP:20260420T023424
CREATED:20260220T080444Z
LAST-MODIFIED:20260220T080444Z
UID:27302-1786093200-1786111200@lupinelane.com
SUMMARY:Genre Camp: Writer's Workshop
DESCRIPTION:
URL:https://lupinelane.com/event/genre-camp-writers-workshop-5/
CATEGORIES:Camps
END:VEVENT
BEGIN:VEVENT
DTSTART;TZID=America/Chicago:20260807T090000
DTEND;TZID=America/Chicago:20260807T140000
DTSTAMP:20260420T023424
CREATED:20260220T080451Z
LAST-MODIFIED:20260220T080451Z
UID:27307-1786093200-1786111200@lupinelane.com
SUMMARY:Genre Camp: Elementary 101
DESCRIPTION:
URL:https://lupinelane.com/event/genre-camp-elementary-101-10/
CATEGORIES:Camps
END:VEVENT
BEGIN:VEVENT
DTSTART;TZID=America/Chicago:20260807T090000
DTEND;TZID=America/Chicago:20260807T140000
DTSTAMP:20260420T023424
CREATED:20260417T070325Z
LAST-MODIFIED:20260417T070325Z
UID:27477-1786093200-1786111200@lupinelane.com
SUMMARY:Elemental Explorations: Where is Fire in Your Body?
DESCRIPTION:
URL:https://lupinelane.com/event/elemental-explorations-where-is-fire-in-your-body-5/
CATEGORIES:Camps
END:VEVENT
BEGIN:VEVENT
DTSTART;TZID=America/Chicago:20260810T090000
DTEND;TZID=America/Chicago:20260810T140000
DTSTAMP:20260420T023424
CREATED:20260131T080359Z
LAST-MODIFIED:20260131T080359Z
UID:26752-1786352400-1786370400@lupinelane.com
SUMMARY:Elemental Explorations: Great Ball of Fire! Fun in the Summer Sun
DESCRIPTION:
URL:https://lupinelane.com/event/elemental-explorations-great-ball-of-fire-fun-in-the-summer-sun/
CATEGORIES:Camps
END:VEVENT
BEGIN:VEVENT
DTSTART;TZID=America/Chicago:20260811T090000
DTEND;TZID=America/Chicago:20260811T140000
DTSTAMP:20260420T023424
CREATED:20260131T080400Z
LAST-MODIFIED:20260131T080400Z
UID:26753-1786438800-1786456800@lupinelane.com
SUMMARY:Elemental Explorations: Great Ball of Fire! Fun in the Summer Sun
DESCRIPTION:
URL:https://lupinelane.com/event/elemental-explorations-great-ball-of-fire-fun-in-the-summer-sun-2/
CATEGORIES:Camps
END:VEVENT
BEGIN:VEVENT
DTSTART;TZID=America/Chicago:20260812T090000
DTEND;TZID=America/Chicago:20260812T140000
DTSTAMP:20260420T023424
CREATED:20260131T080402Z
LAST-MODIFIED:20260131T080402Z
UID:26754-1786525200-1786543200@lupinelane.com
SUMMARY:Elemental Explorations: Great Ball of Fire! Fun in the Summer Sun
DESCRIPTION:
URL:https://lupinelane.com/event/elemental-explorations-great-ball-of-fire-fun-in-the-summer-sun-3/
CATEGORIES:Camps
END:VEVENT
BEGIN:VEVENT
DTSTART;TZID=America/Chicago:20260813T090000
DTEND;TZID=America/Chicago:20260813T140000
DTSTAMP:20260420T023424
CREATED:20260131T080403Z
LAST-MODIFIED:20260131T080403Z
UID:26755-1786611600-1786629600@lupinelane.com
SUMMARY:Elemental Explorations: Great Ball of Fire! Fun in the Summer Sun
DESCRIPTION:
URL:https://lupinelane.com/event/elemental-explorations-great-ball-of-fire-fun-in-the-summer-sun-4/
CATEGORIES:Camps
END:VEVENT
END:VCALENDAR