BEGIN:VCALENDAR
VERSION:2.0
PRODID:-//Lupine Lane - ECPv6.15.20//NONSGML v1.0//EN
CALSCALE:GREGORIAN
METHOD:PUBLISH
X-WR-CALNAME:Lupine Lane
X-ORIGINAL-URL:https://lupinelane.com
X-WR-CALDESC:Events for Lupine Lane
REFRESH-INTERVAL;VALUE=DURATION:PT1H
X-Robots-Tag:noindex
X-PUBLISHED-TTL:PT1H
BEGIN:VTIMEZONE
TZID:America/Chicago
BEGIN:DAYLIGHT
TZOFFSETFROM:-0600
TZOFFSETTO:-0500
TZNAME:CDT
DTSTART:20240310T080000
END:DAYLIGHT
BEGIN:STANDARD
TZOFFSETFROM:-0500
TZOFFSETTO:-0600
TZNAME:CST
DTSTART:20241103T070000
END:STANDARD
BEGIN:DAYLIGHT
TZOFFSETFROM:-0600
TZOFFSETTO:-0500
TZNAME:CDT
DTSTART:20250309T080000
END:DAYLIGHT
BEGIN:STANDARD
TZOFFSETFROM:-0500
TZOFFSETTO:-0600
TZNAME:CST
DTSTART:20251102T070000
END:STANDARD
BEGIN:DAYLIGHT
TZOFFSETFROM:-0600
TZOFFSETTO:-0500
TZNAME:CDT
DTSTART:20260308T080000
END:DAYLIGHT
BEGIN:STANDARD
TZOFFSETFROM:-0500
TZOFFSETTO:-0600
TZNAME:CST
DTSTART:20261101T070000
END:STANDARD
END:VTIMEZONE
BEGIN:VEVENT
DTSTART;VALUE=DATE:20250901
DTEND;VALUE=DATE:20250902
DTSTAMP:20260424T214436
CREATED:20250819T201705Z
LAST-MODIFIED:20250819T201705Z
UID:25756-1756684800-1756771199@lupinelane.com
SUMMARY:Labor Day
DESCRIPTION:
URL:https://lupinelane.com/event/labor-day/
CATEGORIES:Holidays (Closed)
END:VEVENT
BEGIN:VEVENT
DTSTART;VALUE=DATE:20250829
DTEND;VALUE=DATE:20250830
DTSTAMP:20260424T214436
CREATED:20250819T200314Z
LAST-MODIFIED:20250819T200314Z
UID:25755-1756425600-1756511999@lupinelane.com
SUMMARY:Homemade Marinara and Cheese Pizza\, Spinach Salad with Pear and FetaSnack: Fresh Sliced Apples
DESCRIPTION:
URL:https://lupinelane.com/event/homemade-marinara-and-cheese-pizza-spinach-salad-with-pear-and-fetasnack-fresh-sliced-apples/
CATEGORIES:Lunch
END:VEVENT
BEGIN:VEVENT
DTSTART;VALUE=DATE:20250828
DTEND;VALUE=DATE:20250829
DTSTAMP:20260424T214436
CREATED:20250819T200313Z
LAST-MODIFIED:20250819T200313Z
UID:25754-1756339200-1756425599@lupinelane.com
SUMMARY:Fajita Chicken Tacos\, Spanish Rice\, Roasted VeggiesSnack: Cucumbers with Cilantro Pepita Dip
DESCRIPTION:
URL:https://lupinelane.com/event/fajita-chicken-tacos-spanish-rice-roasted-veggiessnack-cucumbers-with-cilantro-pepita-dip/
CATEGORIES:Lunch
END:VEVENT
BEGIN:VEVENT
DTSTART;VALUE=DATE:20250827
DTEND;VALUE=DATE:20250828
DTSTAMP:20260424T214436
CREATED:20250819T200311Z
LAST-MODIFIED:20250819T200311Z
UID:25753-1756252800-1756339199@lupinelane.com
SUMMARY:Mini Bagels and Cream Cheese\, Homemade Marmalade\, Bacon\, WatermelonSnack: Bananas
DESCRIPTION:
URL:https://lupinelane.com/event/mini-bagels-and-cream-cheese-homemade-marmalade-bacon-watermelonsnack-bananas/
CATEGORIES:Lunch
END:VEVENT
BEGIN:VEVENT
DTSTART;VALUE=DATE:20250826
DTEND;VALUE=DATE:20250827
DTSTAMP:20260424T214436
CREATED:20250819T200309Z
LAST-MODIFIED:20250819T200309Z
UID:25752-1756166400-1756252799@lupinelane.com
SUMMARY:Black Bean and Cheese Burritos\, Roasted Corn Salsa\, Shredded Romaine LettuceSnack: Pretzels with Homemade Hummus
DESCRIPTION:
URL:https://lupinelane.com/event/black-bean-and-cheese-burritos-roasted-corn-salsa-shredded-romaine-lettucesnack-pretzels-with-homemade-hummus/
CATEGORIES:Lunch
END:VEVENT
BEGIN:VEVENT
DTSTART;VALUE=DATE:20250825
DTEND;VALUE=DATE:20250826
DTSTAMP:20260424T214436
CREATED:20250819T200307Z
LAST-MODIFIED:20250819T200307Z
UID:25751-1756080000-1756166399@lupinelane.com
SUMMARY:Fettuccini Alfredo\, Roasted BroccoliSnack: Oranges
DESCRIPTION:
URL:https://lupinelane.com/event/fettuccini-alfredo-roasted-broccolisnack-oranges/
CATEGORIES:Lunch
END:VEVENT
BEGIN:VEVENT
DTSTART;TZID=America/Chicago:20250822T090000
DTEND;TZID=America/Chicago:20250822T140000
DTSTAMP:20260424T214436
CREATED:20250619T070309Z
LAST-MODIFIED:20250619T070309Z
UID:24782-1755853200-1755871200@lupinelane.com
SUMMARY:Sport Camp: August Staff Development Week
DESCRIPTION:
URL:https://lupinelane.com/event/sport-camp-august-staff-development-week-5/
CATEGORIES:Camps
END:VEVENT
BEGIN:VEVENT
DTSTART;TZID=America/Chicago:20250821T090000
DTEND;TZID=America/Chicago:20250821T140000
DTSTAMP:20260424T214436
CREATED:20250619T070308Z
LAST-MODIFIED:20250619T070308Z
UID:24781-1755766800-1755784800@lupinelane.com
SUMMARY:Sport Camp: August Staff Development Week
DESCRIPTION:
URL:https://lupinelane.com/event/sport-camp-august-staff-development-week-4/
CATEGORIES:Camps
END:VEVENT
BEGIN:VEVENT
DTSTART;TZID=America/Chicago:20250820T090000
DTEND;TZID=America/Chicago:20250820T140000
DTSTAMP:20260424T214436
CREATED:20250619T070307Z
LAST-MODIFIED:20250619T070307Z
UID:24780-1755680400-1755698400@lupinelane.com
SUMMARY:Sport Camp: August Staff Development Week
DESCRIPTION:
URL:https://lupinelane.com/event/sport-camp-august-staff-development-week-3/
CATEGORIES:Camps
END:VEVENT
BEGIN:VEVENT
DTSTART;TZID=America/Chicago:20250819T090000
DTEND;TZID=America/Chicago:20250819T140000
DTSTAMP:20260424T214436
CREATED:20250619T070305Z
LAST-MODIFIED:20250619T070305Z
UID:24779-1755594000-1755612000@lupinelane.com
SUMMARY:Sport Camp: August Staff Development Week
DESCRIPTION:
URL:https://lupinelane.com/event/sport-camp-august-staff-development-week-2/
CATEGORIES:Camps
END:VEVENT
BEGIN:VEVENT
DTSTART;TZID=America/Chicago:20250818T090000
DTEND;TZID=America/Chicago:20250818T140000
DTSTAMP:20260424T214436
CREATED:20250619T070304Z
LAST-MODIFIED:20250619T070304Z
UID:24778-1755507600-1755525600@lupinelane.com
SUMMARY:Sport Camp: August Staff Development Week
DESCRIPTION:
URL:https://lupinelane.com/event/sport-camp-august-staff-development-week/
CATEGORIES:Camps
END:VEVENT
BEGIN:VEVENT
DTSTART;TZID=America/Chicago:20250815T090000
DTEND;TZID=America/Chicago:20250815T140000
DTSTAMP:20260424T214436
CREATED:20250809T070105Z
LAST-MODIFIED:20250809T070105Z
UID:25705-1755248400-1755266400@lupinelane.com
SUMMARY:A Journey Through Time: The Future is Ours! - Space and Beyond
DESCRIPTION:
URL:https://lupinelane.com/event/a-journey-through-time-the-future-is-ours-space-and-beyond-10/
CATEGORIES:Camps
END:VEVENT
BEGIN:VEVENT
DTSTART;TZID=America/Chicago:20250815T090000
DTEND;TZID=America/Chicago:20250815T140000
DTSTAMP:20260424T214436
CREATED:20250428T152938Z
LAST-MODIFIED:20250428T152938Z
UID:23462-1755248400-1755266400@lupinelane.com
SUMMARY:A Journey Through Time: The Future is Ours! - Space and Beyond
DESCRIPTION:
URL:https://lupinelane.com/event/a-journey-through-time-the-future-is-ours-space-and-beyond-5/
CATEGORIES:Camps
END:VEVENT
BEGIN:VEVENT
DTSTART;TZID=America/Chicago:20250815T080000
DTEND;TZID=America/Chicago:20250815T120000
DTSTAMP:20260424T214436
CREATED:20250220T080339Z
LAST-MODIFIED:20250220T080339Z
UID:22887-1755244800-1755259200@lupinelane.com
SUMMARY:teset
DESCRIPTION:
URL:https://lupinelane.com/event/teset-5/
CATEGORIES:Camps
END:VEVENT
BEGIN:VEVENT
DTSTART;TZID=America/Chicago:20250814T090000
DTEND;TZID=America/Chicago:20250814T140000
DTSTAMP:20260424T214436
CREATED:20250809T070104Z
LAST-MODIFIED:20250809T070104Z
UID:25704-1755162000-1755180000@lupinelane.com
SUMMARY:A Journey Through Time: The Future is Ours! - Space and Beyond
DESCRIPTION:
URL:https://lupinelane.com/event/a-journey-through-time-the-future-is-ours-space-and-beyond-9/
CATEGORIES:Camps
END:VEVENT
BEGIN:VEVENT
DTSTART;TZID=America/Chicago:20250814T090000
DTEND;TZID=America/Chicago:20250814T140000
DTSTAMP:20260424T214436
CREATED:20250428T152937Z
LAST-MODIFIED:20250428T152937Z
UID:23461-1755162000-1755180000@lupinelane.com
SUMMARY:A Journey Through Time: The Future is Ours! - Space and Beyond
DESCRIPTION:
URL:https://lupinelane.com/event/a-journey-through-time-the-future-is-ours-space-and-beyond-4/
CATEGORIES:Camps
END:VEVENT
BEGIN:VEVENT
DTSTART;TZID=America/Chicago:20250814T080000
DTEND;TZID=America/Chicago:20250814T120000
DTSTAMP:20260424T214436
CREATED:20250220T080338Z
LAST-MODIFIED:20250220T080338Z
UID:22886-1755158400-1755172800@lupinelane.com
SUMMARY:teset
DESCRIPTION:
URL:https://lupinelane.com/event/teset-4/
CATEGORIES:Camps
END:VEVENT
BEGIN:VEVENT
DTSTART;TZID=America/Chicago:20250813T090000
DTEND;TZID=America/Chicago:20250813T140000
DTSTAMP:20260424T214436
CREATED:20250809T070103Z
LAST-MODIFIED:20250809T070103Z
UID:25703-1755075600-1755093600@lupinelane.com
SUMMARY:A Journey Through Time: The Future is Ours! - Space and Beyond
DESCRIPTION:
URL:https://lupinelane.com/event/a-journey-through-time-the-future-is-ours-space-and-beyond-8/
CATEGORIES:Camps
END:VEVENT
BEGIN:VEVENT
DTSTART;TZID=America/Chicago:20250813T090000
DTEND;TZID=America/Chicago:20250813T140000
DTSTAMP:20260424T214436
CREATED:20250428T152936Z
LAST-MODIFIED:20250428T152936Z
UID:23460-1755075600-1755093600@lupinelane.com
SUMMARY:A Journey Through Time: The Future is Ours! - Space and Beyond
DESCRIPTION:
URL:https://lupinelane.com/event/a-journey-through-time-the-future-is-ours-space-and-beyond-3/
CATEGORIES:Camps
END:VEVENT
BEGIN:VEVENT
DTSTART;TZID=America/Chicago:20250813T080000
DTEND;TZID=America/Chicago:20250813T120000
DTSTAMP:20260424T214436
CREATED:20250220T080337Z
LAST-MODIFIED:20250220T080337Z
UID:22885-1755072000-1755086400@lupinelane.com
SUMMARY:teset
DESCRIPTION:
URL:https://lupinelane.com/event/teset-3/
CATEGORIES:Camps
END:VEVENT
BEGIN:VEVENT
DTSTART;TZID=America/Chicago:20250812T090000
DTEND;TZID=America/Chicago:20250812T140000
DTSTAMP:20260424T214436
CREATED:20250809T070101Z
LAST-MODIFIED:20250809T070101Z
UID:25702-1754989200-1755007200@lupinelane.com
SUMMARY:A Journey Through Time: The Future is Ours! - Space and Beyond
DESCRIPTION:
URL:https://lupinelane.com/event/a-journey-through-time-the-future-is-ours-space-and-beyond-7/
CATEGORIES:Camps
END:VEVENT
BEGIN:VEVENT
DTSTART;TZID=America/Chicago:20250812T090000
DTEND;TZID=America/Chicago:20250812T140000
DTSTAMP:20260424T214436
CREATED:20250428T152935Z
LAST-MODIFIED:20250428T152935Z
UID:23459-1754989200-1755007200@lupinelane.com
SUMMARY:A Journey Through Time: The Future is Ours! - Space and Beyond
DESCRIPTION:
URL:https://lupinelane.com/event/a-journey-through-time-the-future-is-ours-space-and-beyond-2/
CATEGORIES:Camps
END:VEVENT
BEGIN:VEVENT
DTSTART;TZID=America/Chicago:20250812T080000
DTEND;TZID=America/Chicago:20250812T120000
DTSTAMP:20260424T214436
CREATED:20250220T080336Z
LAST-MODIFIED:20250220T080336Z
UID:22884-1754985600-1755000000@lupinelane.com
SUMMARY:teset
DESCRIPTION:
URL:https://lupinelane.com/event/teset-2/
CATEGORIES:Camps
END:VEVENT
BEGIN:VEVENT
DTSTART;TZID=America/Chicago:20250811T090000
DTEND;TZID=America/Chicago:20250811T140000
DTSTAMP:20260424T214436
CREATED:20250809T070100Z
LAST-MODIFIED:20250809T070100Z
UID:25701-1754902800-1754920800@lupinelane.com
SUMMARY:A Journey Through Time: The Future is Ours! - Space and Beyond
DESCRIPTION:
URL:https://lupinelane.com/event/a-journey-through-time-the-future-is-ours-space-and-beyond-6/
CATEGORIES:Camps
END:VEVENT
BEGIN:VEVENT
DTSTART;TZID=America/Chicago:20250811T090000
DTEND;TZID=America/Chicago:20250811T140000
DTSTAMP:20260424T214436
CREATED:20250428T152934Z
LAST-MODIFIED:20250428T152934Z
UID:23458-1754902800-1754920800@lupinelane.com
SUMMARY:A Journey Through Time: The Future is Ours! - Space and Beyond
DESCRIPTION:
URL:https://lupinelane.com/event/a-journey-through-time-the-future-is-ours-space-and-beyond/
CATEGORIES:Camps
END:VEVENT
BEGIN:VEVENT
DTSTART;TZID=America/Chicago:20250811T080000
DTEND;TZID=America/Chicago:20250811T120000
DTSTAMP:20260424T214436
CREATED:20250220T080335Z
LAST-MODIFIED:20250220T080335Z
UID:22883-1754899200-1754913600@lupinelane.com
SUMMARY:teset
DESCRIPTION:
URL:https://lupinelane.com/event/teset/
CATEGORIES:Camps
END:VEVENT
BEGIN:VEVENT
DTSTART;TZID=America/Chicago:20250808T090000
DTEND;TZID=America/Chicago:20250808T140000
DTSTAMP:20260424T214436
CREATED:20250803T070107Z
LAST-MODIFIED:20250803T070107Z
UID:25685-1754643600-1754661600@lupinelane.com
SUMMARY:A Journey Through Time: Through the Decades - Flappers to Flower Power
DESCRIPTION:
URL:https://lupinelane.com/event/a-journey-through-time-through-the-decades-flappers-to-flower-power-10/
CATEGORIES:Camps
END:VEVENT
BEGIN:VEVENT
DTSTART;TZID=America/Chicago:20250808T090000
DTEND;TZID=America/Chicago:20250808T140000
DTSTAMP:20260424T214436
CREATED:20250801T070141Z
LAST-MODIFIED:20250801T070141Z
UID:25666-1754643600-1754661600@lupinelane.com
SUMMARY:Genre Camp: Elementary 101
DESCRIPTION:
URL:https://lupinelane.com/event/genre-camp-elementary-101-19/
CATEGORIES:Camps
END:VEVENT
BEGIN:VEVENT
DTSTART;TZID=America/Chicago:20250808T090000
DTEND;TZID=America/Chicago:20250808T140000
DTSTAMP:20260424T214436
CREATED:20250428T152933Z
LAST-MODIFIED:20250428T152933Z
UID:23457-1754643600-1754661600@lupinelane.com
SUMMARY:A Journey Through Time: Through the Decades - Flappers to Flower Power
DESCRIPTION:
URL:https://lupinelane.com/event/a-journey-through-time-through-the-decades-flappers-to-flower-power-5/
CATEGORIES:Camps
END:VEVENT
BEGIN:VEVENT
DTSTART;TZID=America/Chicago:20250808T090000
DTEND;TZID=America/Chicago:20250808T140000
DTSTAMP:20260424T214436
CREATED:20250306T080032Z
LAST-MODIFIED:20250306T080032Z
UID:23184-1754643600-1754661600@lupinelane.com
SUMMARY:Genre Camp: Elementary 101
DESCRIPTION:
URL:https://lupinelane.com/event/genre-camp-elementary-101-5/
CATEGORIES:Camps
END:VEVENT
END:VCALENDAR