BEGIN:VCALENDAR
VERSION:2.0
PRODID:-//Lupine Lane - ECPv6.15.20//NONSGML v1.0//EN
CALSCALE:GREGORIAN
METHOD:PUBLISH
X-ORIGINAL-URL:https://lupinelane.com
X-WR-CALDESC:Events for Lupine Lane
REFRESH-INTERVAL;VALUE=DURATION:PT1H
X-Robots-Tag:noindex
X-PUBLISHED-TTL:PT1H
BEGIN:VTIMEZONE
TZID:America/Chicago
BEGIN:DAYLIGHT
TZOFFSETFROM:-0600
TZOFFSETTO:-0500
TZNAME:CDT
DTSTART:20240310T080000
END:DAYLIGHT
BEGIN:STANDARD
TZOFFSETFROM:-0500
TZOFFSETTO:-0600
TZNAME:CST
DTSTART:20241103T070000
END:STANDARD
BEGIN:DAYLIGHT
TZOFFSETFROM:-0600
TZOFFSETTO:-0500
TZNAME:CDT
DTSTART:20250309T080000
END:DAYLIGHT
BEGIN:STANDARD
TZOFFSETFROM:-0500
TZOFFSETTO:-0600
TZNAME:CST
DTSTART:20251102T070000
END:STANDARD
BEGIN:DAYLIGHT
TZOFFSETFROM:-0600
TZOFFSETTO:-0500
TZNAME:CDT
DTSTART:20260308T080000
END:DAYLIGHT
BEGIN:STANDARD
TZOFFSETFROM:-0500
TZOFFSETTO:-0600
TZNAME:CST
DTSTART:20261101T070000
END:STANDARD
END:VTIMEZONE
BEGIN:VEVENT
DTSTART;TZID=America/Chicago:20251114T150000
DTEND;TZID=America/Chicago:20251114T154500
DTSTAMP:20260424T185024
CREATED:20250917T070308Z
LAST-MODIFIED:20250917T070308Z
UID:26052-1763132400-1763135100@lupinelane.com
SUMMARY:Full STEAM Ahead!
DESCRIPTION:
URL:https://lupinelane.com/event/full-steam-ahead-31/
CATEGORIES:Activities
END:VEVENT
BEGIN:VEVENT
DTSTART;VALUE=DATE:20251117
DTEND;VALUE=DATE:20251118
DTSTAMP:20260424T185024
CREATED:20251017T164100Z
LAST-MODIFIED:20251017T164100Z
UID:26150-1763337600-1763423999@lupinelane.com
SUMMARY:Pasta Salad\, Green Beans with TomatoesSnack: Cucumbers
DESCRIPTION:
URL:https://lupinelane.com/event/pasta-salad-green-beans-with-tomatoessnack-cucumbers/
CATEGORIES:Lunch
END:VEVENT
BEGIN:VEVENT
DTSTART;TZID=America/Chicago:20251117T150000
DTEND;TZID=America/Chicago:20251117T154500
DTSTAMP:20260424T185024
CREATED:20251105T080253Z
LAST-MODIFIED:20251105T080253Z
UID:26193-1763391600-1763394300@lupinelane.com
SUMMARY:The Heart of Art
DESCRIPTION:
URL:https://lupinelane.com/event/the-heart-of-art-57/
CATEGORIES:Activities
END:VEVENT
BEGIN:VEVENT
DTSTART;TZID=America/Chicago:20251117T150000
DTEND;TZID=America/Chicago:20251117T154500
DTSTAMP:20260424T185024
CREATED:20251228T080441Z
LAST-MODIFIED:20251228T080441Z
UID:26288-1763391600-1763394300@lupinelane.com
SUMMARY:Soccer Shots
DESCRIPTION:
URL:https://lupinelane.com/event/soccer-shots-55/
CATEGORIES:Activities
END:VEVENT
BEGIN:VEVENT
DTSTART;VALUE=DATE:20251118
DTEND;VALUE=DATE:20251119
DTSTAMP:20260424T185024
CREATED:20251017T164102Z
LAST-MODIFIED:20251017T164102Z
UID:26151-1763424000-1763510399@lupinelane.com
SUMMARY:Fall Flavored Quesadillas\, Brown Rice\, RomaineSnack: Oranges
DESCRIPTION:
URL:https://lupinelane.com/event/fall-flavored-quesadillas-brown-rice-romainesnack-oranges/
CATEGORIES:Lunch
END:VEVENT
BEGIN:VEVENT
DTSTART;TZID=America/Chicago:20251118T150000
DTEND;TZID=America/Chicago:20251118T154500
DTSTAMP:20260424T185024
CREATED:20250907T070501Z
LAST-MODIFIED:20250907T070501Z
UID:25940-1763478000-1763480700@lupinelane.com
SUMMARY:Yoga: Mindfulness and Movement
DESCRIPTION:
URL:https://lupinelane.com/event/yoga-mindfulness-and-movement-59/
CATEGORIES:Activities
END:VEVENT
BEGIN:VEVENT
DTSTART;TZID=America/Chicago:20251118T150000
DTEND;TZID=America/Chicago:20251118T154500
DTSTAMP:20260424T185024
CREATED:20250907T070553Z
LAST-MODIFIED:20250907T070553Z
UID:25984-1763478000-1763480700@lupinelane.com
SUMMARY:Austin Wildcats Wigglers Basketball
DESCRIPTION:
URL:https://lupinelane.com/event/austin-wildcats-wigglers-basketball-10/
CATEGORIES:Activities
END:VEVENT
BEGIN:VEVENT
DTSTART;VALUE=DATE:20251119
DTEND;VALUE=DATE:20251120
DTSTAMP:20260424T185024
CREATED:20251017T164103Z
LAST-MODIFIED:20251017T164103Z
UID:26152-1763510400-1763596799@lupinelane.com
SUMMARY:South African Picnic Bread (Egg\, Bacon\, Cheese)\, Red Pepper Hummus\, and CarrotsSnack: Apple Pie Smoothies
DESCRIPTION:
URL:https://lupinelane.com/event/south-african-picnic-bread-egg-bacon-cheese-red-pepper-hummus-and-carrotssnack-apple-pie-smoothies/
CATEGORIES:Lunch
END:VEVENT
BEGIN:VEVENT
DTSTART;TZID=America/Chicago:20251119T150000
DTEND;TZID=America/Chicago:20251119T154500
DTSTAMP:20260424T185024
CREATED:20250727T070349Z
LAST-MODIFIED:20250727T070349Z
UID:25542-1763564400-1763567100@lupinelane.com
SUMMARY:Ballet with KinderDance
DESCRIPTION:
URL:https://lupinelane.com/event/ballet-with-kinderdance-11/
CATEGORIES:Activities
END:VEVENT
BEGIN:VEVENT
DTSTART;TZID=America/Chicago:20251119T150000
DTEND;TZID=America/Chicago:20251119T154500
DTSTAMP:20260424T185024
CREATED:20250727T070444Z
LAST-MODIFIED:20250727T070444Z
UID:25588-1763564400-1763567100@lupinelane.com
SUMMARY:Champs Express Tumbling
DESCRIPTION:
URL:https://lupinelane.com/event/champs-express-tumbling-25/
CATEGORIES:Activities
END:VEVENT
BEGIN:VEVENT
DTSTART;VALUE=DATE:20251120
DTEND;VALUE=DATE:20251121
DTSTAMP:20260424T185024
CREATED:20251017T164104Z
LAST-MODIFIED:20251017T164104Z
UID:26153-1763596800-1763683199@lupinelane.com
SUMMARY:Doro Wat (Ethiopian Chicken Stew)\, Cornbread\, BroccoliSnack: Cranberry Granola Bars
DESCRIPTION:
URL:https://lupinelane.com/event/doro-wat-ethiopian-chicken-stew-cornbread-broccolisnack-cranberry-granola-bars/
CATEGORIES:Lunch
END:VEVENT
BEGIN:VEVENT
DTSTART;TZID=America/Chicago:20251120T150000
DTEND;TZID=America/Chicago:20251120T154500
DTSTAMP:20260424T185024
CREATED:20250826T070254Z
LAST-MODIFIED:20250826T070254Z
UID:25800-1763650800-1763653500@lupinelane.com
SUMMARY:Little Chefs Club
DESCRIPTION:
URL:https://lupinelane.com/event/little-chefs-club-11/
CATEGORIES:Activities
END:VEVENT
BEGIN:VEVENT
DTSTART;TZID=America/Chicago:20251120T150000
DTEND;TZID=America/Chicago:20251120T154500
DTSTAMP:20260424T185024
CREATED:20250828T070327Z
LAST-MODIFIED:20250828T070327Z
UID:25848-1763650800-1763653500@lupinelane.com
SUMMARY:Mis Sueños: Spanish Language and Culture
DESCRIPTION:
URL:https://lupinelane.com/event/mis-suenos-spanish-language-and-culture-36/
CATEGORIES:Activities
END:VEVENT
BEGIN:VEVENT
DTSTART;TZID=America/Chicago:20251120T150000
DTEND;TZID=America/Chicago:20251120T154500
DTSTAMP:20260424T185024
CREATED:20250916T070321Z
LAST-MODIFIED:20250916T070321Z
UID:26019-1763650800-1763653500@lupinelane.com
SUMMARY:Sportball
DESCRIPTION:
URL:https://lupinelane.com/event/sportball-58/
CATEGORIES:Activities
END:VEVENT
BEGIN:VEVENT
DTSTART;VALUE=DATE:20251121
DTEND;VALUE=DATE:20251122
DTSTAMP:20260424T185024
CREATED:20251017T164106Z
LAST-MODIFIED:20251017T164106Z
UID:26154-1763683200-1763769599@lupinelane.com
SUMMARY:Feast of Gratitude: Turkey\, Ham\, Stuffing\, Pot Luck Sides Provided By FamiliesSnack: Granola Parfait
DESCRIPTION:
URL:https://lupinelane.com/event/feast-of-gratitude-turkey-ham-stuffing-pot-luck-sides-provided-by-familiessnack-granola-parfait/
CATEGORIES:Lunch
END:VEVENT
BEGIN:VEVENT
DTSTART;TZID=America/Chicago:20251121T150000
DTEND;TZID=America/Chicago:20251121T154500
DTSTAMP:20260424T185024
CREATED:20250916T070335Z
LAST-MODIFIED:20250916T070335Z
UID:26029-1763737200-1763739900@lupinelane.com
SUMMARY:NinjaPlay with KidoKinetics
DESCRIPTION:
URL:https://lupinelane.com/event/ninjaplay-with-kidokinetics-18/
CATEGORIES:Activities
END:VEVENT
BEGIN:VEVENT
DTSTART;TZID=America/Chicago:20251121T150000
DTEND;TZID=America/Chicago:20251121T154500
DTSTAMP:20260424T185024
CREATED:20250917T070310Z
LAST-MODIFIED:20250917T070310Z
UID:26053-1763737200-1763739900@lupinelane.com
SUMMARY:Full STEAM Ahead!
DESCRIPTION:
URL:https://lupinelane.com/event/full-steam-ahead-32/
CATEGORIES:Activities
END:VEVENT
BEGIN:VEVENT
DTSTART;VALUE=DATE:20251124
DTEND;VALUE=DATE:20251125
DTSTAMP:20260424T185024
CREATED:20251017T164107Z
LAST-MODIFIED:20251017T164107Z
UID:26155-1763942400-1764028799@lupinelane.com
SUMMARY:Thanksgiving Holiday
DESCRIPTION:
URL:https://lupinelane.com/event/thanksgiving-holiday/
CATEGORIES:Holidays (Closed)
END:VEVENT
BEGIN:VEVENT
DTSTART;VALUE=DATE:20251125
DTEND;VALUE=DATE:20251126
DTSTAMP:20260424T185024
CREATED:20251017T164109Z
LAST-MODIFIED:20251017T164109Z
UID:26156-1764028800-1764115199@lupinelane.com
SUMMARY:Thanksgiving Holiday
DESCRIPTION:
URL:https://lupinelane.com/event/thanksgiving-holiday-2/
CATEGORIES:Holidays (Closed)
END:VEVENT
BEGIN:VEVENT
DTSTART;VALUE=DATE:20251126
DTEND;VALUE=DATE:20251127
DTSTAMP:20260424T185024
CREATED:20251017T164110Z
LAST-MODIFIED:20251017T164110Z
UID:26157-1764115200-1764201599@lupinelane.com
SUMMARY:Thanksgiving Holiday
DESCRIPTION:
URL:https://lupinelane.com/event/thanksgiving-holiday-3/
CATEGORIES:Holidays (Closed)
END:VEVENT
BEGIN:VEVENT
DTSTART;VALUE=DATE:20251127
DTEND;VALUE=DATE:20251128
DTSTAMP:20260424T185024
CREATED:20251017T164112Z
LAST-MODIFIED:20251017T164112Z
UID:26158-1764201600-1764287999@lupinelane.com
SUMMARY:Thanksgiving Holiday
DESCRIPTION:
URL:https://lupinelane.com/event/thanksgiving-holiday-4/
CATEGORIES:Holidays (Closed)
END:VEVENT
BEGIN:VEVENT
DTSTART;VALUE=DATE:20251128
DTEND;VALUE=DATE:20251129
DTSTAMP:20260424T185024
CREATED:20251017T164113Z
LAST-MODIFIED:20251017T164113Z
UID:26159-1764288000-1764374399@lupinelane.com
SUMMARY:Thanksgiving Holiday
DESCRIPTION:
URL:https://lupinelane.com/event/thanksgiving-holiday-5/
CATEGORIES:Holidays (Closed)
END:VEVENT
BEGIN:VEVENT
DTSTART;TZID=America/Chicago:20251201T150000
DTEND;TZID=America/Chicago:20251201T154500
DTSTAMP:20260424T185024
CREATED:20251105T080254Z
LAST-MODIFIED:20251105T080254Z
UID:26194-1764601200-1764603900@lupinelane.com
SUMMARY:The Heart of Art
DESCRIPTION:
URL:https://lupinelane.com/event/the-heart-of-art-58/
CATEGORIES:Activities
END:VEVENT
BEGIN:VEVENT
DTSTART;TZID=America/Chicago:20251201T150000
DTEND;TZID=America/Chicago:20251201T154500
DTSTAMP:20260424T185024
CREATED:20251228T080442Z
LAST-MODIFIED:20251228T080442Z
UID:26289-1764601200-1764603900@lupinelane.com
SUMMARY:Soccer Shots
DESCRIPTION:
URL:https://lupinelane.com/event/soccer-shots-56/
CATEGORIES:Activities
END:VEVENT
BEGIN:VEVENT
DTSTART;TZID=America/Chicago:20251202T150000
DTEND;TZID=America/Chicago:20251202T154500
DTSTAMP:20260424T185024
CREATED:20250907T070502Z
LAST-MODIFIED:20250907T070502Z
UID:25941-1764687600-1764690300@lupinelane.com
SUMMARY:Yoga: Mindfulness and Movement
DESCRIPTION:
URL:https://lupinelane.com/event/yoga-mindfulness-and-movement-60/
CATEGORIES:Activities
END:VEVENT
BEGIN:VEVENT
DTSTART;TZID=America/Chicago:20251202T150000
DTEND;TZID=America/Chicago:20251202T154500
DTSTAMP:20260424T185024
CREATED:20250907T070554Z
LAST-MODIFIED:20250907T070554Z
UID:25985-1764687600-1764690300@lupinelane.com
SUMMARY:Austin Wildcats Wigglers Basketball
DESCRIPTION:
URL:https://lupinelane.com/event/austin-wildcats-wigglers-basketball-11/
CATEGORIES:Activities
END:VEVENT
BEGIN:VEVENT
DTSTART;TZID=America/Chicago:20251203T150000
DTEND;TZID=America/Chicago:20251203T154500
DTSTAMP:20260424T185024
CREATED:20250727T070350Z
LAST-MODIFIED:20250727T070350Z
UID:25543-1764774000-1764776700@lupinelane.com
SUMMARY:Ballet with KinderDance
DESCRIPTION:
URL:https://lupinelane.com/event/ballet-with-kinderdance-12/
CATEGORIES:Activities
END:VEVENT
BEGIN:VEVENT
DTSTART;TZID=America/Chicago:20251203T150000
DTEND;TZID=America/Chicago:20251203T154500
DTSTAMP:20260424T185024
CREATED:20250727T070445Z
LAST-MODIFIED:20250727T070445Z
UID:25589-1764774000-1764776700@lupinelane.com
SUMMARY:Champs Express Tumbling
DESCRIPTION:
URL:https://lupinelane.com/event/champs-express-tumbling-26/
CATEGORIES:Activities
END:VEVENT
BEGIN:VEVENT
DTSTART;TZID=America/Chicago:20251204T150000
DTEND;TZID=America/Chicago:20251204T154500
DTSTAMP:20260424T185024
CREATED:20250826T070255Z
LAST-MODIFIED:20250826T070255Z
UID:25801-1764860400-1764863100@lupinelane.com
SUMMARY:Little Chefs Club
DESCRIPTION:
URL:https://lupinelane.com/event/little-chefs-club-12/
CATEGORIES:Activities
END:VEVENT
BEGIN:VEVENT
DTSTART;TZID=America/Chicago:20251204T150000
DTEND;TZID=America/Chicago:20251204T154500
DTSTAMP:20260424T185024
CREATED:20250828T070328Z
LAST-MODIFIED:20250828T070328Z
UID:25849-1764860400-1764863100@lupinelane.com
SUMMARY:Mis Sueños: Spanish Language and Culture
DESCRIPTION:
URL:https://lupinelane.com/event/mis-suenos-spanish-language-and-culture-37/
CATEGORIES:Activities
END:VEVENT
END:VCALENDAR