BEGIN:VCALENDAR
VERSION:2.0
PRODID:-//Lupine Lane - ECPv6.15.20//NONSGML v1.0//EN
CALSCALE:GREGORIAN
METHOD:PUBLISH
X-WR-CALNAME:Lupine Lane
X-ORIGINAL-URL:https://lupinelane.com
X-WR-CALDESC:Events for Lupine Lane
REFRESH-INTERVAL;VALUE=DURATION:PT1H
X-Robots-Tag:noindex
X-PUBLISHED-TTL:PT1H
BEGIN:VTIMEZONE
TZID:America/Chicago
BEGIN:DAYLIGHT
TZOFFSETFROM:-0600
TZOFFSETTO:-0500
TZNAME:CDT
DTSTART:20250309T080000
END:DAYLIGHT
BEGIN:STANDARD
TZOFFSETFROM:-0500
TZOFFSETTO:-0600
TZNAME:CST
DTSTART:20251102T070000
END:STANDARD
BEGIN:DAYLIGHT
TZOFFSETFROM:-0600
TZOFFSETTO:-0500
TZNAME:CDT
DTSTART:20260308T080000
END:DAYLIGHT
BEGIN:STANDARD
TZOFFSETFROM:-0500
TZOFFSETTO:-0600
TZNAME:CST
DTSTART:20261101T070000
END:STANDARD
BEGIN:DAYLIGHT
TZOFFSETFROM:-0600
TZOFFSETTO:-0500
TZNAME:CDT
DTSTART:20270314T080000
END:DAYLIGHT
BEGIN:STANDARD
TZOFFSETFROM:-0500
TZOFFSETTO:-0600
TZNAME:CST
DTSTART:20271107T070000
END:STANDARD
END:VTIMEZONE
BEGIN:VEVENT
DTSTART;VALUE=DATE:20260413
DTEND;VALUE=DATE:20260414
DTSTAMP:20260424T224753
CREATED:20260413T155403Z
LAST-MODIFIED:20260413T155403Z
UID:27443-1776038400-1776124799@lupinelane.com
SUMMARY:Broccoli and Cheese Spaetzle\, Crudete (Carrots\, Broccoli\, Celery)\, Tofu Ranch DipSnack: Oranges
DESCRIPTION:
URL:https://lupinelane.com/event/broccoli-and-cheese-spaetzle-crudete-carrots-broccoli-celery-tofu-ranch-dipsnack-oranges/
CATEGORIES:Lunch
END:VEVENT
BEGIN:VEVENT
DTSTART;TZID=America/Chicago:20260413T150000
DTEND;TZID=America/Chicago:20260413T154500
DTSTAMP:20260424T224753
CREATED:20251228T080455Z
LAST-MODIFIED:20251228T080455Z
UID:26300-1776092400-1776095100@lupinelane.com
SUMMARY:Soccer Shots
DESCRIPTION:
URL:https://lupinelane.com/event/soccer-shots-67/
CATEGORIES:Activities
END:VEVENT
BEGIN:VEVENT
DTSTART;TZID=America/Chicago:20260413T150000
DTEND;TZID=America/Chicago:20260413T154500
DTSTAMP:20260424T224753
CREATED:20251228T080512Z
LAST-MODIFIED:20251228T080512Z
UID:26313-1776092400-1776095100@lupinelane.com
SUMMARY:Little Chefs' Club
DESCRIPTION:
URL:https://lupinelane.com/event/little-chefs-club-22/
CATEGORIES:Activities
END:VEVENT
BEGIN:VEVENT
DTSTART;VALUE=DATE:20260414
DTEND;VALUE=DATE:20260415
DTSTAMP:20260424T224753
CREATED:20260413T155406Z
LAST-MODIFIED:20260413T155406Z
UID:27444-1776124800-1776211199@lupinelane.com
SUMMARY:Cheese Quesadillas\, Spanish Rice\, Citrus Salsa\, RomaineSnack: Acai Berry Smoothies
DESCRIPTION:
URL:https://lupinelane.com/event/cheese-quesadillas-spanish-rice-citrus-salsa-romainesnack-acai-berry-smoothies/
CATEGORIES:Lunch
END:VEVENT
BEGIN:VEVENT
DTSTART;TZID=America/Chicago:20260414T150000
DTEND;TZID=America/Chicago:20260414T154500
DTSTAMP:20260424T224753
CREATED:20260102T080326Z
LAST-MODIFIED:20260102T080326Z
UID:26445-1776178800-1776181500@lupinelane.com
SUMMARY:StoryPlay Theatre
DESCRIPTION:
URL:https://lupinelane.com/event/storyplay-theatre-11/
CATEGORIES:Activities
END:VEVENT
BEGIN:VEVENT
DTSTART;TZID=America/Chicago:20260414T150000
DTEND;TZID=America/Chicago:20260414T154500
DTSTAMP:20260424T224753
CREATED:20260117T080319Z
LAST-MODIFIED:20260117T080319Z
UID:26478-1776178800-1776181500@lupinelane.com
SUMMARY:Austin Wildcats Wigglers Basketball
DESCRIPTION:
URL:https://lupinelane.com/event/austin-wildcats-wigglers-basketball-23/
CATEGORIES:Activities
END:VEVENT
BEGIN:VEVENT
DTSTART;VALUE=DATE:20260415
DTEND;VALUE=DATE:20260416
DTSTAMP:20260424T224753
CREATED:20260413T155407Z
LAST-MODIFIED:20260413T155407Z
UID:27445-1776211200-1776297599@lupinelane.com
SUMMARY:Soda Bread\, Scrambled Eggs\, Turkey Bacon\, TomatoesSnack: Bananas
DESCRIPTION:
URL:https://lupinelane.com/event/soda-bread-scrambled-eggs-turkey-bacon-tomatoessnack-bananas/
CATEGORIES:Lunch
END:VEVENT
BEGIN:VEVENT
DTSTART;TZID=America/Chicago:20260415T150000
DTEND;TZID=America/Chicago:20260415T154500
DTSTAMP:20260424T224753
CREATED:20251228T080558Z
LAST-MODIFIED:20251228T080558Z
UID:26355-1776265200-1776267900@lupinelane.com
SUMMARY:Ballet with KinderDance
DESCRIPTION:
URL:https://lupinelane.com/event/ballet-with-kinderdance-23/
CATEGORIES:Activities
END:VEVENT
BEGIN:VEVENT
DTSTART;TZID=America/Chicago:20260415T150000
DTEND;TZID=America/Chicago:20260415T154500
DTSTAMP:20260424T224753
CREATED:20260312T070333Z
LAST-MODIFIED:20260312T070333Z
UID:27398-1776265200-1776267900@lupinelane.com
SUMMARY:Champs Express Tumbling
DESCRIPTION:
URL:https://lupinelane.com/event/champs-express-tumbling-37/
CATEGORIES:Activities
END:VEVENT
BEGIN:VEVENT
DTSTART;VALUE=DATE:20260416
DTEND;VALUE=DATE:20260417
DTSTAMP:20260424T224753
CREATED:20260413T155408Z
LAST-MODIFIED:20260413T155408Z
UID:27446-1776297600-1776383999@lupinelane.com
SUMMARY:Bangers & Mash\, Crispy Onions\, Tri-Veggie Medley (Broccoli\, Cauliflower\, Carrots)Snack: Hefezopf (German Sweet Bread)
DESCRIPTION:
URL:https://lupinelane.com/event/bangers-mash-crispy-onions-tri-veggie-medley-broccoli-cauliflower-carrotssnack-hefezopf-german-sweet-bread/
CATEGORIES:Lunch
END:VEVENT
BEGIN:VEVENT
DTSTART;TZID=America/Chicago:20260416T150000
DTEND;TZID=America/Chicago:20260416T154500
DTSTAMP:20260424T224753
CREATED:20251228T080630Z
LAST-MODIFIED:20251228T080630Z
UID:26382-1776351600-1776354300@lupinelane.com
SUMMARY:Mis Sueños: Spanish Language and Culture
DESCRIPTION:
URL:https://lupinelane.com/event/mis-suenos-spanish-language-and-culture-47/
CATEGORIES:Activities
END:VEVENT
BEGIN:VEVENT
DTSTART;TZID=America/Chicago:20260416T150000
DTEND;TZID=America/Chicago:20260416T154500
DTSTAMP:20260424T224753
CREATED:20251228T080646Z
LAST-MODIFIED:20251228T080646Z
UID:26395-1776351600-1776354300@lupinelane.com
SUMMARY:Sportball
DESCRIPTION:
URL:https://lupinelane.com/event/sportball-70/
CATEGORIES:Activities
END:VEVENT
BEGIN:VEVENT
DTSTART;VALUE=DATE:20260417
DTEND;VALUE=DATE:20260418
DTSTAMP:20260424T224753
CREATED:20260413T155409Z
LAST-MODIFIED:20260413T155409Z
UID:27447-1776384000-1776470399@lupinelane.com
SUMMARY:Pizzettes (Valdostana)\, Italian Panzanella SaladSnack: Spring Trailmix
DESCRIPTION:
URL:https://lupinelane.com/event/pizzettes-valdostana-italian-panzanella-saladsnack-spring-trailmix/
CATEGORIES:Lunch
END:VEVENT
BEGIN:VEVENT
DTSTART;TZID=America/Chicago:20260417T150000
DTEND;TZID=America/Chicago:20260417T154500
DTSTAMP:20260424T224753
CREATED:20251228T080659Z
LAST-MODIFIED:20251228T080659Z
UID:26406-1776438000-1776440700@lupinelane.com
SUMMARY:The Heart of Art
DESCRIPTION:
URL:https://lupinelane.com/event/the-heart-of-art-66/
CATEGORIES:Activities
END:VEVENT
BEGIN:VEVENT
DTSTART;TZID=America/Chicago:20260417T150000
DTEND;TZID=America/Chicago:20260417T154500
DTSTAMP:20260424T224753
CREATED:20251228T080712Z
LAST-MODIFIED:20251228T080712Z
UID:26417-1776438000-1776440700@lupinelane.com
SUMMARY:Full STEAM Ahead!
DESCRIPTION:
URL:https://lupinelane.com/event/full-steam-ahead-42/
CATEGORIES:Activities
END:VEVENT
BEGIN:VEVENT
DTSTART;VALUE=DATE:20260420
DTEND;VALUE=DATE:20260421
DTSTAMP:20260424T224753
CREATED:20260413T155411Z
LAST-MODIFIED:20260413T155411Z
UID:27448-1776643200-1776729599@lupinelane.com
SUMMARY:Penne Alfredo\, Roasted BroccoliSnack: Oranges
DESCRIPTION:
URL:https://lupinelane.com/event/penne-alfredo-roasted-broccolisnack-oranges/
CATEGORIES:Lunch
END:VEVENT
BEGIN:VEVENT
DTSTART;TZID=America/Chicago:20260420T150000
DTEND;TZID=America/Chicago:20260420T154500
DTSTAMP:20260424T224753
CREATED:20251228T080457Z
LAST-MODIFIED:20251228T080457Z
UID:26301-1776697200-1776699900@lupinelane.com
SUMMARY:Soccer Shots
DESCRIPTION:
URL:https://lupinelane.com/event/soccer-shots-68/
CATEGORIES:Activities
END:VEVENT
BEGIN:VEVENT
DTSTART;TZID=America/Chicago:20260420T150000
DTEND;TZID=America/Chicago:20260420T154500
DTSTAMP:20260424T224753
CREATED:20251228T080513Z
LAST-MODIFIED:20251228T080513Z
UID:26314-1776697200-1776699900@lupinelane.com
SUMMARY:Little Chefs' Club
DESCRIPTION:
URL:https://lupinelane.com/event/little-chefs-club-23/
CATEGORIES:Activities
END:VEVENT
BEGIN:VEVENT
DTSTART;VALUE=DATE:20260421
DTEND;VALUE=DATE:20260422
DTSTAMP:20260424T224753
CREATED:20260413T155412Z
LAST-MODIFIED:20260413T155412Z
UID:27449-1776729600-1776815999@lupinelane.com
SUMMARY:Irish Tacos\, Corned Pork\, Pickled Cabbage\, Romaine SaladSnack: Applesauce and Granola Parfait
DESCRIPTION:
URL:https://lupinelane.com/event/irish-tacos-corned-pork-pickled-cabbage-romaine-saladsnack-applesauce-and-granola-parfait/
CATEGORIES:Lunch
END:VEVENT
BEGIN:VEVENT
DTSTART;TZID=America/Chicago:20260421T150000
DTEND;TZID=America/Chicago:20260421T154500
DTSTAMP:20260424T224753
CREATED:20260102T080328Z
LAST-MODIFIED:20260102T080328Z
UID:26446-1776783600-1776786300@lupinelane.com
SUMMARY:StoryPlay Theatre
DESCRIPTION:
URL:https://lupinelane.com/event/storyplay-theatre-12/
CATEGORIES:Activities
END:VEVENT
BEGIN:VEVENT
DTSTART;TZID=America/Chicago:20260421T150000
DTEND;TZID=America/Chicago:20260421T154500
DTSTAMP:20260424T224753
CREATED:20260117T080320Z
LAST-MODIFIED:20260117T080320Z
UID:26479-1776783600-1776786300@lupinelane.com
SUMMARY:Austin Wildcats Wigglers Basketball
DESCRIPTION:
URL:https://lupinelane.com/event/austin-wildcats-wigglers-basketball-24/
CATEGORIES:Activities
END:VEVENT
BEGIN:VEVENT
DTSTART;VALUE=DATE:20260422
DTEND;VALUE=DATE:20260423
DTSTAMP:20260424T224753
CREATED:20260413T155414Z
LAST-MODIFIED:20260413T155414Z
UID:27450-1776816000-1776902399@lupinelane.com
SUMMARY:Buttermilk Pancakes\, Bacon\, Pineapple\,
DESCRIPTION:
URL:https://lupinelane.com/event/buttermilk-pancakes-bacon-pineapple/
CATEGORIES:Lunch
END:VEVENT
BEGIN:VEVENT
DTSTART;VALUE=DATE:20260422
DTEND;VALUE=DATE:20260423
DTSTAMP:20260424T224753
CREATED:20260413T155802Z
LAST-MODIFIED:20260413T155802Z
UID:27451-1776816000-1776902399@lupinelane.com
SUMMARY:Buttermilk Pancakes\, Pineapple\, Chickpea ScrambleSnack: Ants on a Log (Celery\, Almond Butter\, Raisins)
DESCRIPTION:
URL:https://lupinelane.com/event/buttermilk-pancakes-pineapple-chickpea-scramblesnack-ants-on-a-log-celery-almond-butter-raisins/
CATEGORIES:Lunch
END:VEVENT
BEGIN:VEVENT
DTSTART;TZID=America/Chicago:20260422T150000
DTEND;TZID=America/Chicago:20260422T154500
DTSTAMP:20260424T224753
CREATED:20251228T080559Z
LAST-MODIFIED:20251228T080559Z
UID:26356-1776870000-1776872700@lupinelane.com
SUMMARY:Ballet with KinderDance
DESCRIPTION:
URL:https://lupinelane.com/event/ballet-with-kinderdance-24/
CATEGORIES:Activities
END:VEVENT
BEGIN:VEVENT
DTSTART;TZID=America/Chicago:20260422T150000
DTEND;TZID=America/Chicago:20260422T154500
DTSTAMP:20260424T224753
CREATED:20260312T070335Z
LAST-MODIFIED:20260312T070335Z
UID:27399-1776870000-1776872700@lupinelane.com
SUMMARY:Champs Express Tumbling
DESCRIPTION:
URL:https://lupinelane.com/event/champs-express-tumbling-38/
CATEGORIES:Activities
END:VEVENT
BEGIN:VEVENT
DTSTART;VALUE=DATE:20260423
DTEND;VALUE=DATE:20260424
DTSTAMP:20260424T224753
CREATED:20260413T155805Z
LAST-MODIFIED:20260413T155805Z
UID:27452-1776902400-1776988799@lupinelane.com
SUMMARY:Kraut Bierocks (German Pork Cheesesteaks)\, Cucumber/Dill SaladSnack: Ambrosia
DESCRIPTION:
URL:https://lupinelane.com/event/kraut-bierocks-german-pork-cheesesteaks-cucumber-dill-saladsnack-ambrosia/
CATEGORIES:Lunch
END:VEVENT
BEGIN:VEVENT
DTSTART;TZID=America/Chicago:20260423T150000
DTEND;TZID=America/Chicago:20260423T154500
DTSTAMP:20260424T224753
CREATED:20251228T080631Z
LAST-MODIFIED:20251228T080631Z
UID:26383-1776956400-1776959100@lupinelane.com
SUMMARY:Mis Sueños: Spanish Language and Culture
DESCRIPTION:
URL:https://lupinelane.com/event/mis-suenos-spanish-language-and-culture-48/
CATEGORIES:Activities
END:VEVENT
BEGIN:VEVENT
DTSTART;TZID=America/Chicago:20260423T150000
DTEND;TZID=America/Chicago:20260423T154500
DTSTAMP:20260424T224753
CREATED:20251228T080647Z
LAST-MODIFIED:20251228T080647Z
UID:26396-1776956400-1776959100@lupinelane.com
SUMMARY:Sportball
DESCRIPTION:
URL:https://lupinelane.com/event/sportball-71/
CATEGORIES:Activities
END:VEVENT
BEGIN:VEVENT
DTSTART;VALUE=DATE:20260424
DTEND;VALUE=DATE:20260425
DTSTAMP:20260424T224753
CREATED:20260413T155806Z
LAST-MODIFIED:20260413T155806Z
UID:27453-1776988800-1777075199@lupinelane.com
SUMMARY:Neapolitan Pizza\, Spring Salad with Rasberry VinaigretteSnack: Cucumbers with Hummus
DESCRIPTION:
URL:https://lupinelane.com/event/neapolitan-pizza-spring-salad-with-rasberry-vinaigrettesnack-cucumbers-with-hummus/
CATEGORIES:Lunch
END:VEVENT
BEGIN:VEVENT
DTSTART;TZID=America/Chicago:20260424T150000
DTEND;TZID=America/Chicago:20260424T154500
DTSTAMP:20260424T224753
CREATED:20251228T080700Z
LAST-MODIFIED:20251228T080700Z
UID:26407-1777042800-1777045500@lupinelane.com
SUMMARY:The Heart of Art
DESCRIPTION:
URL:https://lupinelane.com/event/the-heart-of-art-67/
CATEGORIES:Activities
END:VEVENT
END:VCALENDAR